BEGIN:VCALENDAR
VERSION:2.0
PRODID:-//Epworth UMC - ECPv6.15.20//NONSGML v1.0//EN
CALSCALE:GREGORIAN
METHOD:PUBLISH
X-ORIGINAL-URL:https://epworth.faith
X-WR-CALDESC:Events for Epworth UMC
REFRESH-INTERVAL;VALUE=DURATION:PT1H
X-Robots-Tag:noindex
X-PUBLISHED-TTL:PT1H
BEGIN:VTIMEZONE
TZID:America/New_York
BEGIN:DAYLIGHT
TZOFFSETFROM:-0500
TZOFFSETTO:-0400
TZNAME:EDT
DTSTART:20200308T070000
END:DAYLIGHT
BEGIN:STANDARD
TZOFFSETFROM:-0400
TZOFFSETTO:-0500
TZNAME:EST
DTSTART:20201101T060000
END:STANDARD
BEGIN:DAYLIGHT
TZOFFSETFROM:-0500
TZOFFSETTO:-0400
TZNAME:EDT
DTSTART:20210314T070000
END:DAYLIGHT
BEGIN:STANDARD
TZOFFSETFROM:-0400
TZOFFSETTO:-0500
TZNAME:EST
DTSTART:20211107T060000
END:STANDARD
BEGIN:DAYLIGHT
TZOFFSETFROM:-0500
TZOFFSETTO:-0400
TZNAME:EDT
DTSTART:20220313T070000
END:DAYLIGHT
BEGIN:STANDARD
TZOFFSETFROM:-0400
TZOFFSETTO:-0500
TZNAME:EST
DTSTART:20221106T060000
END:STANDARD
BEGIN:DAYLIGHT
TZOFFSETFROM:-0500
TZOFFSETTO:-0400
TZNAME:EDT
DTSTART:20230312T070000
END:DAYLIGHT
BEGIN:STANDARD
TZOFFSETFROM:-0400
TZOFFSETTO:-0500
TZNAME:EST
DTSTART:20231105T060000
END:STANDARD
BEGIN:DAYLIGHT
TZOFFSETFROM:-0500
TZOFFSETTO:-0400
TZNAME:EDT
DTSTART:20240310T070000
END:DAYLIGHT
BEGIN:STANDARD
TZOFFSETFROM:-0400
TZOFFSETTO:-0500
TZNAME:EST
DTSTART:20241103T060000
END:STANDARD
END:VTIMEZONE
BEGIN:VEVENT
DTSTART;TZID=America/New_York:20230911T130000
DTEND;TZID=America/New_York:20230911T150000
DTSTAMP:20260424T045131
CREATED:20221214T160001Z
LAST-MODIFIED:20221214T160001Z
UID:10007762-1694437200-1694444400@epworth.faith
SUMMARY:WINGS (Baker Lounge)
DESCRIPTION:
URL:https://epworth.faith/event/wings-baker-lounge-2/2023-09-11/
LOCATION:Epworth United Methodist Church\, 19285 Holland Glade Road\, Rehoboth Beach\, DE\, 19971\, United States
CATEGORIES:Groups
ORGANIZER;CN="Nancy Almacy":MAILTO:nalmacy@gmail.com
END:VEVENT
BEGIN:VEVENT
DTSTART;TZID=America/New_York:20230814T130000
DTEND;TZID=America/New_York:20230814T150000
DTSTAMP:20260424T045131
CREATED:20221214T160001Z
LAST-MODIFIED:20221214T160001Z
UID:10007761-1692018000-1692025200@epworth.faith
SUMMARY:WINGS (Baker Lounge)
DESCRIPTION:
URL:https://epworth.faith/event/wings-baker-lounge-2/2023-08-14/
LOCATION:Epworth United Methodist Church\, 19285 Holland Glade Road\, Rehoboth Beach\, DE\, 19971\, United States
CATEGORIES:Groups
ORGANIZER;CN="Nancy Almacy":MAILTO:nalmacy@gmail.com
END:VEVENT
BEGIN:VEVENT
DTSTART;TZID=America/New_York:20230710T120000
DTEND;TZID=America/New_York:20230710T150000
DTSTAMP:20260424T045131
CREATED:20230613T132643Z
LAST-MODIFIED:20230613T132645Z
UID:10007760-1688990400-1689001200@epworth.faith
SUMMARY:WINGS (Baker Lounge)
DESCRIPTION:
URL:https://epworth.faith/event/wings-baker-lounge-2-2/
LOCATION:Epworth United Methodist Church\, 19285 Holland Glade Road\, Rehoboth Beach\, DE\, 19971\, United States
CATEGORIES:Groups
ORGANIZER;CN="Nancy Almacy":MAILTO:nalmacy@gmail.com
END:VEVENT
BEGIN:VEVENT
DTSTART;TZID=America/New_York:20230612T130000
DTEND;TZID=America/New_York:20230612T150000
DTSTAMP:20260424T045131
CREATED:20221214T160001Z
LAST-MODIFIED:20221214T160001Z
UID:10007759-1686574800-1686582000@epworth.faith
SUMMARY:WINGS (Baker Lounge)
DESCRIPTION:
URL:https://epworth.faith/event/wings-baker-lounge-2/2023-06-12/
LOCATION:Epworth United Methodist Church\, 19285 Holland Glade Road\, Rehoboth Beach\, DE\, 19971\, United States
CATEGORIES:Groups
ORGANIZER;CN="Nancy Almacy":MAILTO:nalmacy@gmail.com
END:VEVENT
BEGIN:VEVENT
DTSTART;TZID=America/New_York:20230508T130000
DTEND;TZID=America/New_York:20230508T150000
DTSTAMP:20260424T045131
CREATED:20221214T160001Z
LAST-MODIFIED:20221214T160001Z
UID:10007758-1683550800-1683558000@epworth.faith
SUMMARY:WINGS (Baker Lounge)
DESCRIPTION:
URL:https://epworth.faith/event/wings-baker-lounge-2/2023-05-08/
LOCATION:Epworth United Methodist Church\, 19285 Holland Glade Road\, Rehoboth Beach\, DE\, 19971\, United States
CATEGORIES:Groups
ORGANIZER;CN="Nancy Almacy":MAILTO:nalmacy@gmail.com
END:VEVENT
BEGIN:VEVENT
DTSTART;TZID=America/New_York:20230410T130000
DTEND;TZID=America/New_York:20230410T150000
DTSTAMP:20260424T045131
CREATED:20221214T160001Z
LAST-MODIFIED:20221214T160001Z
UID:10007757-1681131600-1681138800@epworth.faith
SUMMARY:WINGS (Baker Lounge)
DESCRIPTION:
URL:https://epworth.faith/event/wings-baker-lounge-2/2023-04-10/
LOCATION:Epworth United Methodist Church\, 19285 Holland Glade Road\, Rehoboth Beach\, DE\, 19971\, United States
CATEGORIES:Groups
ORGANIZER;CN="Nancy Almacy":MAILTO:nalmacy@gmail.com
END:VEVENT
BEGIN:VEVENT
DTSTART;TZID=America/New_York:20230320T130000
DTEND;TZID=America/New_York:20230320T160000
DTSTAMP:20260424T045131
CREATED:20230316T135755Z
LAST-MODIFIED:20230316T135947Z
UID:10008100-1679317200-1679328000@epworth.faith
SUMMARY:WINGS (Baker Lounge)
DESCRIPTION:
URL:https://epworth.faith/event/wings-baker-lounge-4/
LOCATION:Epworth United Methodist Church\, 19285 Holland Glade Road\, Rehoboth Beach\, DE\, 19971\, United States
CATEGORIES:Groups
ORGANIZER;CN="Nancy Almacy":MAILTO:nalmacy@gmail.com
END:VEVENT
BEGIN:VEVENT
DTSTART;TZID=America/New_York:20230313T130000
DTEND;TZID=America/New_York:20230313T150000
DTSTAMP:20260424T045131
CREATED:20221214T160001Z
LAST-MODIFIED:20221214T160001Z
UID:10007756-1678712400-1678719600@epworth.faith
SUMMARY:WINGS (Baker Lounge)
DESCRIPTION:
URL:https://epworth.faith/event/wings-baker-lounge-2/2023-03-13/
LOCATION:Epworth United Methodist Church\, 19285 Holland Glade Road\, Rehoboth Beach\, DE\, 19971\, United States
CATEGORIES:Groups
ORGANIZER;CN="Nancy Almacy":MAILTO:nalmacy@gmail.com
END:VEVENT
BEGIN:VEVENT
DTSTART;TZID=America/New_York:20230213T130000
DTEND;TZID=America/New_York:20230213T150000
DTSTAMP:20260424T045131
CREATED:20221214T160001Z
LAST-MODIFIED:20221214T160001Z
UID:10007755-1676293200-1676300400@epworth.faith
SUMMARY:WINGS (Baker Lounge)
DESCRIPTION:
URL:https://epworth.faith/event/wings-baker-lounge-2/2023-02-13/
LOCATION:Epworth United Methodist Church\, 19285 Holland Glade Road\, Rehoboth Beach\, DE\, 19971\, United States
CATEGORIES:Groups
ORGANIZER;CN="Nancy Almacy":MAILTO:nalmacy@gmail.com
END:VEVENT
BEGIN:VEVENT
DTSTART;TZID=America/New_York:20230109T130000
DTEND;TZID=America/New_York:20230109T150000
DTSTAMP:20260424T045131
CREATED:20221214T160001Z
LAST-MODIFIED:20221214T160001Z
UID:10007754-1673269200-1673276400@epworth.faith
SUMMARY:WINGS (Baker Lounge)
DESCRIPTION:
URL:https://epworth.faith/event/wings-baker-lounge-2/2023-01-09/
LOCATION:Epworth United Methodist Church\, 19285 Holland Glade Road\, Rehoboth Beach\, DE\, 19971\, United States
CATEGORIES:Groups
ORGANIZER;CN="Nancy Almacy":MAILTO:nalmacy@gmail.com
END:VEVENT
BEGIN:VEVENT
DTSTART;TZID=America/New_York:20221212T130000
DTEND;TZID=America/New_York:20221212T150000
DTSTAMP:20260424T045131
CREATED:20211004T192634Z
LAST-MODIFIED:20211006T160115Z
UID:10004738-1670850000-1670857200@epworth.faith
SUMMARY:WINGS
DESCRIPTION:WINGS (Women In God’s Service) meets in the Baker Lounge
URL:https://epworth.faith/event/wings/2022-12-12/
LOCATION:Epworth United Methodist Church\, 19285 Holland Glade Road\, Rehoboth Beach\, DE\, 19971\, United States
CATEGORIES:Church
ORGANIZER;CN="Nancy Almacy":MAILTO:nalmacy@gmail.com
END:VEVENT
BEGIN:VEVENT
DTSTART;TZID=America/New_York:20221205T130000
DTEND;TZID=America/New_York:20221205T150000
DTSTAMP:20260424T045131
CREATED:20221012T160537Z
LAST-MODIFIED:20221012T160537Z
UID:10006137-1670245200-1670252400@epworth.faith
SUMMARY:WINGS Decorating Cookies (Fellowship Hall)
DESCRIPTION:
URL:https://epworth.faith/event/wings-decorating-cookies-fellowship-hall/
LOCATION:Epworth United Methodist Church\, 19285 Holland Glade Road\, Rehoboth Beach\, DE\, 19971\, United States
CATEGORIES:Groups
ORGANIZER;CN="Nancy Almacy":MAILTO:nalmacy@gmail.com
END:VEVENT
BEGIN:VEVENT
DTSTART;TZID=America/New_York:20221114T130000
DTEND;TZID=America/New_York:20221114T150000
DTSTAMP:20260424T045131
CREATED:20211004T192634Z
LAST-MODIFIED:20211006T160115Z
UID:10004737-1668430800-1668438000@epworth.faith
SUMMARY:WINGS
DESCRIPTION:WINGS (Women In God’s Service) meets in the Baker Lounge
URL:https://epworth.faith/event/wings/2022-11-14/
LOCATION:Epworth United Methodist Church\, 19285 Holland Glade Road\, Rehoboth Beach\, DE\, 19971\, United States
CATEGORIES:Church
ORGANIZER;CN="Nancy Almacy":MAILTO:nalmacy@gmail.com
END:VEVENT
BEGIN:VEVENT
DTSTART;TZID=America/New_York:20221010T130000
DTEND;TZID=America/New_York:20221010T150000
DTSTAMP:20260424T045131
CREATED:20211004T192634Z
LAST-MODIFIED:20220912T165952Z
UID:10005082-1665406800-1665414000@epworth.faith
SUMMARY:WINGS (Offsite)
DESCRIPTION:WINGS (Women In God’s Service) will be meeting offsite today.
URL:https://epworth.faith/event/wings-2022-10-10/
LOCATION:Epworth United Methodist Church\, 19285 Holland Glade Road\, Rehoboth Beach\, DE\, 19971\, United States
CATEGORIES:Church
ORGANIZER;CN="Nancy Almacy":MAILTO:nalmacy@gmail.com
END:VEVENT
BEGIN:VEVENT
DTSTART;TZID=America/New_York:20220912T130000
DTEND;TZID=America/New_York:20220912T150000
DTSTAMP:20260424T045131
CREATED:20211004T192634Z
LAST-MODIFIED:20211006T160115Z
UID:10004736-1662987600-1662994800@epworth.faith
SUMMARY:WINGS
DESCRIPTION:WINGS (Women In God’s Service) meets in the Baker Lounge
URL:https://epworth.faith/event/wings/2022-09-12/
LOCATION:Epworth United Methodist Church\, 19285 Holland Glade Road\, Rehoboth Beach\, DE\, 19971\, United States
CATEGORIES:Church
ORGANIZER;CN="Nancy Almacy":MAILTO:nalmacy@gmail.com
END:VEVENT
BEGIN:VEVENT
DTSTART;TZID=America/New_York:20220808T130000
DTEND;TZID=America/New_York:20220808T150000
DTSTAMP:20260424T045131
CREATED:20211004T192634Z
LAST-MODIFIED:20211006T160115Z
UID:10004735-1659963600-1659970800@epworth.faith
SUMMARY:WINGS
DESCRIPTION:WINGS (Women In God’s Service) meets in the Baker Lounge
URL:https://epworth.faith/event/wings/2022-08-08/
LOCATION:Epworth United Methodist Church\, 19285 Holland Glade Road\, Rehoboth Beach\, DE\, 19971\, United States
CATEGORIES:Church
ORGANIZER;CN="Nancy Almacy":MAILTO:nalmacy@gmail.com
END:VEVENT
BEGIN:VEVENT
DTSTART;TZID=America/New_York:20220711T130000
DTEND;TZID=America/New_York:20220711T150000
DTSTAMP:20260424T045131
CREATED:20211004T192634Z
LAST-MODIFIED:20211006T160115Z
UID:10004734-1657544400-1657551600@epworth.faith
SUMMARY:WINGS
DESCRIPTION:WINGS (Women In God’s Service) meets in the Baker Lounge
URL:https://epworth.faith/event/wings/2022-07-11/
LOCATION:Epworth United Methodist Church\, 19285 Holland Glade Road\, Rehoboth Beach\, DE\, 19971\, United States
CATEGORIES:Church
ORGANIZER;CN="Nancy Almacy":MAILTO:nalmacy@gmail.com
END:VEVENT
BEGIN:VEVENT
DTSTART;TZID=America/New_York:20220613T130000
DTEND;TZID=America/New_York:20220613T150000
DTSTAMP:20260424T045131
CREATED:20211208T174411Z
LAST-MODIFIED:20220105T200506Z
UID:10005612-1655125200-1655132400@epworth.faith
SUMMARY:WINGS
DESCRIPTION:WINGS (Women In God’s Service) will be meeting in the Baker Lounge.
URL:https://epworth.faith/event/wings-2-2022-02-14/2022-06-13/
LOCATION:Epworth United Methodist Church\, 19285 Holland Glade Road\, Rehoboth Beach\, DE\, 19971\, United States
CATEGORIES:Groups
ORGANIZER;CN="Nancy Almacy":MAILTO:nalmacy@gmail.com
END:VEVENT
BEGIN:VEVENT
DTSTART;TZID=America/New_York:20220613T130000
DTEND;TZID=America/New_York:20220613T150000
DTSTAMP:20260424T045131
CREATED:20211004T192634Z
LAST-MODIFIED:20211006T160115Z
UID:10004733-1655125200-1655132400@epworth.faith
SUMMARY:WINGS
DESCRIPTION:WINGS (Women In God’s Service) meets in the Baker Lounge
URL:https://epworth.faith/event/wings/2022-06-13/
LOCATION:Epworth United Methodist Church\, 19285 Holland Glade Road\, Rehoboth Beach\, DE\, 19971\, United States
CATEGORIES:Church
ORGANIZER;CN="Nancy Almacy":MAILTO:nalmacy@gmail.com
END:VEVENT
BEGIN:VEVENT
DTSTART;TZID=America/New_York:20220509T130000
DTEND;TZID=America/New_York:20220509T150000
DTSTAMP:20260424T045131
CREATED:20211208T174411Z
LAST-MODIFIED:20220105T200506Z
UID:10005611-1652101200-1652108400@epworth.faith
SUMMARY:WINGS
DESCRIPTION:WINGS (Women In God’s Service) will be meeting in the Baker Lounge.
URL:https://epworth.faith/event/wings-2-2022-02-14/2022-05-09/
LOCATION:Epworth United Methodist Church\, 19285 Holland Glade Road\, Rehoboth Beach\, DE\, 19971\, United States
CATEGORIES:Groups
ORGANIZER;CN="Nancy Almacy":MAILTO:nalmacy@gmail.com
END:VEVENT
BEGIN:VEVENT
DTSTART;TZID=America/New_York:20220509T130000
DTEND;TZID=America/New_York:20220509T150000
DTSTAMP:20260424T045131
CREATED:20211004T192634Z
LAST-MODIFIED:20211006T160115Z
UID:10004732-1652101200-1652108400@epworth.faith
SUMMARY:WINGS
DESCRIPTION:WINGS (Women In God’s Service) meets in the Baker Lounge
URL:https://epworth.faith/event/wings/2022-05-09/
LOCATION:Epworth United Methodist Church\, 19285 Holland Glade Road\, Rehoboth Beach\, DE\, 19971\, United States
CATEGORIES:Church
ORGANIZER;CN="Nancy Almacy":MAILTO:nalmacy@gmail.com
END:VEVENT
BEGIN:VEVENT
DTSTART;TZID=America/New_York:20220411T130000
DTEND;TZID=America/New_York:20220411T150000
DTSTAMP:20260424T045131
CREATED:20211208T174411Z
LAST-MODIFIED:20220105T200506Z
UID:10005610-1649682000-1649689200@epworth.faith
SUMMARY:WINGS
DESCRIPTION:WINGS (Women In God’s Service) will be meeting in the Baker Lounge.
URL:https://epworth.faith/event/wings-2-2022-02-14/2022-04-11/
LOCATION:Epworth United Methodist Church\, 19285 Holland Glade Road\, Rehoboth Beach\, DE\, 19971\, United States
CATEGORIES:Groups
ORGANIZER;CN="Nancy Almacy":MAILTO:nalmacy@gmail.com
END:VEVENT
BEGIN:VEVENT
DTSTART;TZID=America/New_York:20220411T130000
DTEND;TZID=America/New_York:20220411T150000
DTSTAMP:20260424T045131
CREATED:20211004T192634Z
LAST-MODIFIED:20211006T160115Z
UID:10004731-1649682000-1649689200@epworth.faith
SUMMARY:WINGS
DESCRIPTION:WINGS (Women In God’s Service) meets in the Baker Lounge
URL:https://epworth.faith/event/wings/2022-04-11/
LOCATION:Epworth United Methodist Church\, 19285 Holland Glade Road\, Rehoboth Beach\, DE\, 19971\, United States
CATEGORIES:Church
ORGANIZER;CN="Nancy Almacy":MAILTO:nalmacy@gmail.com
END:VEVENT
BEGIN:VEVENT
DTSTART;TZID=America/New_York:20220404T130000
DTEND;TZID=America/New_York:20220404T160000
DTSTAMP:20260424T045131
CREATED:20220316T161127Z
LAST-MODIFIED:20220316T161127Z
UID:10005103-1649077200-1649088000@epworth.faith
SUMMARY:WINGS (Baker Lounge)
DESCRIPTION:
URL:https://epworth.faith/event/wings-baker-lounge/
LOCATION:Epworth United Methodist Church\, 19285 Holland Glade Road\, Rehoboth Beach\, DE\, 19971\, United States
CATEGORIES:Groups
ORGANIZER;CN="Nancy Almacy":MAILTO:nalmacy@gmail.com
END:VEVENT
BEGIN:VEVENT
DTSTART;TZID=America/New_York:20220314T130000
DTEND;TZID=America/New_York:20220314T150000
DTSTAMP:20260424T045131
CREATED:20211208T174411Z
LAST-MODIFIED:20220105T200506Z
UID:10005609-1647262800-1647270000@epworth.faith
SUMMARY:WINGS
DESCRIPTION:WINGS (Women In God’s Service) will be meeting in the Baker Lounge.
URL:https://epworth.faith/event/wings-2-2022-02-14/2022-03-14/
LOCATION:Epworth United Methodist Church\, 19285 Holland Glade Road\, Rehoboth Beach\, DE\, 19971\, United States
CATEGORIES:Groups
ORGANIZER;CN="Nancy Almacy":MAILTO:nalmacy@gmail.com
END:VEVENT
BEGIN:VEVENT
DTSTART;TZID=America/New_York:20220314T130000
DTEND;TZID=America/New_York:20220314T150000
DTSTAMP:20260424T045131
CREATED:20211004T192634Z
LAST-MODIFIED:20211006T160115Z
UID:10004730-1647262800-1647270000@epworth.faith
SUMMARY:WINGS
DESCRIPTION:WINGS (Women In God’s Service) meets in the Baker Lounge
URL:https://epworth.faith/event/wings/2022-03-14/
LOCATION:Epworth United Methodist Church\, 19285 Holland Glade Road\, Rehoboth Beach\, DE\, 19971\, United States
CATEGORIES:Church
ORGANIZER;CN="Nancy Almacy":MAILTO:nalmacy@gmail.com
END:VEVENT
BEGIN:VEVENT
DTSTART;TZID=America/New_York:20220214T130000
DTEND;TZID=America/New_York:20220214T150000
DTSTAMP:20260424T045131
CREATED:20211208T174411Z
LAST-MODIFIED:20220105T200506Z
UID:10005608-1644843600-1644850800@epworth.faith
SUMMARY:WINGS
DESCRIPTION:WINGS (Women In God’s Service) will be meeting in the Baker Lounge.
URL:https://epworth.faith/event/wings-2-2022-02-14/2022-02-14/
LOCATION:Epworth United Methodist Church\, 19285 Holland Glade Road\, Rehoboth Beach\, DE\, 19971\, United States
CATEGORIES:Groups
ORGANIZER;CN="Nancy Almacy":MAILTO:nalmacy@gmail.com
END:VEVENT
BEGIN:VEVENT
DTSTART;TZID=America/New_York:20220214T130000
DTEND;TZID=America/New_York:20220214T150000
DTSTAMP:20260424T045131
CREATED:20211004T192634Z
LAST-MODIFIED:20211006T160115Z
UID:10004729-1644843600-1644850800@epworth.faith
SUMMARY:WINGS
DESCRIPTION:WINGS (Women In God’s Service) meets in the Baker Lounge
URL:https://epworth.faith/event/wings/2022-02-14/
LOCATION:Epworth United Methodist Church\, 19285 Holland Glade Road\, Rehoboth Beach\, DE\, 19971\, United States
CATEGORIES:Church
ORGANIZER;CN="Nancy Almacy":MAILTO:nalmacy@gmail.com
END:VEVENT
BEGIN:VEVENT
DTSTART;TZID=America/New_York:20220110T130000
DTEND;TZID=America/New_York:20220110T150000
DTSTAMP:20260424T045131
CREATED:20211004T192634Z
LAST-MODIFIED:20211006T160115Z
UID:10004728-1641819600-1641826800@epworth.faith
SUMMARY:WINGS
DESCRIPTION:WINGS (Women In God’s Service) meets in the Baker Lounge
URL:https://epworth.faith/event/wings/2022-01-10/
LOCATION:Epworth United Methodist Church\, 19285 Holland Glade Road\, Rehoboth Beach\, DE\, 19971\, United States
CATEGORIES:Church
ORGANIZER;CN="Nancy Almacy":MAILTO:nalmacy@gmail.com
END:VEVENT
BEGIN:VEVENT
DTSTART;TZID=America/New_York:20211213T130000
DTEND;TZID=America/New_York:20211213T150000
DTSTAMP:20260424T045131
CREATED:20211004T192634Z
LAST-MODIFIED:20211006T160115Z
UID:10004727-1639400400-1639407600@epworth.faith
SUMMARY:WINGS
DESCRIPTION:WINGS (Women In God’s Service) meets in the Baker Lounge
URL:https://epworth.faith/event/wings/2021-12-13/
LOCATION:Epworth United Methodist Church\, 19285 Holland Glade Road\, Rehoboth Beach\, DE\, 19971\, United States
CATEGORIES:Church
ORGANIZER;CN="Nancy Almacy":MAILTO:nalmacy@gmail.com
END:VEVENT
END:VCALENDAR