BEGIN:VCALENDAR
VERSION:2.0
PRODID:-//Epworth UMC - ECPv6.15.20//NONSGML v1.0//EN
CALSCALE:GREGORIAN
METHOD:PUBLISH
X-WR-CALNAME:Epworth UMC
X-ORIGINAL-URL:https://epworth.faith
X-WR-CALDESC:Events for Epworth UMC
REFRESH-INTERVAL;VALUE=DURATION:PT1H
X-Robots-Tag:noindex
X-PUBLISHED-TTL:PT1H
BEGIN:VTIMEZONE
TZID:America/New_York
BEGIN:DAYLIGHT
TZOFFSETFROM:-0500
TZOFFSETTO:-0400
TZNAME:EDT
DTSTART:20230312T070000
END:DAYLIGHT
BEGIN:STANDARD
TZOFFSETFROM:-0400
TZOFFSETTO:-0500
TZNAME:EST
DTSTART:20231105T060000
END:STANDARD
BEGIN:DAYLIGHT
TZOFFSETFROM:-0500
TZOFFSETTO:-0400
TZNAME:EDT
DTSTART:20240310T070000
END:DAYLIGHT
BEGIN:STANDARD
TZOFFSETFROM:-0400
TZOFFSETTO:-0500
TZNAME:EST
DTSTART:20241103T060000
END:STANDARD
BEGIN:DAYLIGHT
TZOFFSETFROM:-0500
TZOFFSETTO:-0400
TZNAME:EDT
DTSTART:20250309T070000
END:DAYLIGHT
BEGIN:STANDARD
TZOFFSETFROM:-0400
TZOFFSETTO:-0500
TZNAME:EST
DTSTART:20251102T060000
END:STANDARD
END:VTIMEZONE
BEGIN:VEVENT
DTSTART;TZID=America/New_York:20240926T120000
DTEND;TZID=America/New_York:20240926T130000
DTSTAMP:20260424T144423
CREATED:20231211T214627Z
LAST-MODIFIED:20231211T214627Z
UID:10011488-1727352000-1727355600@epworth.faith
SUMMARY:ALANON (Branford Lounge)
DESCRIPTION:
URL:https://epworth.faith/event/alanon-branford-lounge-2/2024-09-26/
LOCATION:Epworth United Methodist Church\, 19285 Holland Glade Road\, Rehoboth Beach\, DE\, 19971\, United States
CATEGORIES:Facility Rentals,Neighborhood/Community Groups
END:VEVENT
BEGIN:VEVENT
DTSTART;TZID=America/New_York:20240919T120000
DTEND;TZID=America/New_York:20240919T130000
DTSTAMP:20260424T144423
CREATED:20231211T214627Z
LAST-MODIFIED:20231211T214627Z
UID:10011487-1726747200-1726750800@epworth.faith
SUMMARY:ALANON (Branford Lounge)
DESCRIPTION:
URL:https://epworth.faith/event/alanon-branford-lounge-2/2024-09-19/
LOCATION:Epworth United Methodist Church\, 19285 Holland Glade Road\, Rehoboth Beach\, DE\, 19971\, United States
CATEGORIES:Facility Rentals,Neighborhood/Community Groups
END:VEVENT
BEGIN:VEVENT
DTSTART;TZID=America/New_York:20240912T120000
DTEND;TZID=America/New_York:20240912T130000
DTSTAMP:20260424T144423
CREATED:20231211T214627Z
LAST-MODIFIED:20231211T214627Z
UID:10011486-1726142400-1726146000@epworth.faith
SUMMARY:ALANON (Branford Lounge)
DESCRIPTION:
URL:https://epworth.faith/event/alanon-branford-lounge-2/2024-09-12/
LOCATION:Epworth United Methodist Church\, 19285 Holland Glade Road\, Rehoboth Beach\, DE\, 19971\, United States
CATEGORIES:Facility Rentals,Neighborhood/Community Groups
END:VEVENT
BEGIN:VEVENT
DTSTART;TZID=America/New_York:20240905T120000
DTEND;TZID=America/New_York:20240905T130000
DTSTAMP:20260424T144423
CREATED:20231211T214627Z
LAST-MODIFIED:20231211T214627Z
UID:10011485-1725537600-1725541200@epworth.faith
SUMMARY:ALANON (Branford Lounge)
DESCRIPTION:
URL:https://epworth.faith/event/alanon-branford-lounge-2/2024-09-05/
LOCATION:Epworth United Methodist Church\, 19285 Holland Glade Road\, Rehoboth Beach\, DE\, 19971\, United States
CATEGORIES:Facility Rentals,Neighborhood/Community Groups
END:VEVENT
BEGIN:VEVENT
DTSTART;TZID=America/New_York:20240829T120000
DTEND;TZID=America/New_York:20240829T130000
DTSTAMP:20260424T144423
CREATED:20231211T214627Z
LAST-MODIFIED:20231211T214627Z
UID:10011484-1724932800-1724936400@epworth.faith
SUMMARY:ALANON (Branford Lounge)
DESCRIPTION:
URL:https://epworth.faith/event/alanon-branford-lounge-2/2024-08-29/
LOCATION:Epworth United Methodist Church\, 19285 Holland Glade Road\, Rehoboth Beach\, DE\, 19971\, United States
CATEGORIES:Facility Rentals,Neighborhood/Community Groups
END:VEVENT
BEGIN:VEVENT
DTSTART;TZID=America/New_York:20240822T120000
DTEND;TZID=America/New_York:20240822T130000
DTSTAMP:20260424T144423
CREATED:20231211T214627Z
LAST-MODIFIED:20231211T214627Z
UID:10011483-1724328000-1724331600@epworth.faith
SUMMARY:ALANON (Branford Lounge)
DESCRIPTION:
URL:https://epworth.faith/event/alanon-branford-lounge-2/2024-08-22/
LOCATION:Epworth United Methodist Church\, 19285 Holland Glade Road\, Rehoboth Beach\, DE\, 19971\, United States
CATEGORIES:Facility Rentals,Neighborhood/Community Groups
END:VEVENT
BEGIN:VEVENT
DTSTART;TZID=America/New_York:20240815T120000
DTEND;TZID=America/New_York:20240815T130000
DTSTAMP:20260424T144423
CREATED:20231211T214627Z
LAST-MODIFIED:20231211T214627Z
UID:10011482-1723723200-1723726800@epworth.faith
SUMMARY:ALANON (Branford Lounge)
DESCRIPTION:
URL:https://epworth.faith/event/alanon-branford-lounge-2/2024-08-15/
LOCATION:Epworth United Methodist Church\, 19285 Holland Glade Road\, Rehoboth Beach\, DE\, 19971\, United States
CATEGORIES:Facility Rentals,Neighborhood/Community Groups
END:VEVENT
BEGIN:VEVENT
DTSTART;TZID=America/New_York:20240808T120000
DTEND;TZID=America/New_York:20240808T130000
DTSTAMP:20260424T144423
CREATED:20231211T214627Z
LAST-MODIFIED:20231211T214627Z
UID:10011481-1723118400-1723122000@epworth.faith
SUMMARY:ALANON (Branford Lounge)
DESCRIPTION:
URL:https://epworth.faith/event/alanon-branford-lounge-2/2024-08-08/
LOCATION:Epworth United Methodist Church\, 19285 Holland Glade Road\, Rehoboth Beach\, DE\, 19971\, United States
CATEGORIES:Facility Rentals,Neighborhood/Community Groups
END:VEVENT
BEGIN:VEVENT
DTSTART;TZID=America/New_York:20240801T120000
DTEND;TZID=America/New_York:20240801T130000
DTSTAMP:20260424T144423
CREATED:20231211T214627Z
LAST-MODIFIED:20231211T214627Z
UID:10011480-1722513600-1722517200@epworth.faith
SUMMARY:ALANON (Branford Lounge)
DESCRIPTION:
URL:https://epworth.faith/event/alanon-branford-lounge-2/2024-08-01/
LOCATION:Epworth United Methodist Church\, 19285 Holland Glade Road\, Rehoboth Beach\, DE\, 19971\, United States
CATEGORIES:Facility Rentals,Neighborhood/Community Groups
END:VEVENT
BEGIN:VEVENT
DTSTART;TZID=America/New_York:20240725T120000
DTEND;TZID=America/New_York:20240725T130000
DTSTAMP:20260424T144423
CREATED:20231211T214627Z
LAST-MODIFIED:20231211T214627Z
UID:10011479-1721908800-1721912400@epworth.faith
SUMMARY:ALANON (Branford Lounge)
DESCRIPTION:
URL:https://epworth.faith/event/alanon-branford-lounge-2/2024-07-25/
LOCATION:Epworth United Methodist Church\, 19285 Holland Glade Road\, Rehoboth Beach\, DE\, 19971\, United States
CATEGORIES:Facility Rentals,Neighborhood/Community Groups
END:VEVENT
BEGIN:VEVENT
DTSTART;TZID=America/New_York:20240718T120000
DTEND;TZID=America/New_York:20240718T130000
DTSTAMP:20260424T144423
CREATED:20231211T214627Z
LAST-MODIFIED:20231211T214627Z
UID:10011478-1721304000-1721307600@epworth.faith
SUMMARY:ALANON (Branford Lounge)
DESCRIPTION:
URL:https://epworth.faith/event/alanon-branford-lounge-2/2024-07-18/
LOCATION:Epworth United Methodist Church\, 19285 Holland Glade Road\, Rehoboth Beach\, DE\, 19971\, United States
CATEGORIES:Facility Rentals,Neighborhood/Community Groups
END:VEVENT
BEGIN:VEVENT
DTSTART;TZID=America/New_York:20240711T120000
DTEND;TZID=America/New_York:20240711T130000
DTSTAMP:20260424T144423
CREATED:20231211T214627Z
LAST-MODIFIED:20231211T214627Z
UID:10011477-1720699200-1720702800@epworth.faith
SUMMARY:ALANON (Branford Lounge)
DESCRIPTION:
URL:https://epworth.faith/event/alanon-branford-lounge-2/2024-07-11/
LOCATION:Epworth United Methodist Church\, 19285 Holland Glade Road\, Rehoboth Beach\, DE\, 19971\, United States
CATEGORIES:Facility Rentals,Neighborhood/Community Groups
END:VEVENT
BEGIN:VEVENT
DTSTART;TZID=America/New_York:20240704T120000
DTEND;TZID=America/New_York:20240704T130000
DTSTAMP:20260424T144423
CREATED:20231211T214627Z
LAST-MODIFIED:20231211T214627Z
UID:10011476-1720094400-1720098000@epworth.faith
SUMMARY:ALANON (Branford Lounge)
DESCRIPTION:
URL:https://epworth.faith/event/alanon-branford-lounge-2/2024-07-04/
LOCATION:Epworth United Methodist Church\, 19285 Holland Glade Road\, Rehoboth Beach\, DE\, 19971\, United States
CATEGORIES:Facility Rentals,Neighborhood/Community Groups
END:VEVENT
BEGIN:VEVENT
DTSTART;TZID=America/New_York:20240627T120000
DTEND;TZID=America/New_York:20240627T130000
DTSTAMP:20260424T144423
CREATED:20231211T214627Z
LAST-MODIFIED:20231211T214627Z
UID:10011475-1719489600-1719493200@epworth.faith
SUMMARY:ALANON (Branford Lounge)
DESCRIPTION:
URL:https://epworth.faith/event/alanon-branford-lounge-2/2024-06-27/
LOCATION:Epworth United Methodist Church\, 19285 Holland Glade Road\, Rehoboth Beach\, DE\, 19971\, United States
CATEGORIES:Facility Rentals,Neighborhood/Community Groups
END:VEVENT
BEGIN:VEVENT
DTSTART;TZID=America/New_York:20240620T120000
DTEND;TZID=America/New_York:20240620T130000
DTSTAMP:20260424T144423
CREATED:20231211T214627Z
LAST-MODIFIED:20231211T214627Z
UID:10011474-1718884800-1718888400@epworth.faith
SUMMARY:ALANON (Branford Lounge)
DESCRIPTION:
URL:https://epworth.faith/event/alanon-branford-lounge-2/2024-06-20/
LOCATION:Epworth United Methodist Church\, 19285 Holland Glade Road\, Rehoboth Beach\, DE\, 19971\, United States
CATEGORIES:Facility Rentals,Neighborhood/Community Groups
END:VEVENT
BEGIN:VEVENT
DTSTART;TZID=America/New_York:20240613T120000
DTEND;TZID=America/New_York:20240613T130000
DTSTAMP:20260424T144423
CREATED:20231211T214627Z
LAST-MODIFIED:20231211T214627Z
UID:10011473-1718280000-1718283600@epworth.faith
SUMMARY:ALANON (Branford Lounge)
DESCRIPTION:
URL:https://epworth.faith/event/alanon-branford-lounge-2/2024-06-13/
LOCATION:Epworth United Methodist Church\, 19285 Holland Glade Road\, Rehoboth Beach\, DE\, 19971\, United States
CATEGORIES:Facility Rentals,Neighborhood/Community Groups
END:VEVENT
BEGIN:VEVENT
DTSTART;TZID=America/New_York:20240606T120000
DTEND;TZID=America/New_York:20240606T130000
DTSTAMP:20260424T144423
CREATED:20231211T214627Z
LAST-MODIFIED:20231211T214627Z
UID:10011472-1717675200-1717678800@epworth.faith
SUMMARY:ALANON (Branford Lounge)
DESCRIPTION:
URL:https://epworth.faith/event/alanon-branford-lounge-2/2024-06-06/
LOCATION:Epworth United Methodist Church\, 19285 Holland Glade Road\, Rehoboth Beach\, DE\, 19971\, United States
CATEGORIES:Facility Rentals,Neighborhood/Community Groups
END:VEVENT
BEGIN:VEVENT
DTSTART;TZID=America/New_York:20240530T120000
DTEND;TZID=America/New_York:20240530T130000
DTSTAMP:20260424T144423
CREATED:20231211T214627Z
LAST-MODIFIED:20231211T214627Z
UID:10011471-1717070400-1717074000@epworth.faith
SUMMARY:ALANON (Branford Lounge)
DESCRIPTION:
URL:https://epworth.faith/event/alanon-branford-lounge-2/2024-05-30/
LOCATION:Epworth United Methodist Church\, 19285 Holland Glade Road\, Rehoboth Beach\, DE\, 19971\, United States
CATEGORIES:Facility Rentals,Neighborhood/Community Groups
END:VEVENT
BEGIN:VEVENT
DTSTART;TZID=America/New_York:20240523T120000
DTEND;TZID=America/New_York:20240523T130000
DTSTAMP:20260424T144423
CREATED:20231211T214627Z
LAST-MODIFIED:20231211T214627Z
UID:10011470-1716465600-1716469200@epworth.faith
SUMMARY:ALANON (Branford Lounge)
DESCRIPTION:
URL:https://epworth.faith/event/alanon-branford-lounge-2/2024-05-23/
LOCATION:Epworth United Methodist Church\, 19285 Holland Glade Road\, Rehoboth Beach\, DE\, 19971\, United States
CATEGORIES:Facility Rentals,Neighborhood/Community Groups
END:VEVENT
BEGIN:VEVENT
DTSTART;TZID=America/New_York:20240516T120000
DTEND;TZID=America/New_York:20240516T130000
DTSTAMP:20260424T144423
CREATED:20231211T214627Z
LAST-MODIFIED:20231211T214627Z
UID:10011469-1715860800-1715864400@epworth.faith
SUMMARY:ALANON (Branford Lounge)
DESCRIPTION:
URL:https://epworth.faith/event/alanon-branford-lounge-2/2024-05-16/
LOCATION:Epworth United Methodist Church\, 19285 Holland Glade Road\, Rehoboth Beach\, DE\, 19971\, United States
CATEGORIES:Facility Rentals,Neighborhood/Community Groups
END:VEVENT
BEGIN:VEVENT
DTSTART;TZID=America/New_York:20240509T120000
DTEND;TZID=America/New_York:20240509T130000
DTSTAMP:20260424T144423
CREATED:20231211T214627Z
LAST-MODIFIED:20231211T214627Z
UID:10011468-1715256000-1715259600@epworth.faith
SUMMARY:ALANON (Branford Lounge)
DESCRIPTION:
URL:https://epworth.faith/event/alanon-branford-lounge-2/2024-05-09/
LOCATION:Epworth United Methodist Church\, 19285 Holland Glade Road\, Rehoboth Beach\, DE\, 19971\, United States
CATEGORIES:Facility Rentals,Neighborhood/Community Groups
END:VEVENT
BEGIN:VEVENT
DTSTART;TZID=America/New_York:20240502T120000
DTEND;TZID=America/New_York:20240502T130000
DTSTAMP:20260424T144423
CREATED:20231211T214627Z
LAST-MODIFIED:20231211T214627Z
UID:10011467-1714651200-1714654800@epworth.faith
SUMMARY:ALANON (Branford Lounge)
DESCRIPTION:
URL:https://epworth.faith/event/alanon-branford-lounge-2/2024-05-02/
LOCATION:Epworth United Methodist Church\, 19285 Holland Glade Road\, Rehoboth Beach\, DE\, 19971\, United States
CATEGORIES:Facility Rentals,Neighborhood/Community Groups
END:VEVENT
BEGIN:VEVENT
DTSTART;TZID=America/New_York:20240425T120000
DTEND;TZID=America/New_York:20240425T130000
DTSTAMP:20260424T144423
CREATED:20231211T214627Z
LAST-MODIFIED:20231211T214627Z
UID:10011466-1714046400-1714050000@epworth.faith
SUMMARY:ALANON (Branford Lounge)
DESCRIPTION:
URL:https://epworth.faith/event/alanon-branford-lounge-2/2024-04-25/
LOCATION:Epworth United Methodist Church\, 19285 Holland Glade Road\, Rehoboth Beach\, DE\, 19971\, United States
CATEGORIES:Facility Rentals,Neighborhood/Community Groups
END:VEVENT
BEGIN:VEVENT
DTSTART;TZID=America/New_York:20240418T120000
DTEND;TZID=America/New_York:20240418T130000
DTSTAMP:20260424T144423
CREATED:20231211T214627Z
LAST-MODIFIED:20231211T214627Z
UID:10011465-1713441600-1713445200@epworth.faith
SUMMARY:ALANON (Branford Lounge)
DESCRIPTION:
URL:https://epworth.faith/event/alanon-branford-lounge-2/2024-04-18/
LOCATION:Epworth United Methodist Church\, 19285 Holland Glade Road\, Rehoboth Beach\, DE\, 19971\, United States
CATEGORIES:Facility Rentals,Neighborhood/Community Groups
END:VEVENT
BEGIN:VEVENT
DTSTART;TZID=America/New_York:20240411T120000
DTEND;TZID=America/New_York:20240411T130000
DTSTAMP:20260424T144423
CREATED:20231211T214627Z
LAST-MODIFIED:20231211T214627Z
UID:10011464-1712836800-1712840400@epworth.faith
SUMMARY:ALANON (Branford Lounge)
DESCRIPTION:
URL:https://epworth.faith/event/alanon-branford-lounge-2/2024-04-11/
LOCATION:Epworth United Methodist Church\, 19285 Holland Glade Road\, Rehoboth Beach\, DE\, 19971\, United States
CATEGORIES:Facility Rentals,Neighborhood/Community Groups
END:VEVENT
BEGIN:VEVENT
DTSTART;TZID=America/New_York:20240404T120000
DTEND;TZID=America/New_York:20240404T130000
DTSTAMP:20260424T144423
CREATED:20231211T214627Z
LAST-MODIFIED:20231211T214627Z
UID:10011463-1712232000-1712235600@epworth.faith
SUMMARY:ALANON (Branford Lounge)
DESCRIPTION:
URL:https://epworth.faith/event/alanon-branford-lounge-2/2024-04-04/
LOCATION:Epworth United Methodist Church\, 19285 Holland Glade Road\, Rehoboth Beach\, DE\, 19971\, United States
CATEGORIES:Facility Rentals,Neighborhood/Community Groups
END:VEVENT
BEGIN:VEVENT
DTSTART;TZID=America/New_York:20240328T120000
DTEND;TZID=America/New_York:20240328T130000
DTSTAMP:20260424T144423
CREATED:20231211T214627Z
LAST-MODIFIED:20231211T214627Z
UID:10011462-1711627200-1711630800@epworth.faith
SUMMARY:ALANON (Branford Lounge)
DESCRIPTION:
URL:https://epworth.faith/event/alanon-branford-lounge-2/2024-03-28/
LOCATION:Epworth United Methodist Church\, 19285 Holland Glade Road\, Rehoboth Beach\, DE\, 19971\, United States
CATEGORIES:Facility Rentals,Neighborhood/Community Groups
END:VEVENT
BEGIN:VEVENT
DTSTART;TZID=America/New_York:20240321T120000
DTEND;TZID=America/New_York:20240321T130000
DTSTAMP:20260424T144423
CREATED:20231211T214627Z
LAST-MODIFIED:20231211T214627Z
UID:10011461-1711022400-1711026000@epworth.faith
SUMMARY:ALANON (Branford Lounge)
DESCRIPTION:
URL:https://epworth.faith/event/alanon-branford-lounge-2/2024-03-21/
LOCATION:Epworth United Methodist Church\, 19285 Holland Glade Road\, Rehoboth Beach\, DE\, 19971\, United States
CATEGORIES:Facility Rentals,Neighborhood/Community Groups
END:VEVENT
BEGIN:VEVENT
DTSTART;TZID=America/New_York:20240314T120000
DTEND;TZID=America/New_York:20240314T130000
DTSTAMP:20260424T144423
CREATED:20231211T214627Z
LAST-MODIFIED:20231211T214627Z
UID:10011460-1710417600-1710421200@epworth.faith
SUMMARY:ALANON (Branford Lounge)
DESCRIPTION:
URL:https://epworth.faith/event/alanon-branford-lounge-2/2024-03-14/
LOCATION:Epworth United Methodist Church\, 19285 Holland Glade Road\, Rehoboth Beach\, DE\, 19971\, United States
CATEGORIES:Facility Rentals,Neighborhood/Community Groups
END:VEVENT
BEGIN:VEVENT
DTSTART;TZID=America/New_York:20240307T120000
DTEND;TZID=America/New_York:20240307T130000
DTSTAMP:20260424T144423
CREATED:20231211T214627Z
LAST-MODIFIED:20231211T214627Z
UID:10011459-1709812800-1709816400@epworth.faith
SUMMARY:ALANON (Branford Lounge)
DESCRIPTION:
URL:https://epworth.faith/event/alanon-branford-lounge-2/2024-03-07/
LOCATION:Epworth United Methodist Church\, 19285 Holland Glade Road\, Rehoboth Beach\, DE\, 19971\, United States
CATEGORIES:Facility Rentals,Neighborhood/Community Groups
END:VEVENT
END:VCALENDAR