BEGIN:VCALENDAR
VERSION:2.0
PRODID:-//Epworth UMC - ECPv6.15.20//NONSGML v1.0//EN
CALSCALE:GREGORIAN
METHOD:PUBLISH
X-WR-CALNAME:Epworth UMC
X-ORIGINAL-URL:https://epworth.faith
X-WR-CALDESC:Events for Epworth UMC
REFRESH-INTERVAL;VALUE=DURATION:PT1H
X-Robots-Tag:noindex
X-PUBLISHED-TTL:PT1H
BEGIN:VTIMEZONE
TZID:America/New_York
BEGIN:DAYLIGHT
TZOFFSETFROM:-0500
TZOFFSETTO:-0400
TZNAME:EDT
DTSTART:20220313T070000
END:DAYLIGHT
BEGIN:STANDARD
TZOFFSETFROM:-0400
TZOFFSETTO:-0500
TZNAME:EST
DTSTART:20221106T060000
END:STANDARD
BEGIN:DAYLIGHT
TZOFFSETFROM:-0500
TZOFFSETTO:-0400
TZNAME:EDT
DTSTART:20230312T070000
END:DAYLIGHT
BEGIN:STANDARD
TZOFFSETFROM:-0400
TZOFFSETTO:-0500
TZNAME:EST
DTSTART:20231105T060000
END:STANDARD
BEGIN:DAYLIGHT
TZOFFSETFROM:-0500
TZOFFSETTO:-0400
TZNAME:EDT
DTSTART:20240310T070000
END:DAYLIGHT
BEGIN:STANDARD
TZOFFSETFROM:-0400
TZOFFSETTO:-0500
TZNAME:EST
DTSTART:20241103T060000
END:STANDARD
END:VTIMEZONE
BEGIN:VEVENT
DTSTART;TZID=America/New_York:20231029T150000
DTEND;TZID=America/New_York:20231029T170000
DTSTAMP:20260425T082734
CREATED:20230614T153748Z
LAST-MODIFIED:20230614T153748Z
UID:10008726-1698591600-1698598800@epworth.faith
SUMMARY:50th Year of Olivia Records (Sanctuary & Music Wing)
DESCRIPTION:
URL:https://epworth.faith/event/50th-year-of-olivia-records-sanctuary-music-wing/
LOCATION:Epworth United Methodist Church\, 19285 Holland Glade Road\, Rehoboth Beach\, DE\, 19971\, United States
CATEGORIES:Concerts
ORGANIZER;CN="Peggy Hughes":MAILTO:peggyahughes@yahoo.com
END:VEVENT
BEGIN:VEVENT
DTSTART;TZID=America/New_York:20231024T183000
DTEND;TZID=America/New_York:20231024T213000
DTSTAMP:20260425T082734
CREATED:20230911T171204Z
LAST-MODIFIED:20231003T144508Z
UID:10009271-1698172200-1698183000@epworth.faith
SUMMARY:Women's Music Concert Rehearsal (Sanctuary)
DESCRIPTION:
URL:https://epworth.faith/event/womens-music-concert-rehearsal-sanctuary/
LOCATION:Epworth United Methodist Church\, 19285 Holland Glade Road\, Rehoboth Beach\, DE\, 19971\, United States
CATEGORIES:Concerts,Facility Rentals
ORGANIZER;CN="Peggy Hughes":MAILTO:peggyahughes@yahoo.com
END:VEVENT
END:VCALENDAR