BEGIN:VCALENDAR
VERSION:2.0
PRODID:-//Epworth UMC - ECPv6.15.20//NONSGML v1.0//EN
CALSCALE:GREGORIAN
METHOD:PUBLISH
X-ORIGINAL-URL:https://epworth.faith
X-WR-CALDESC:Events for Epworth UMC
REFRESH-INTERVAL;VALUE=DURATION:PT1H
X-Robots-Tag:noindex
X-PUBLISHED-TTL:PT1H
BEGIN:VTIMEZONE
TZID:America/New_York
BEGIN:DAYLIGHT
TZOFFSETFROM:-0500
TZOFFSETTO:-0400
TZNAME:EDT
DTSTART:20220313T070000
END:DAYLIGHT
BEGIN:STANDARD
TZOFFSETFROM:-0400
TZOFFSETTO:-0500
TZNAME:EST
DTSTART:20221106T060000
END:STANDARD
BEGIN:DAYLIGHT
TZOFFSETFROM:-0500
TZOFFSETTO:-0400
TZNAME:EDT
DTSTART:20230312T070000
END:DAYLIGHT
BEGIN:STANDARD
TZOFFSETFROM:-0400
TZOFFSETTO:-0500
TZNAME:EST
DTSTART:20231105T060000
END:STANDARD
BEGIN:DAYLIGHT
TZOFFSETFROM:-0500
TZOFFSETTO:-0400
TZNAME:EDT
DTSTART:20240310T070000
END:DAYLIGHT
BEGIN:STANDARD
TZOFFSETFROM:-0400
TZOFFSETTO:-0500
TZNAME:EST
DTSTART:20241103T060000
END:STANDARD
BEGIN:DAYLIGHT
TZOFFSETFROM:-0500
TZOFFSETTO:-0400
TZNAME:EDT
DTSTART:20250309T070000
END:DAYLIGHT
BEGIN:STANDARD
TZOFFSETFROM:-0400
TZOFFSETTO:-0500
TZNAME:EST
DTSTART:20251102T060000
END:STANDARD
END:VTIMEZONE
BEGIN:VEVENT
DTSTART;TZID=America/New_York:20240329T090000
DTEND;TZID=America/New_York:20240329T130000
DTSTAMP:20260424T103956
CREATED:20240318T132839Z
LAST-MODIFIED:20240318T132839Z
UID:10012374-1711702800-1711717200@epworth.faith
SUMMARY:Food & Love Team #2 Soup Prep (Kitchen)
DESCRIPTION:
URL:https://epworth.faith/event/food-love-team-2-soup-prep-kitchen/
LOCATION:Epworth United Methodist Church\, 19285 Holland Glade Road\, Rehoboth Beach\, DE\, 19971\, United States
CATEGORIES:Church,Groups
ORGANIZER;CN="Penny MacLennan":MAILTO:penny-sendme@comcast.net
END:VEVENT
BEGIN:VEVENT
DTSTART;TZID=America/New_York:20240126T100000
DTEND;TZID=America/New_York:20240126T140000
DTSTAMP:20260424T103956
CREATED:20231213T153727Z
LAST-MODIFIED:20231213T153727Z
UID:10011982-1706263200-1706277600@epworth.faith
SUMMARY:Food and Love Prep (Kitchen)
DESCRIPTION:
URL:https://epworth.faith/event/food-and-love-prep-kitchen/2024-01-26/
LOCATION:Epworth United Methodist Church\, 19285 Holland Glade Road\, Rehoboth Beach\, DE\, 19971\, United States
CATEGORIES:Church,Groups
ORGANIZER;CN="Penny MacLennan":MAILTO:penny-sendme@comcast.net
END:VEVENT
BEGIN:VEVENT
DTSTART;TZID=America/New_York:20240119T093000
DTEND;TZID=America/New_York:20240119T130000
DTSTAMP:20260424T103956
CREATED:20240108T142717Z
LAST-MODIFIED:20240108T142717Z
UID:10012110-1705656600-1705669200@epworth.faith
SUMMARY:Food and Love Soup Prep-Team 2 (Kitchen)
DESCRIPTION:
URL:https://epworth.faith/event/food-and-love-soup-prep-team-2-kitchen/
LOCATION:Epworth United Methodist Church\, 19285 Holland Glade Road\, Rehoboth Beach\, DE\, 19971\, United States
CATEGORIES:Church,Groups
ORGANIZER;CN="Penny MacLennan":MAILTO:penny-sendme@comcast.net
END:VEVENT
BEGIN:VEVENT
DTSTART;TZID=America/New_York:20240105T100000
DTEND;TZID=America/New_York:20240105T140000
DTSTAMP:20260424T103956
CREATED:20231213T153727Z
LAST-MODIFIED:20231213T153727Z
UID:10011981-1704448800-1704463200@epworth.faith
SUMMARY:Food and Love Prep (Kitchen)
DESCRIPTION:
URL:https://epworth.faith/event/food-and-love-prep-kitchen/2024-01-05/
LOCATION:Epworth United Methodist Church\, 19285 Holland Glade Road\, Rehoboth Beach\, DE\, 19971\, United States
CATEGORIES:Church,Groups
ORGANIZER;CN="Penny MacLennan":MAILTO:penny-sendme@comcast.net
END:VEVENT
BEGIN:VEVENT
DTSTART;TZID=America/New_York:20231231T130000
DTEND;TZID=America/New_York:20231231T150000
DTSTAMP:20260424T103956
CREATED:20221116T164256Z
LAST-MODIFIED:20221116T164256Z
UID:10007089-1704027600-1704034800@epworth.faith
SUMMARY:Food & Love Soup Kitchen (Fellowship Hall & Kitchen)
DESCRIPTION:
URL:https://epworth.faith/event/food-love-soup-kitchen-fellowship-hall-kitchen/2023-12-31/
LOCATION:Epworth United Methodist Church\, 19285 Holland Glade Road\, Rehoboth Beach\, DE\, 19971\, United States
CATEGORIES:Groups
ORGANIZER;CN="Penny MacLennan":MAILTO:penny-sendme@comcast.net
END:VEVENT
BEGIN:VEVENT
DTSTART;TZID=America/New_York:20231228T090000
DTEND;TZID=America/New_York:20231228T140000
DTSTAMP:20260424T103956
CREATED:20221214T160941Z
LAST-MODIFIED:20221214T160941Z
UID:10007953-1703754000-1703772000@epworth.faith
SUMMARY:Soup Prep (Kitchen)
DESCRIPTION:
URL:https://epworth.faith/event/soup-prep-kitchen-18/2023-12-28/
LOCATION:Epworth United Methodist Church\, 19285 Holland Glade Road\, Rehoboth Beach\, DE\, 19971\, United States
CATEGORIES:Groups
ORGANIZER;CN="Penny MacLennan":MAILTO:penny-sendme@comcast.net
END:VEVENT
BEGIN:VEVENT
DTSTART;TZID=America/New_York:20231224T130000
DTEND;TZID=America/New_York:20231224T150000
DTSTAMP:20260424T103956
CREATED:20221116T164256Z
LAST-MODIFIED:20221116T164256Z
UID:10007088-1703422800-1703430000@epworth.faith
SUMMARY:Food & Love Soup Kitchen (Fellowship Hall & Kitchen)
DESCRIPTION:
URL:https://epworth.faith/event/food-love-soup-kitchen-fellowship-hall-kitchen/2023-12-24/
LOCATION:Epworth United Methodist Church\, 19285 Holland Glade Road\, Rehoboth Beach\, DE\, 19971\, United States
CATEGORIES:Groups
ORGANIZER;CN="Penny MacLennan":MAILTO:penny-sendme@comcast.net
END:VEVENT
BEGIN:VEVENT
DTSTART;TZID=America/New_York:20231222T090000
DTEND;TZID=America/New_York:20231222T140000
DTSTAMP:20260424T103956
CREATED:20231129T190619Z
LAST-MODIFIED:20231129T190750Z
UID:10011110-1703235600-1703253600@epworth.faith
SUMMARY:Soup Prep (Kitchen) Rescheduled from Thursday
DESCRIPTION:
URL:https://epworth.faith/event/soup-prep-kitchen-rescheduled-from-thursday-2/
LOCATION:Epworth United Methodist Church\, 19285 Holland Glade Road\, Rehoboth Beach\, DE\, 19971\, United States
CATEGORIES:Church,Groups
ORGANIZER;CN="Penny MacLennan":MAILTO:penny-sendme@comcast.net
END:VEVENT
BEGIN:VEVENT
DTSTART;TZID=America/New_York:20231221T090000
DTEND;TZID=America/New_York:20231221T140000
DTSTAMP:20260424T103956
CREATED:20221214T160941Z
LAST-MODIFIED:20221214T160941Z
UID:10007952-1703149200-1703167200@epworth.faith
SUMMARY:Soup Prep (Kitchen)
DESCRIPTION:
URL:https://epworth.faith/event/soup-prep-kitchen-18/2023-12-21/
LOCATION:Epworth United Methodist Church\, 19285 Holland Glade Road\, Rehoboth Beach\, DE\, 19971\, United States
CATEGORIES:Groups
ORGANIZER;CN="Penny MacLennan":MAILTO:penny-sendme@comcast.net
END:VEVENT
BEGIN:VEVENT
DTSTART;TZID=America/New_York:20231218T090000
DTEND;TZID=America/New_York:20231218T133000
DTSTAMP:20260424T103956
CREATED:20221214T161346Z
LAST-MODIFIED:20221214T161346Z
UID:10008005-1702890000-1702906200@epworth.faith
SUMMARY:Soup Prep (Kitchen)
DESCRIPTION:
URL:https://epworth.faith/event/soup-prep-kitchen-19/2023-12-18/
LOCATION:Epworth United Methodist Church\, 19285 Holland Glade Road\, Rehoboth Beach\, DE\, 19971\, United States
CATEGORIES:Groups
ORGANIZER;CN="Penny MacLennan":MAILTO:penny-sendme@comcast.net
END:VEVENT
BEGIN:VEVENT
DTSTART;TZID=America/New_York:20231217T130000
DTEND;TZID=America/New_York:20231217T150000
DTSTAMP:20260424T103956
CREATED:20221116T164256Z
LAST-MODIFIED:20221116T164256Z
UID:10007087-1702818000-1702825200@epworth.faith
SUMMARY:Food & Love Soup Kitchen (Fellowship Hall & Kitchen)
DESCRIPTION:
URL:https://epworth.faith/event/food-love-soup-kitchen-fellowship-hall-kitchen/2023-12-17/
LOCATION:Epworth United Methodist Church\, 19285 Holland Glade Road\, Rehoboth Beach\, DE\, 19971\, United States
CATEGORIES:Groups
ORGANIZER;CN="Penny MacLennan":MAILTO:penny-sendme@comcast.net
END:VEVENT
BEGIN:VEVENT
DTSTART;TZID=America/New_York:20231214T090000
DTEND;TZID=America/New_York:20231214T140000
DTSTAMP:20260424T103956
CREATED:20221214T160941Z
LAST-MODIFIED:20221214T160941Z
UID:10007951-1702544400-1702562400@epworth.faith
SUMMARY:Soup Prep (Kitchen)
DESCRIPTION:
URL:https://epworth.faith/event/soup-prep-kitchen-18/2023-12-14/
LOCATION:Epworth United Methodist Church\, 19285 Holland Glade Road\, Rehoboth Beach\, DE\, 19971\, United States
CATEGORIES:Groups
ORGANIZER;CN="Penny MacLennan":MAILTO:penny-sendme@comcast.net
END:VEVENT
BEGIN:VEVENT
DTSTART;TZID=America/New_York:20231211T090000
DTEND;TZID=America/New_York:20231211T133000
DTSTAMP:20260424T103956
CREATED:20221214T161346Z
LAST-MODIFIED:20221214T161346Z
UID:10008004-1702285200-1702301400@epworth.faith
SUMMARY:Soup Prep (Kitchen)
DESCRIPTION:
URL:https://epworth.faith/event/soup-prep-kitchen-19/2023-12-11/
LOCATION:Epworth United Methodist Church\, 19285 Holland Glade Road\, Rehoboth Beach\, DE\, 19971\, United States
CATEGORIES:Groups
ORGANIZER;CN="Penny MacLennan":MAILTO:penny-sendme@comcast.net
END:VEVENT
BEGIN:VEVENT
DTSTART;TZID=America/New_York:20231210T130000
DTEND;TZID=America/New_York:20231210T150000
DTSTAMP:20260424T103956
CREATED:20221116T164256Z
LAST-MODIFIED:20221116T164256Z
UID:10007086-1702213200-1702220400@epworth.faith
SUMMARY:Food & Love Soup Kitchen (Fellowship Hall & Kitchen)
DESCRIPTION:
URL:https://epworth.faith/event/food-love-soup-kitchen-fellowship-hall-kitchen/2023-12-10/
LOCATION:Epworth United Methodist Church\, 19285 Holland Glade Road\, Rehoboth Beach\, DE\, 19971\, United States
CATEGORIES:Groups
ORGANIZER;CN="Penny MacLennan":MAILTO:penny-sendme@comcast.net
END:VEVENT
BEGIN:VEVENT
DTSTART;TZID=America/New_York:20231207T090000
DTEND;TZID=America/New_York:20231207T140000
DTSTAMP:20260424T103956
CREATED:20221214T160941Z
LAST-MODIFIED:20221214T160941Z
UID:10007950-1701939600-1701957600@epworth.faith
SUMMARY:Soup Prep (Kitchen)
DESCRIPTION:
URL:https://epworth.faith/event/soup-prep-kitchen-18/2023-12-07/
LOCATION:Epworth United Methodist Church\, 19285 Holland Glade Road\, Rehoboth Beach\, DE\, 19971\, United States
CATEGORIES:Groups
ORGANIZER;CN="Penny MacLennan":MAILTO:penny-sendme@comcast.net
END:VEVENT
BEGIN:VEVENT
DTSTART;TZID=America/New_York:20231205T090000
DTEND;TZID=America/New_York:20231205T140000
DTSTAMP:20260424T103956
CREATED:20221214T160806Z
LAST-MODIFIED:20221214T160806Z
UID:10007901-1701766800-1701784800@epworth.faith
SUMMARY:Soup Prep (Kitchen)
DESCRIPTION:
URL:https://epworth.faith/event/soup-prep-kitchen-17/2023-12-05/
LOCATION:Epworth United Methodist Church\, 19285 Holland Glade Road\, Rehoboth Beach\, DE\, 19971\, United States
CATEGORIES:Groups
ORGANIZER;CN="Penny MacLennan":MAILTO:penny-sendme@comcast.net
END:VEVENT
BEGIN:VEVENT
DTSTART;TZID=America/New_York:20231204T090000
DTEND;TZID=America/New_York:20231204T133000
DTSTAMP:20260424T103956
CREATED:20221214T161346Z
LAST-MODIFIED:20221214T161346Z
UID:10008003-1701680400-1701696600@epworth.faith
SUMMARY:Soup Prep (Kitchen)
DESCRIPTION:
URL:https://epworth.faith/event/soup-prep-kitchen-19/2023-12-04/
LOCATION:Epworth United Methodist Church\, 19285 Holland Glade Road\, Rehoboth Beach\, DE\, 19971\, United States
CATEGORIES:Groups
ORGANIZER;CN="Penny MacLennan":MAILTO:penny-sendme@comcast.net
END:VEVENT
BEGIN:VEVENT
DTSTART;TZID=America/New_York:20231203T130000
DTEND;TZID=America/New_York:20231203T150000
DTSTAMP:20260424T103956
CREATED:20221116T164256Z
LAST-MODIFIED:20221116T164256Z
UID:10007085-1701608400-1701615600@epworth.faith
SUMMARY:Food & Love Soup Kitchen (Fellowship Hall & Kitchen)
DESCRIPTION:
URL:https://epworth.faith/event/food-love-soup-kitchen-fellowship-hall-kitchen/2023-12-03/
LOCATION:Epworth United Methodist Church\, 19285 Holland Glade Road\, Rehoboth Beach\, DE\, 19971\, United States
CATEGORIES:Groups
ORGANIZER;CN="Penny MacLennan":MAILTO:penny-sendme@comcast.net
END:VEVENT
BEGIN:VEVENT
DTSTART;TZID=America/New_York:20231201T090000
DTEND;TZID=America/New_York:20231201T140000
DTSTAMP:20260424T103956
CREATED:20231129T185129Z
LAST-MODIFIED:20231129T190121Z
UID:10011109-1701421200-1701439200@epworth.faith
SUMMARY:Soup Prep (Kitchen) Rescheduled from Thursday
DESCRIPTION:
URL:https://epworth.faith/event/soup-prep-kitchen-rescheduled-from-thursday/
LOCATION:Epworth United Methodist Church\, 19285 Holland Glade Road\, Rehoboth Beach\, DE\, 19971\, United States
CATEGORIES:Church,Groups
ORGANIZER;CN="Penny MacLennan":MAILTO:penny-sendme@comcast.net
END:VEVENT
BEGIN:VEVENT
DTSTART;TZID=America/New_York:20231130T090000
DTEND;TZID=America/New_York:20231130T140000
DTSTAMP:20260424T103957
CREATED:20221214T160941Z
LAST-MODIFIED:20221214T160941Z
UID:10007949-1701334800-1701352800@epworth.faith
SUMMARY:Soup Prep (Kitchen)
DESCRIPTION:
URL:https://epworth.faith/event/soup-prep-kitchen-18/2023-11-30/
LOCATION:Epworth United Methodist Church\, 19285 Holland Glade Road\, Rehoboth Beach\, DE\, 19971\, United States
CATEGORIES:Groups
ORGANIZER;CN="Penny MacLennan":MAILTO:penny-sendme@comcast.net
END:VEVENT
BEGIN:VEVENT
DTSTART;TZID=America/New_York:20231128T090000
DTEND;TZID=America/New_York:20231128T140000
DTSTAMP:20260424T103957
CREATED:20221214T160806Z
LAST-MODIFIED:20221214T160806Z
UID:10007900-1701162000-1701180000@epworth.faith
SUMMARY:Soup Prep (Kitchen)
DESCRIPTION:
URL:https://epworth.faith/event/soup-prep-kitchen-17/2023-11-28/
LOCATION:Epworth United Methodist Church\, 19285 Holland Glade Road\, Rehoboth Beach\, DE\, 19971\, United States
CATEGORIES:Groups
ORGANIZER;CN="Penny MacLennan":MAILTO:penny-sendme@comcast.net
END:VEVENT
BEGIN:VEVENT
DTSTART;TZID=America/New_York:20231127T090000
DTEND;TZID=America/New_York:20231127T133000
DTSTAMP:20260424T103957
CREATED:20221214T161346Z
LAST-MODIFIED:20221214T161346Z
UID:10008002-1701075600-1701091800@epworth.faith
SUMMARY:Soup Prep (Kitchen)
DESCRIPTION:
URL:https://epworth.faith/event/soup-prep-kitchen-19/2023-11-27/
LOCATION:Epworth United Methodist Church\, 19285 Holland Glade Road\, Rehoboth Beach\, DE\, 19971\, United States
CATEGORIES:Groups
ORGANIZER;CN="Penny MacLennan":MAILTO:penny-sendme@comcast.net
END:VEVENT
BEGIN:VEVENT
DTSTART;TZID=America/New_York:20231126T130000
DTEND;TZID=America/New_York:20231126T150000
DTSTAMP:20260424T103957
CREATED:20221116T164256Z
LAST-MODIFIED:20221116T164256Z
UID:10007084-1701003600-1701010800@epworth.faith
SUMMARY:Food & Love Soup Kitchen (Fellowship Hall & Kitchen)
DESCRIPTION:
URL:https://epworth.faith/event/food-love-soup-kitchen-fellowship-hall-kitchen/2023-11-26/
LOCATION:Epworth United Methodist Church\, 19285 Holland Glade Road\, Rehoboth Beach\, DE\, 19971\, United States
CATEGORIES:Groups
ORGANIZER;CN="Penny MacLennan":MAILTO:penny-sendme@comcast.net
END:VEVENT
BEGIN:VEVENT
DTSTART;TZID=America/New_York:20231123T090000
DTEND;TZID=America/New_York:20231123T140000
DTSTAMP:20260424T103957
CREATED:20221214T160941Z
LAST-MODIFIED:20221214T160941Z
UID:10007948-1700730000-1700748000@epworth.faith
SUMMARY:Soup Prep (Kitchen)
DESCRIPTION:
URL:https://epworth.faith/event/soup-prep-kitchen-18/2023-11-23/
LOCATION:Epworth United Methodist Church\, 19285 Holland Glade Road\, Rehoboth Beach\, DE\, 19971\, United States
CATEGORIES:Groups
ORGANIZER;CN="Penny MacLennan":MAILTO:penny-sendme@comcast.net
END:VEVENT
BEGIN:VEVENT
DTSTART;TZID=America/New_York:20231121T090000
DTEND;TZID=America/New_York:20231121T140000
DTSTAMP:20260424T103957
CREATED:20221214T160806Z
LAST-MODIFIED:20221214T160806Z
UID:10007899-1700557200-1700575200@epworth.faith
SUMMARY:Soup Prep (Kitchen)
DESCRIPTION:
URL:https://epworth.faith/event/soup-prep-kitchen-17/2023-11-21/
LOCATION:Epworth United Methodist Church\, 19285 Holland Glade Road\, Rehoboth Beach\, DE\, 19971\, United States
CATEGORIES:Groups
ORGANIZER;CN="Penny MacLennan":MAILTO:penny-sendme@comcast.net
END:VEVENT
BEGIN:VEVENT
DTSTART;TZID=America/New_York:20231120T090000
DTEND;TZID=America/New_York:20231120T133000
DTSTAMP:20260424T103957
CREATED:20221214T161346Z
LAST-MODIFIED:20221214T161346Z
UID:10008001-1700470800-1700487000@epworth.faith
SUMMARY:Soup Prep (Kitchen)
DESCRIPTION:
URL:https://epworth.faith/event/soup-prep-kitchen-19/2023-11-20/
LOCATION:Epworth United Methodist Church\, 19285 Holland Glade Road\, Rehoboth Beach\, DE\, 19971\, United States
CATEGORIES:Groups
ORGANIZER;CN="Penny MacLennan":MAILTO:penny-sendme@comcast.net
END:VEVENT
BEGIN:VEVENT
DTSTART;TZID=America/New_York:20231119T130000
DTEND;TZID=America/New_York:20231119T150000
DTSTAMP:20260424T103957
CREATED:20221116T164256Z
LAST-MODIFIED:20221116T164256Z
UID:10007083-1700398800-1700406000@epworth.faith
SUMMARY:Food & Love Soup Kitchen (Fellowship Hall & Kitchen)
DESCRIPTION:
URL:https://epworth.faith/event/food-love-soup-kitchen-fellowship-hall-kitchen/2023-11-19/
LOCATION:Epworth United Methodist Church\, 19285 Holland Glade Road\, Rehoboth Beach\, DE\, 19971\, United States
CATEGORIES:Groups
ORGANIZER;CN="Penny MacLennan":MAILTO:penny-sendme@comcast.net
END:VEVENT
BEGIN:VEVENT
DTSTART;TZID=America/New_York:20231116T090000
DTEND;TZID=America/New_York:20231116T140000
DTSTAMP:20260424T103957
CREATED:20221214T160941Z
LAST-MODIFIED:20221214T160941Z
UID:10007947-1700125200-1700143200@epworth.faith
SUMMARY:Soup Prep (Kitchen)
DESCRIPTION:
URL:https://epworth.faith/event/soup-prep-kitchen-18/2023-11-16/
LOCATION:Epworth United Methodist Church\, 19285 Holland Glade Road\, Rehoboth Beach\, DE\, 19971\, United States
CATEGORIES:Groups
ORGANIZER;CN="Penny MacLennan":MAILTO:penny-sendme@comcast.net
END:VEVENT
BEGIN:VEVENT
DTSTART;TZID=America/New_York:20231114T090000
DTEND;TZID=America/New_York:20231114T140000
DTSTAMP:20260424T103957
CREATED:20221214T160806Z
LAST-MODIFIED:20221214T160806Z
UID:10007898-1699952400-1699970400@epworth.faith
SUMMARY:Soup Prep (Kitchen)
DESCRIPTION:
URL:https://epworth.faith/event/soup-prep-kitchen-17/2023-11-14/
LOCATION:Epworth United Methodist Church\, 19285 Holland Glade Road\, Rehoboth Beach\, DE\, 19971\, United States
CATEGORIES:Groups
ORGANIZER;CN="Penny MacLennan":MAILTO:penny-sendme@comcast.net
END:VEVENT
BEGIN:VEVENT
DTSTART;TZID=America/New_York:20231113T090000
DTEND;TZID=America/New_York:20231113T133000
DTSTAMP:20260424T103957
CREATED:20221214T161346Z
LAST-MODIFIED:20221214T161346Z
UID:10008000-1699866000-1699882200@epworth.faith
SUMMARY:Soup Prep (Kitchen)
DESCRIPTION:
URL:https://epworth.faith/event/soup-prep-kitchen-19/2023-11-13/
LOCATION:Epworth United Methodist Church\, 19285 Holland Glade Road\, Rehoboth Beach\, DE\, 19971\, United States
CATEGORIES:Groups
ORGANIZER;CN="Penny MacLennan":MAILTO:penny-sendme@comcast.net
END:VEVENT
END:VCALENDAR