BEGIN:VCALENDAR
VERSION:2.0
PRODID:-//Epworth UMC - ECPv6.15.20//NONSGML v1.0//EN
CALSCALE:GREGORIAN
METHOD:PUBLISH
X-ORIGINAL-URL:https://epworth.faith
X-WR-CALDESC:Events for Epworth UMC
REFRESH-INTERVAL;VALUE=DURATION:PT1H
X-Robots-Tag:noindex
X-PUBLISHED-TTL:PT1H
BEGIN:VTIMEZONE
TZID:America/New_York
BEGIN:DAYLIGHT
TZOFFSETFROM:-0500
TZOFFSETTO:-0400
TZNAME:EDT
DTSTART:20220313T070000
END:DAYLIGHT
BEGIN:STANDARD
TZOFFSETFROM:-0400
TZOFFSETTO:-0500
TZNAME:EST
DTSTART:20221106T060000
END:STANDARD
BEGIN:DAYLIGHT
TZOFFSETFROM:-0500
TZOFFSETTO:-0400
TZNAME:EDT
DTSTART:20230312T070000
END:DAYLIGHT
BEGIN:STANDARD
TZOFFSETFROM:-0400
TZOFFSETTO:-0500
TZNAME:EST
DTSTART:20231105T060000
END:STANDARD
BEGIN:DAYLIGHT
TZOFFSETFROM:-0500
TZOFFSETTO:-0400
TZNAME:EDT
DTSTART:20240310T070000
END:DAYLIGHT
BEGIN:STANDARD
TZOFFSETFROM:-0400
TZOFFSETTO:-0500
TZNAME:EST
DTSTART:20241103T060000
END:STANDARD
END:VTIMEZONE
BEGIN:VEVENT
DTSTART;TZID=America/New_York:20230919T090000
DTEND;TZID=America/New_York:20230919T140000
DTSTAMP:20260425T170456
CREATED:20221214T160806Z
LAST-MODIFIED:20221214T160806Z
UID:10007890-1695114000-1695132000@epworth.faith
SUMMARY:Soup Prep (Kitchen)
DESCRIPTION:
URL:https://epworth.faith/event/soup-prep-kitchen-17/2023-09-19/
LOCATION:Epworth United Methodist Church\, 19285 Holland Glade Road\, Rehoboth Beach\, DE\, 19971\, United States
CATEGORIES:Groups
ORGANIZER;CN="Penny MacLennan":MAILTO:penny-sendme@comcast.net
END:VEVENT
BEGIN:VEVENT
DTSTART;TZID=America/New_York:20230918T090000
DTEND;TZID=America/New_York:20230918T133000
DTSTAMP:20260425T170456
CREATED:20221214T161346Z
LAST-MODIFIED:20221214T161346Z
UID:10007992-1695027600-1695043800@epworth.faith
SUMMARY:Soup Prep (Kitchen)
DESCRIPTION:
URL:https://epworth.faith/event/soup-prep-kitchen-19/2023-09-18/
LOCATION:Epworth United Methodist Church\, 19285 Holland Glade Road\, Rehoboth Beach\, DE\, 19971\, United States
CATEGORIES:Groups
ORGANIZER;CN="Penny MacLennan":MAILTO:penny-sendme@comcast.net
END:VEVENT
BEGIN:VEVENT
DTSTART;TZID=America/New_York:20230917T130000
DTEND;TZID=America/New_York:20230917T150000
DTSTAMP:20260425T170456
CREATED:20221116T164256Z
LAST-MODIFIED:20221116T164256Z
UID:10007074-1694955600-1694962800@epworth.faith
SUMMARY:Food & Love Soup Kitchen (Fellowship Hall & Kitchen)
DESCRIPTION:
URL:https://epworth.faith/event/food-love-soup-kitchen-fellowship-hall-kitchen/2023-09-17/
LOCATION:Epworth United Methodist Church\, 19285 Holland Glade Road\, Rehoboth Beach\, DE\, 19971\, United States
CATEGORIES:Groups
ORGANIZER;CN="Penny MacLennan":MAILTO:penny-sendme@comcast.net
END:VEVENT
BEGIN:VEVENT
DTSTART;TZID=America/New_York:20230914T090000
DTEND;TZID=America/New_York:20230914T140000
DTSTAMP:20260425T170456
CREATED:20221214T160941Z
LAST-MODIFIED:20221214T160941Z
UID:10007938-1694682000-1694700000@epworth.faith
SUMMARY:Soup Prep (Kitchen)
DESCRIPTION:
URL:https://epworth.faith/event/soup-prep-kitchen-18/2023-09-14/
LOCATION:Epworth United Methodist Church\, 19285 Holland Glade Road\, Rehoboth Beach\, DE\, 19971\, United States
CATEGORIES:Groups
ORGANIZER;CN="Penny MacLennan":MAILTO:penny-sendme@comcast.net
END:VEVENT
BEGIN:VEVENT
DTSTART;TZID=America/New_York:20230912T090000
DTEND;TZID=America/New_York:20230912T140000
DTSTAMP:20260425T170456
CREATED:20221214T160806Z
LAST-MODIFIED:20221214T160806Z
UID:10007889-1694509200-1694527200@epworth.faith
SUMMARY:Soup Prep (Kitchen)
DESCRIPTION:
URL:https://epworth.faith/event/soup-prep-kitchen-17/2023-09-12/
LOCATION:Epworth United Methodist Church\, 19285 Holland Glade Road\, Rehoboth Beach\, DE\, 19971\, United States
CATEGORIES:Groups
ORGANIZER;CN="Penny MacLennan":MAILTO:penny-sendme@comcast.net
END:VEVENT
BEGIN:VEVENT
DTSTART;TZID=America/New_York:20230911T090000
DTEND;TZID=America/New_York:20230911T133000
DTSTAMP:20260425T170456
CREATED:20221214T161346Z
LAST-MODIFIED:20221214T161346Z
UID:10007991-1694422800-1694439000@epworth.faith
SUMMARY:Soup Prep (Kitchen)
DESCRIPTION:
URL:https://epworth.faith/event/soup-prep-kitchen-19/2023-09-11/
LOCATION:Epworth United Methodist Church\, 19285 Holland Glade Road\, Rehoboth Beach\, DE\, 19971\, United States
CATEGORIES:Groups
ORGANIZER;CN="Penny MacLennan":MAILTO:penny-sendme@comcast.net
END:VEVENT
BEGIN:VEVENT
DTSTART;TZID=America/New_York:20230910T130000
DTEND;TZID=America/New_York:20230910T150000
DTSTAMP:20260425T170456
CREATED:20221116T164256Z
LAST-MODIFIED:20221116T164256Z
UID:10007073-1694350800-1694358000@epworth.faith
SUMMARY:Food & Love Soup Kitchen (Fellowship Hall & Kitchen)
DESCRIPTION:
URL:https://epworth.faith/event/food-love-soup-kitchen-fellowship-hall-kitchen/2023-09-10/
LOCATION:Epworth United Methodist Church\, 19285 Holland Glade Road\, Rehoboth Beach\, DE\, 19971\, United States
CATEGORIES:Groups
ORGANIZER;CN="Penny MacLennan":MAILTO:penny-sendme@comcast.net
END:VEVENT
BEGIN:VEVENT
DTSTART;TZID=America/New_York:20230907T090000
DTEND;TZID=America/New_York:20230907T140000
DTSTAMP:20260425T170456
CREATED:20221214T160941Z
LAST-MODIFIED:20221214T160941Z
UID:10007937-1694077200-1694095200@epworth.faith
SUMMARY:Soup Prep (Kitchen)
DESCRIPTION:
URL:https://epworth.faith/event/soup-prep-kitchen-18/2023-09-07/
LOCATION:Epworth United Methodist Church\, 19285 Holland Glade Road\, Rehoboth Beach\, DE\, 19971\, United States
CATEGORIES:Groups
ORGANIZER;CN="Penny MacLennan":MAILTO:penny-sendme@comcast.net
END:VEVENT
BEGIN:VEVENT
DTSTART;TZID=America/New_York:20230905T173000
DTEND;TZID=America/New_York:20230905T190000
DTSTAMP:20260425T170456
CREATED:20230329T152425Z
LAST-MODIFIED:20230908T014415Z
UID:10008121-1693935000-1693940400@epworth.faith
SUMMARY:ISOP Dinner (Fellowship Hall & Kitchen)
DESCRIPTION:
URL:https://epworth.faith/event/isop-dinner-fellowship-hall-kitchen/2023-09-05/
LOCATION:Epworth United Methodist Church\, 19285 Holland Glade Road\, Rehoboth Beach\, DE\, 19971\, United States
CATEGORIES:Groups
ORGANIZER;CN="Penny MacLennan":MAILTO:penny-sendme@comcast.net
END:VEVENT
BEGIN:VEVENT
DTSTART;TZID=America/New_York:20230905T090000
DTEND;TZID=America/New_York:20230905T140000
DTSTAMP:20260425T170456
CREATED:20221214T160806Z
LAST-MODIFIED:20221214T160806Z
UID:10007888-1693904400-1693922400@epworth.faith
SUMMARY:Soup Prep (Kitchen)
DESCRIPTION:
URL:https://epworth.faith/event/soup-prep-kitchen-17/2023-09-05/
LOCATION:Epworth United Methodist Church\, 19285 Holland Glade Road\, Rehoboth Beach\, DE\, 19971\, United States
CATEGORIES:Groups
ORGANIZER;CN="Penny MacLennan":MAILTO:penny-sendme@comcast.net
END:VEVENT
BEGIN:VEVENT
DTSTART;TZID=America/New_York:20230904T090000
DTEND;TZID=America/New_York:20230904T133000
DTSTAMP:20260425T170456
CREATED:20221214T161346Z
LAST-MODIFIED:20221214T161346Z
UID:10007990-1693818000-1693834200@epworth.faith
SUMMARY:Soup Prep (Kitchen)
DESCRIPTION:
URL:https://epworth.faith/event/soup-prep-kitchen-19/2023-09-04/
LOCATION:Epworth United Methodist Church\, 19285 Holland Glade Road\, Rehoboth Beach\, DE\, 19971\, United States
CATEGORIES:Groups
ORGANIZER;CN="Penny MacLennan":MAILTO:penny-sendme@comcast.net
END:VEVENT
BEGIN:VEVENT
DTSTART;TZID=America/New_York:20230903T130000
DTEND;TZID=America/New_York:20230903T150000
DTSTAMP:20260425T170456
CREATED:20221116T164256Z
LAST-MODIFIED:20221116T164256Z
UID:10007072-1693746000-1693753200@epworth.faith
SUMMARY:Food & Love Soup Kitchen (Fellowship Hall & Kitchen)
DESCRIPTION:
URL:https://epworth.faith/event/food-love-soup-kitchen-fellowship-hall-kitchen/2023-09-03/
LOCATION:Epworth United Methodist Church\, 19285 Holland Glade Road\, Rehoboth Beach\, DE\, 19971\, United States
CATEGORIES:Groups
ORGANIZER;CN="Penny MacLennan":MAILTO:penny-sendme@comcast.net
END:VEVENT
BEGIN:VEVENT
DTSTART;TZID=America/New_York:20230831T090000
DTEND;TZID=America/New_York:20230831T140000
DTSTAMP:20260425T170456
CREATED:20221214T160941Z
LAST-MODIFIED:20221214T160941Z
UID:10007936-1693472400-1693490400@epworth.faith
SUMMARY:Soup Prep (Kitchen)
DESCRIPTION:
URL:https://epworth.faith/event/soup-prep-kitchen-18/2023-08-31/
LOCATION:Epworth United Methodist Church\, 19285 Holland Glade Road\, Rehoboth Beach\, DE\, 19971\, United States
CATEGORIES:Groups
ORGANIZER;CN="Penny MacLennan":MAILTO:penny-sendme@comcast.net
END:VEVENT
BEGIN:VEVENT
DTSTART;TZID=America/New_York:20230829T173000
DTEND;TZID=America/New_York:20230829T190000
DTSTAMP:20260425T170456
CREATED:20230329T152425Z
LAST-MODIFIED:20230908T014415Z
UID:10008120-1693330200-1693335600@epworth.faith
SUMMARY:ISOP Dinner (Fellowship Hall & Kitchen)
DESCRIPTION:
URL:https://epworth.faith/event/isop-dinner-fellowship-hall-kitchen/2023-08-29/
LOCATION:Epworth United Methodist Church\, 19285 Holland Glade Road\, Rehoboth Beach\, DE\, 19971\, United States
CATEGORIES:Groups
ORGANIZER;CN="Penny MacLennan":MAILTO:penny-sendme@comcast.net
END:VEVENT
BEGIN:VEVENT
DTSTART;TZID=America/New_York:20230829T090000
DTEND;TZID=America/New_York:20230829T140000
DTSTAMP:20260425T170456
CREATED:20221214T160806Z
LAST-MODIFIED:20221214T160806Z
UID:10007887-1693299600-1693317600@epworth.faith
SUMMARY:Soup Prep (Kitchen)
DESCRIPTION:
URL:https://epworth.faith/event/soup-prep-kitchen-17/2023-08-29/
LOCATION:Epworth United Methodist Church\, 19285 Holland Glade Road\, Rehoboth Beach\, DE\, 19971\, United States
CATEGORIES:Groups
ORGANIZER;CN="Penny MacLennan":MAILTO:penny-sendme@comcast.net
END:VEVENT
BEGIN:VEVENT
DTSTART;TZID=America/New_York:20230828T090000
DTEND;TZID=America/New_York:20230828T133000
DTSTAMP:20260425T170456
CREATED:20221214T161346Z
LAST-MODIFIED:20221214T161346Z
UID:10007989-1693213200-1693229400@epworth.faith
SUMMARY:Soup Prep (Kitchen)
DESCRIPTION:
URL:https://epworth.faith/event/soup-prep-kitchen-19/2023-08-28/
LOCATION:Epworth United Methodist Church\, 19285 Holland Glade Road\, Rehoboth Beach\, DE\, 19971\, United States
CATEGORIES:Groups
ORGANIZER;CN="Penny MacLennan":MAILTO:penny-sendme@comcast.net
END:VEVENT
BEGIN:VEVENT
DTSTART;TZID=America/New_York:20230827T130000
DTEND;TZID=America/New_York:20230827T150000
DTSTAMP:20260425T170456
CREATED:20221116T164256Z
LAST-MODIFIED:20221116T164256Z
UID:10007071-1693141200-1693148400@epworth.faith
SUMMARY:Food & Love Soup Kitchen (Fellowship Hall & Kitchen)
DESCRIPTION:
URL:https://epworth.faith/event/food-love-soup-kitchen-fellowship-hall-kitchen/2023-08-27/
LOCATION:Epworth United Methodist Church\, 19285 Holland Glade Road\, Rehoboth Beach\, DE\, 19971\, United States
CATEGORIES:Groups
ORGANIZER;CN="Penny MacLennan":MAILTO:penny-sendme@comcast.net
END:VEVENT
BEGIN:VEVENT
DTSTART;TZID=America/New_York:20230824T090000
DTEND;TZID=America/New_York:20230824T140000
DTSTAMP:20260425T170456
CREATED:20221214T160941Z
LAST-MODIFIED:20221214T160941Z
UID:10007935-1692867600-1692885600@epworth.faith
SUMMARY:Soup Prep (Kitchen)
DESCRIPTION:
URL:https://epworth.faith/event/soup-prep-kitchen-18/2023-08-24/
LOCATION:Epworth United Methodist Church\, 19285 Holland Glade Road\, Rehoboth Beach\, DE\, 19971\, United States
CATEGORIES:Groups
ORGANIZER;CN="Penny MacLennan":MAILTO:penny-sendme@comcast.net
END:VEVENT
BEGIN:VEVENT
DTSTART;TZID=America/New_York:20230822T173000
DTEND;TZID=America/New_York:20230822T190000
DTSTAMP:20260425T170456
CREATED:20230329T152425Z
LAST-MODIFIED:20230908T014415Z
UID:10008119-1692725400-1692730800@epworth.faith
SUMMARY:ISOP Dinner (Fellowship Hall & Kitchen)
DESCRIPTION:
URL:https://epworth.faith/event/isop-dinner-fellowship-hall-kitchen/2023-08-22/
LOCATION:Epworth United Methodist Church\, 19285 Holland Glade Road\, Rehoboth Beach\, DE\, 19971\, United States
CATEGORIES:Groups
ORGANIZER;CN="Penny MacLennan":MAILTO:penny-sendme@comcast.net
END:VEVENT
BEGIN:VEVENT
DTSTART;TZID=America/New_York:20230822T090000
DTEND;TZID=America/New_York:20230822T140000
DTSTAMP:20260425T170456
CREATED:20221214T160806Z
LAST-MODIFIED:20221214T160806Z
UID:10007886-1692694800-1692712800@epworth.faith
SUMMARY:Soup Prep (Kitchen)
DESCRIPTION:
URL:https://epworth.faith/event/soup-prep-kitchen-17/2023-08-22/
LOCATION:Epworth United Methodist Church\, 19285 Holland Glade Road\, Rehoboth Beach\, DE\, 19971\, United States
CATEGORIES:Groups
ORGANIZER;CN="Penny MacLennan":MAILTO:penny-sendme@comcast.net
END:VEVENT
BEGIN:VEVENT
DTSTART;TZID=America/New_York:20230821T090000
DTEND;TZID=America/New_York:20230821T133000
DTSTAMP:20260425T170456
CREATED:20221214T161346Z
LAST-MODIFIED:20221214T161346Z
UID:10007988-1692608400-1692624600@epworth.faith
SUMMARY:Soup Prep (Kitchen)
DESCRIPTION:
URL:https://epworth.faith/event/soup-prep-kitchen-19/2023-08-21/
LOCATION:Epworth United Methodist Church\, 19285 Holland Glade Road\, Rehoboth Beach\, DE\, 19971\, United States
CATEGORIES:Groups
ORGANIZER;CN="Penny MacLennan":MAILTO:penny-sendme@comcast.net
END:VEVENT
BEGIN:VEVENT
DTSTART;TZID=America/New_York:20230820T130000
DTEND;TZID=America/New_York:20230820T150000
DTSTAMP:20260425T170456
CREATED:20221116T164256Z
LAST-MODIFIED:20221116T164256Z
UID:10007070-1692536400-1692543600@epworth.faith
SUMMARY:Food & Love Soup Kitchen (Fellowship Hall & Kitchen)
DESCRIPTION:
URL:https://epworth.faith/event/food-love-soup-kitchen-fellowship-hall-kitchen/2023-08-20/
LOCATION:Epworth United Methodist Church\, 19285 Holland Glade Road\, Rehoboth Beach\, DE\, 19971\, United States
CATEGORIES:Groups
ORGANIZER;CN="Penny MacLennan":MAILTO:penny-sendme@comcast.net
END:VEVENT
BEGIN:VEVENT
DTSTART;TZID=America/New_York:20230817T090000
DTEND;TZID=America/New_York:20230817T140000
DTSTAMP:20260425T170456
CREATED:20221214T160941Z
LAST-MODIFIED:20221214T160941Z
UID:10007934-1692262800-1692280800@epworth.faith
SUMMARY:Soup Prep (Kitchen)
DESCRIPTION:
URL:https://epworth.faith/event/soup-prep-kitchen-18/2023-08-17/
LOCATION:Epworth United Methodist Church\, 19285 Holland Glade Road\, Rehoboth Beach\, DE\, 19971\, United States
CATEGORIES:Groups
ORGANIZER;CN="Penny MacLennan":MAILTO:penny-sendme@comcast.net
END:VEVENT
BEGIN:VEVENT
DTSTART;TZID=America/New_York:20230815T173000
DTEND;TZID=America/New_York:20230815T190000
DTSTAMP:20260425T170456
CREATED:20230329T152425Z
LAST-MODIFIED:20230908T014415Z
UID:10008118-1692120600-1692126000@epworth.faith
SUMMARY:ISOP Dinner (Fellowship Hall & Kitchen)
DESCRIPTION:
URL:https://epworth.faith/event/isop-dinner-fellowship-hall-kitchen/2023-08-15/
LOCATION:Epworth United Methodist Church\, 19285 Holland Glade Road\, Rehoboth Beach\, DE\, 19971\, United States
CATEGORIES:Groups
ORGANIZER;CN="Penny MacLennan":MAILTO:penny-sendme@comcast.net
END:VEVENT
BEGIN:VEVENT
DTSTART;TZID=America/New_York:20230815T090000
DTEND;TZID=America/New_York:20230815T140000
DTSTAMP:20260425T170456
CREATED:20221214T160806Z
LAST-MODIFIED:20221214T160806Z
UID:10007885-1692090000-1692108000@epworth.faith
SUMMARY:Soup Prep (Kitchen)
DESCRIPTION:
URL:https://epworth.faith/event/soup-prep-kitchen-17/2023-08-15/
LOCATION:Epworth United Methodist Church\, 19285 Holland Glade Road\, Rehoboth Beach\, DE\, 19971\, United States
CATEGORIES:Groups
ORGANIZER;CN="Penny MacLennan":MAILTO:penny-sendme@comcast.net
END:VEVENT
BEGIN:VEVENT
DTSTART;TZID=America/New_York:20230814T090000
DTEND;TZID=America/New_York:20230814T133000
DTSTAMP:20260425T170456
CREATED:20221214T161346Z
LAST-MODIFIED:20221214T161346Z
UID:10007987-1692003600-1692019800@epworth.faith
SUMMARY:Soup Prep (Kitchen)
DESCRIPTION:
URL:https://epworth.faith/event/soup-prep-kitchen-19/2023-08-14/
LOCATION:Epworth United Methodist Church\, 19285 Holland Glade Road\, Rehoboth Beach\, DE\, 19971\, United States
CATEGORIES:Groups
ORGANIZER;CN="Penny MacLennan":MAILTO:penny-sendme@comcast.net
END:VEVENT
BEGIN:VEVENT
DTSTART;TZID=America/New_York:20230813T130000
DTEND;TZID=America/New_York:20230813T150000
DTSTAMP:20260425T170456
CREATED:20221116T164256Z
LAST-MODIFIED:20221116T164256Z
UID:10007069-1691931600-1691938800@epworth.faith
SUMMARY:Food & Love Soup Kitchen (Fellowship Hall & Kitchen)
DESCRIPTION:
URL:https://epworth.faith/event/food-love-soup-kitchen-fellowship-hall-kitchen/2023-08-13/
LOCATION:Epworth United Methodist Church\, 19285 Holland Glade Road\, Rehoboth Beach\, DE\, 19971\, United States
CATEGORIES:Groups
ORGANIZER;CN="Penny MacLennan":MAILTO:penny-sendme@comcast.net
END:VEVENT
BEGIN:VEVENT
DTSTART;TZID=America/New_York:20230810T090000
DTEND;TZID=America/New_York:20230810T140000
DTSTAMP:20260425T170456
CREATED:20221214T160941Z
LAST-MODIFIED:20221214T160941Z
UID:10007933-1691658000-1691676000@epworth.faith
SUMMARY:Soup Prep (Kitchen)
DESCRIPTION:
URL:https://epworth.faith/event/soup-prep-kitchen-18/2023-08-10/
LOCATION:Epworth United Methodist Church\, 19285 Holland Glade Road\, Rehoboth Beach\, DE\, 19971\, United States
CATEGORIES:Groups
ORGANIZER;CN="Penny MacLennan":MAILTO:penny-sendme@comcast.net
END:VEVENT
BEGIN:VEVENT
DTSTART;TZID=America/New_York:20230808T173000
DTEND;TZID=America/New_York:20230808T190000
DTSTAMP:20260425T170456
CREATED:20230329T152425Z
LAST-MODIFIED:20230908T014415Z
UID:10008117-1691515800-1691521200@epworth.faith
SUMMARY:ISOP Dinner (Fellowship Hall & Kitchen)
DESCRIPTION:
URL:https://epworth.faith/event/isop-dinner-fellowship-hall-kitchen/2023-08-08/
LOCATION:Epworth United Methodist Church\, 19285 Holland Glade Road\, Rehoboth Beach\, DE\, 19971\, United States
CATEGORIES:Groups
ORGANIZER;CN="Penny MacLennan":MAILTO:penny-sendme@comcast.net
END:VEVENT
BEGIN:VEVENT
DTSTART;TZID=America/New_York:20230808T090000
DTEND;TZID=America/New_York:20230808T140000
DTSTAMP:20260425T170456
CREATED:20221214T160806Z
LAST-MODIFIED:20221214T160806Z
UID:10007884-1691485200-1691503200@epworth.faith
SUMMARY:Soup Prep (Kitchen)
DESCRIPTION:
URL:https://epworth.faith/event/soup-prep-kitchen-17/2023-08-08/
LOCATION:Epworth United Methodist Church\, 19285 Holland Glade Road\, Rehoboth Beach\, DE\, 19971\, United States
CATEGORIES:Groups
ORGANIZER;CN="Penny MacLennan":MAILTO:penny-sendme@comcast.net
END:VEVENT
END:VCALENDAR