BEGIN:VCALENDAR
VERSION:2.0
PRODID:-//Epworth UMC - ECPv6.15.20//NONSGML v1.0//EN
CALSCALE:GREGORIAN
METHOD:PUBLISH
X-ORIGINAL-URL:https://epworth.faith
X-WR-CALDESC:Events for Epworth UMC
REFRESH-INTERVAL;VALUE=DURATION:PT1H
X-Robots-Tag:noindex
X-PUBLISHED-TTL:PT1H
BEGIN:VTIMEZONE
TZID:America/New_York
BEGIN:DAYLIGHT
TZOFFSETFROM:-0500
TZOFFSETTO:-0400
TZNAME:EDT
DTSTART:20230312T070000
END:DAYLIGHT
BEGIN:STANDARD
TZOFFSETFROM:-0400
TZOFFSETTO:-0500
TZNAME:EST
DTSTART:20231105T060000
END:STANDARD
BEGIN:DAYLIGHT
TZOFFSETFROM:-0500
TZOFFSETTO:-0400
TZNAME:EDT
DTSTART:20240310T070000
END:DAYLIGHT
BEGIN:STANDARD
TZOFFSETFROM:-0400
TZOFFSETTO:-0500
TZNAME:EST
DTSTART:20241103T060000
END:STANDARD
BEGIN:DAYLIGHT
TZOFFSETFROM:-0500
TZOFFSETTO:-0400
TZNAME:EDT
DTSTART:20250309T070000
END:DAYLIGHT
BEGIN:STANDARD
TZOFFSETFROM:-0400
TZOFFSETTO:-0500
TZNAME:EST
DTSTART:20251102T060000
END:STANDARD
BEGIN:DAYLIGHT
TZOFFSETFROM:-0500
TZOFFSETTO:-0400
TZNAME:EDT
DTSTART:20260308T070000
END:DAYLIGHT
BEGIN:STANDARD
TZOFFSETFROM:-0400
TZOFFSETTO:-0500
TZNAME:EST
DTSTART:20261101T060000
END:STANDARD
BEGIN:DAYLIGHT
TZOFFSETFROM:-0500
TZOFFSETTO:-0400
TZNAME:EDT
DTSTART:20270314T070000
END:DAYLIGHT
BEGIN:STANDARD
TZOFFSETFROM:-0400
TZOFFSETTO:-0500
TZNAME:EST
DTSTART:20271107T060000
END:STANDARD
END:VTIMEZONE
BEGIN:VEVENT
DTSTART;TZID=America/New_York:20260415T183000
DTEND;TZID=America/New_York:20260415T203000
DTSTAMP:20260424T033330
CREATED:20251023T154117Z
LAST-MODIFIED:20260214T112517Z
UID:10020818-1776277800-1776285000@epworth.faith
SUMMARY:Christianity and World Religions
DESCRIPTION:Click on the book for more information \nChristianity and World Religions: Questions We Ask About Other Faiths by Adam Hamilton \nWhy are there so many different religions? How should Christians view other religions? How is God at work in other religions? What is the fate of those who earnestly pursue God through other religions? In examining these major world religions and the beliefs of their followers\, Hamilton urges us as Christians to build bridges with others so that we might grow in our faith\, seek peace in our world\, love our neighbor\, and find positive ways to share the gospel. \nMeets Wednesdays at 7 pm in the Starnes Room starting March 4\, 2026 (no meeting April 8). \nContact Robin Duer or Mike Duer
URL:https://epworth.faith/event/duer-small-group-book-study-starnes-room-2/2026-04-15/
LOCATION:Epworth United Methodist Church\, 19285 Holland Glade Road\, Rehoboth Beach\, DE\, 19971\, United States
CATEGORIES:Church,Groups
ATTACH;FMTTYPE=image/jpeg:https://epworth.faith/wp-content/uploads/2025/10/religions.jpg
ORGANIZER;CN="Robin Duer":MAILTO:beachrobin12@aol.com
END:VEVENT
BEGIN:VEVENT
DTSTART;TZID=America/New_York:20260401T183000
DTEND;TZID=America/New_York:20260401T203000
DTSTAMP:20260424T033330
CREATED:20251023T154117Z
LAST-MODIFIED:20260214T112517Z
UID:10020816-1775068200-1775075400@epworth.faith
SUMMARY:Christianity and World Religions
DESCRIPTION:Click on the book for more information \nChristianity and World Religions: Questions We Ask About Other Faiths by Adam Hamilton \nWhy are there so many different religions? How should Christians view other religions? How is God at work in other religions? What is the fate of those who earnestly pursue God through other religions? In examining these major world religions and the beliefs of their followers\, Hamilton urges us as Christians to build bridges with others so that we might grow in our faith\, seek peace in our world\, love our neighbor\, and find positive ways to share the gospel. \nMeets Wednesdays at 7 pm in the Starnes Room starting March 4\, 2026 (no meeting April 8). \nContact Robin Duer or Mike Duer
URL:https://epworth.faith/event/duer-small-group-book-study-starnes-room-2/2026-04-01/
LOCATION:Epworth United Methodist Church\, 19285 Holland Glade Road\, Rehoboth Beach\, DE\, 19971\, United States
CATEGORIES:Church,Groups
ATTACH;FMTTYPE=image/jpeg:https://epworth.faith/wp-content/uploads/2025/10/religions.jpg
ORGANIZER;CN="Robin Duer":MAILTO:beachrobin12@aol.com
END:VEVENT
BEGIN:VEVENT
DTSTART;TZID=America/New_York:20260325T183000
DTEND;TZID=America/New_York:20260325T203000
DTSTAMP:20260424T033330
CREATED:20251023T154117Z
LAST-MODIFIED:20260214T112517Z
UID:10020815-1774463400-1774470600@epworth.faith
SUMMARY:Christianity and World Religions
DESCRIPTION:Click on the book for more information \nChristianity and World Religions: Questions We Ask About Other Faiths by Adam Hamilton \nWhy are there so many different religions? How should Christians view other religions? How is God at work in other religions? What is the fate of those who earnestly pursue God through other religions? In examining these major world religions and the beliefs of their followers\, Hamilton urges us as Christians to build bridges with others so that we might grow in our faith\, seek peace in our world\, love our neighbor\, and find positive ways to share the gospel. \nMeets Wednesdays at 7 pm in the Starnes Room starting March 4\, 2026 (no meeting April 8). \nContact Robin Duer or Mike Duer
URL:https://epworth.faith/event/duer-small-group-book-study-starnes-room-2/2026-03-25/
LOCATION:Epworth United Methodist Church\, 19285 Holland Glade Road\, Rehoboth Beach\, DE\, 19971\, United States
CATEGORIES:Church,Groups
ATTACH;FMTTYPE=image/jpeg:https://epworth.faith/wp-content/uploads/2025/10/religions.jpg
ORGANIZER;CN="Robin Duer":MAILTO:beachrobin12@aol.com
END:VEVENT
BEGIN:VEVENT
DTSTART;TZID=America/New_York:20260318T183000
DTEND;TZID=America/New_York:20260318T203000
DTSTAMP:20260424T033330
CREATED:20251023T154117Z
LAST-MODIFIED:20260214T112517Z
UID:10020814-1773858600-1773865800@epworth.faith
SUMMARY:Christianity and World Religions
DESCRIPTION:Click on the book for more information \nChristianity and World Religions: Questions We Ask About Other Faiths by Adam Hamilton \nWhy are there so many different religions? How should Christians view other religions? How is God at work in other religions? What is the fate of those who earnestly pursue God through other religions? In examining these major world religions and the beliefs of their followers\, Hamilton urges us as Christians to build bridges with others so that we might grow in our faith\, seek peace in our world\, love our neighbor\, and find positive ways to share the gospel. \nMeets Wednesdays at 7 pm in the Starnes Room starting March 4\, 2026 (no meeting April 8). \nContact Robin Duer or Mike Duer
URL:https://epworth.faith/event/duer-small-group-book-study-starnes-room-2/2026-03-18/
LOCATION:Epworth United Methodist Church\, 19285 Holland Glade Road\, Rehoboth Beach\, DE\, 19971\, United States
CATEGORIES:Church,Groups
ATTACH;FMTTYPE=image/jpeg:https://epworth.faith/wp-content/uploads/2025/10/religions.jpg
ORGANIZER;CN="Robin Duer":MAILTO:beachrobin12@aol.com
END:VEVENT
BEGIN:VEVENT
DTSTART;TZID=America/New_York:20260311T183000
DTEND;TZID=America/New_York:20260311T203000
DTSTAMP:20260424T033330
CREATED:20251023T154117Z
LAST-MODIFIED:20260214T112517Z
UID:10020813-1773253800-1773261000@epworth.faith
SUMMARY:Christianity and World Religions
DESCRIPTION:Click on the book for more information \nChristianity and World Religions: Questions We Ask About Other Faiths by Adam Hamilton \nWhy are there so many different religions? How should Christians view other religions? How is God at work in other religions? What is the fate of those who earnestly pursue God through other religions? In examining these major world religions and the beliefs of their followers\, Hamilton urges us as Christians to build bridges with others so that we might grow in our faith\, seek peace in our world\, love our neighbor\, and find positive ways to share the gospel. \nMeets Wednesdays at 7 pm in the Starnes Room starting March 4\, 2026 (no meeting April 8). \nContact Robin Duer or Mike Duer
URL:https://epworth.faith/event/duer-small-group-book-study-starnes-room-2/2026-03-11/
LOCATION:Epworth United Methodist Church\, 19285 Holland Glade Road\, Rehoboth Beach\, DE\, 19971\, United States
CATEGORIES:Church,Groups
ATTACH;FMTTYPE=image/jpeg:https://epworth.faith/wp-content/uploads/2025/10/religions.jpg
ORGANIZER;CN="Robin Duer":MAILTO:beachrobin12@aol.com
END:VEVENT
BEGIN:VEVENT
DTSTART;TZID=America/New_York:20260304T183000
DTEND;TZID=America/New_York:20260304T203000
DTSTAMP:20260424T033330
CREATED:20260214T112538Z
LAST-MODIFIED:20260214T112539Z
UID:10020812-1772649000-1772656200@epworth.faith
SUMMARY:Christianity and World Religions
DESCRIPTION:Click on the book for more information \nChristianity and World Religions: Questions We Ask About Other Faiths by Adam Hamilton \nWhy are there so many different religions? How should Christians view other religions? How is God at work in other religions? What is the fate of those who earnestly pursue God through other religions? In examining these major world religions and the beliefs of their followers\, Hamilton urges us as Christians to build bridges with others so that we might grow in our faith\, seek peace in our world\, love our neighbor\, and find positive ways to share the gospel. \nMeets Wednesdays at 7 pm in the Starnes Room starting March 4\, 2026 (no meeting April 8). \nContact Robin Duer or Mike Duer
URL:https://epworth.faith/event/duer-small-group-book-study-starnes-room-2-2/
LOCATION:Epworth United Methodist Church\, 19285 Holland Glade Road\, Rehoboth Beach\, DE\, 19971\, United States
CATEGORIES:Church,Groups,Lent 2026
ATTACH;FMTTYPE=image/jpeg:https://epworth.faith/wp-content/uploads/2025/10/religions.jpg
ORGANIZER;CN="Robin Duer":MAILTO:beachrobin12@aol.com
END:VEVENT
BEGIN:VEVENT
DTSTART;TZID=America/New_York:20260222T110000
DTEND;TZID=America/New_York:20260222T120000
DTSTAMP:20260424T033330
CREATED:20260122T144215Z
LAST-MODIFIED:20260122T144215Z
UID:10021034-1771758000-1771761600@epworth.faith
SUMMARY:Emmaus Walk Orientation Meeting (Branford Room)
DESCRIPTION:
URL:https://epworth.faith/event/emmaus-walk-orientation-meeting-branford-room/
LOCATION:Epworth United Methodist Church\, 19285 Holland Glade Road\, Rehoboth Beach\, DE\, 19971\, United States
CATEGORIES:Church,Groups
ORGANIZER;CN="Robin Duer":MAILTO:beachrobin12@aol.com
END:VEVENT
BEGIN:VEVENT
DTSTART;TZID=America/New_York:20260111T110000
DTEND;TZID=America/New_York:20260111T123000
DTSTAMP:20260424T033330
CREATED:20251023T154523Z
LAST-MODIFIED:20251023T154523Z
UID:10020819-1768129200-1768134600@epworth.faith
SUMMARY:Walk to Emmaus Orientation (Branford Room)
DESCRIPTION:
URL:https://epworth.faith/event/walk-to-emmaus-orientation-branford-room/
LOCATION:Epworth United Methodist Church\, 19285 Holland Glade Road\, Rehoboth Beach\, DE\, 19971\, United States
CATEGORIES:Church,Groups
ORGANIZER;CN="Robin Duer":MAILTO:beachrobin12@aol.com
END:VEVENT
BEGIN:VEVENT
DTSTART;TZID=America/New_York:20251119T190000
DTEND;TZID=America/New_York:20251119T203000
DTSTAMP:20260424T033330
CREATED:20250508T141016Z
LAST-MODIFIED:20250508T141016Z
UID:10016043-1763578800-1763584200@epworth.faith
SUMMARY:Duer Small Group (Starnes Room)
DESCRIPTION:
URL:https://epworth.faith/event/duer-small-group-starnes-room/2025-11-19/
LOCATION:Epworth United Methodist Church\, 19285 Holland Glade Road\, Rehoboth Beach\, DE\, 19971\, United States
CATEGORIES:Church,Groups
ORGANIZER;CN="Robin Duer":MAILTO:beachrobin12@aol.com
END:VEVENT
BEGIN:VEVENT
DTSTART;TZID=America/New_York:20251112T190000
DTEND;TZID=America/New_York:20251112T203000
DTSTAMP:20260424T033330
CREATED:20250508T141016Z
LAST-MODIFIED:20250508T141016Z
UID:10016042-1762974000-1762979400@epworth.faith
SUMMARY:Duer Small Group (Starnes Room)
DESCRIPTION:
URL:https://epworth.faith/event/duer-small-group-starnes-room/2025-11-12/
LOCATION:Epworth United Methodist Church\, 19285 Holland Glade Road\, Rehoboth Beach\, DE\, 19971\, United States
CATEGORIES:Church,Groups
ORGANIZER;CN="Robin Duer":MAILTO:beachrobin12@aol.com
END:VEVENT
BEGIN:VEVENT
DTSTART;TZID=America/New_York:20251105T190000
DTEND;TZID=America/New_York:20251105T203000
DTSTAMP:20260424T033330
CREATED:20250508T141016Z
LAST-MODIFIED:20250508T141016Z
UID:10016041-1762369200-1762374600@epworth.faith
SUMMARY:Duer Small Group (Starnes Room)
DESCRIPTION:
URL:https://epworth.faith/event/duer-small-group-starnes-room/2025-11-05/
LOCATION:Epworth United Methodist Church\, 19285 Holland Glade Road\, Rehoboth Beach\, DE\, 19971\, United States
CATEGORIES:Church,Groups
ORGANIZER;CN="Robin Duer":MAILTO:beachrobin12@aol.com
END:VEVENT
BEGIN:VEVENT
DTSTART;TZID=America/New_York:20251029T190000
DTEND;TZID=America/New_York:20251029T203000
DTSTAMP:20260424T033330
CREATED:20250508T141016Z
LAST-MODIFIED:20250508T141016Z
UID:10016040-1761764400-1761769800@epworth.faith
SUMMARY:Duer Small Group (Starnes Room)
DESCRIPTION:
URL:https://epworth.faith/event/duer-small-group-starnes-room/2025-10-29/
LOCATION:Epworth United Methodist Church\, 19285 Holland Glade Road\, Rehoboth Beach\, DE\, 19971\, United States
CATEGORIES:Church,Groups
ORGANIZER;CN="Robin Duer":MAILTO:beachrobin12@aol.com
END:VEVENT
BEGIN:VEVENT
DTSTART;TZID=America/New_York:20251022T190000
DTEND;TZID=America/New_York:20251022T203000
DTSTAMP:20260424T033330
CREATED:20250508T141016Z
LAST-MODIFIED:20250508T141016Z
UID:10016039-1761159600-1761165000@epworth.faith
SUMMARY:Duer Small Group (Starnes Room)
DESCRIPTION:
URL:https://epworth.faith/event/duer-small-group-starnes-room/2025-10-22/
LOCATION:Epworth United Methodist Church\, 19285 Holland Glade Road\, Rehoboth Beach\, DE\, 19971\, United States
CATEGORIES:Church,Groups
ORGANIZER;CN="Robin Duer":MAILTO:beachrobin12@aol.com
END:VEVENT
BEGIN:VEVENT
DTSTART;TZID=America/New_York:20251015T190000
DTEND;TZID=America/New_York:20251015T203000
DTSTAMP:20260424T033330
CREATED:20250508T141016Z
LAST-MODIFIED:20250508T141016Z
UID:10016038-1760554800-1760560200@epworth.faith
SUMMARY:Duer Small Group (Starnes Room)
DESCRIPTION:
URL:https://epworth.faith/event/duer-small-group-starnes-room/2025-10-15/
LOCATION:Epworth United Methodist Church\, 19285 Holland Glade Road\, Rehoboth Beach\, DE\, 19971\, United States
CATEGORIES:Church,Groups
ORGANIZER;CN="Robin Duer":MAILTO:beachrobin12@aol.com
END:VEVENT
BEGIN:VEVENT
DTSTART;TZID=America/New_York:20251008T190000
DTEND;TZID=America/New_York:20251008T203000
DTSTAMP:20260424T033330
CREATED:20250508T141016Z
LAST-MODIFIED:20250508T141016Z
UID:10016037-1759950000-1759955400@epworth.faith
SUMMARY:Duer Small Group (Starnes Room)
DESCRIPTION:
URL:https://epworth.faith/event/duer-small-group-starnes-room/2025-10-08/
LOCATION:Epworth United Methodist Church\, 19285 Holland Glade Road\, Rehoboth Beach\, DE\, 19971\, United States
CATEGORIES:Church,Groups
ORGANIZER;CN="Robin Duer":MAILTO:beachrobin12@aol.com
END:VEVENT
BEGIN:VEVENT
DTSTART;TZID=America/New_York:20251004T170000
DTEND;TZID=America/New_York:20251004T210000
DTSTAMP:20260424T033330
CREATED:20250317T133017Z
LAST-MODIFIED:20250317T133017Z
UID:10015899-1759597200-1759611600@epworth.faith
SUMMARY:Emmaus Annual Gathering (Fellowship Hall and Kitchen)
DESCRIPTION:
URL:https://epworth.faith/event/emmaus-annual-gathering-fellowship-hall-and-kitchen/
LOCATION:Epworth United Methodist Church\, 19285 Holland Glade Road\, Rehoboth Beach\, DE\, 19971\, United States
CATEGORIES:Church,Groups
ORGANIZER;CN="Robin Duer":MAILTO:beachrobin12@aol.com
END:VEVENT
BEGIN:VEVENT
DTSTART;TZID=America/New_York:20251001T190000
DTEND;TZID=America/New_York:20251001T203000
DTSTAMP:20260424T033330
CREATED:20250508T141016Z
LAST-MODIFIED:20250508T141016Z
UID:10016036-1759345200-1759350600@epworth.faith
SUMMARY:Duer Small Group (Starnes Room)
DESCRIPTION:
URL:https://epworth.faith/event/duer-small-group-starnes-room/2025-10-01/
LOCATION:Epworth United Methodist Church\, 19285 Holland Glade Road\, Rehoboth Beach\, DE\, 19971\, United States
CATEGORIES:Church,Groups
ORGANIZER;CN="Robin Duer":MAILTO:beachrobin12@aol.com
END:VEVENT
BEGIN:VEVENT
DTSTART;TZID=America/New_York:20250713T110000
DTEND;TZID=America/New_York:20250713T123000
DTSTAMP:20260424T033330
CREATED:20250612T170312Z
LAST-MODIFIED:20250612T170312Z
UID:10016820-1752404400-1752409800@epworth.faith
SUMMARY:Emmaus Walk Orientation (Branford Room)
DESCRIPTION:
URL:https://epworth.faith/event/emmaus-walk-orientation-branford-room/
LOCATION:Epworth United Methodist Church\, 19285 Holland Glade Road\, Rehoboth Beach\, DE\, 19971\, United States
CATEGORIES:Church,Groups
ORGANIZER;CN="Robin Duer":MAILTO:beachrobin12@aol.com
END:VEVENT
BEGIN:VEVENT
DTSTART;TZID=America/New_York:20250521T113000
DTEND;TZID=America/New_York:20250521T150000
DTSTAMP:20260424T033330
CREATED:20240529T212049Z
LAST-MODIFIED:20250417T132519Z
UID:10013535-1747827000-1747839600@epworth.faith
SUMMARY:Face to Face Emmaus Walk Luncheon (Fellowship Hall)
DESCRIPTION:
URL:https://epworth.faith/event/face-to-face-emmaus-walk-luncheon-fellowship-hall-4/
LOCATION:Epworth United Methodist Church\, 19285 Holland Glade Road\, Rehoboth Beach\, DE\, 19971\, United States
CATEGORIES:Church,Groups
ORGANIZER;CN="Robin Duer":MAILTO:beachrobin12@aol.com
END:VEVENT
BEGIN:VEVENT
DTSTART;TZID=America/New_York:20250521T090000
DTEND;TZID=America/New_York:20250521T113000
DTSTAMP:20260424T033330
CREATED:20240529T211548Z
LAST-MODIFIED:20250508T140513Z
UID:10013531-1747818000-1747827000@epworth.faith
SUMMARY:Face to Face Emmaus Walk (Music Room\, Youth Room & Branford Room)
DESCRIPTION:
URL:https://epworth.faith/event/face-to-face-emmaus-walk-sanctuary-and-baker-room-4/
LOCATION:Epworth United Methodist Church\, 19285 Holland Glade Road\, Rehoboth Beach\, DE\, 19971\, United States
CATEGORIES:Church,Groups
ORGANIZER;CN="Robin Duer":MAILTO:beachrobin12@aol.com
END:VEVENT
BEGIN:VEVENT
DTSTART;TZID=America/New_York:20250519T090000
DTEND;TZID=America/New_York:20250519T153000
DTSTAMP:20260424T033330
CREATED:20240529T211513Z
LAST-MODIFIED:20250508T140405Z
UID:10013530-1747645200-1747668600@epworth.faith
SUMMARY:Face to Face Emmaus Walk (Music Room\, Youth Room & Branford Room)
DESCRIPTION:
URL:https://epworth.faith/event/face-to-face-emmaus-walk-sanctuary-and-baker-room-3/
LOCATION:Epworth United Methodist Church\, 19285 Holland Glade Road\, Rehoboth Beach\, DE\, 19971\, United States
CATEGORIES:Church,Groups
ORGANIZER;CN="Robin Duer":MAILTO:beachrobin12@aol.com
END:VEVENT
BEGIN:VEVENT
DTSTART;TZID=America/New_York:20250514T090000
DTEND;TZID=America/New_York:20250514T153000
DTSTAMP:20260424T033330
CREATED:20240529T211437Z
LAST-MODIFIED:20250508T140259Z
UID:10013529-1747213200-1747236600@epworth.faith
SUMMARY:Face to Face Emmaus Walk (Music Room\, Youth Room & Branford Room)
DESCRIPTION:
URL:https://epworth.faith/event/face-to-face-emmaus-walk-sanctuary-and-baker-room-2/
LOCATION:Epworth United Methodist Church\, 19285 Holland Glade Road\, Rehoboth Beach\, DE\, 19971\, United States
CATEGORIES:Church,Groups
ORGANIZER;CN="Robin Duer":MAILTO:beachrobin12@aol.com
END:VEVENT
BEGIN:VEVENT
DTSTART;TZID=America/New_York:20250512T090000
DTEND;TZID=America/New_York:20250512T153000
DTSTAMP:20260424T033330
CREATED:20240529T211339Z
LAST-MODIFIED:20250508T140129Z
UID:10013528-1747040400-1747063800@epworth.faith
SUMMARY:Face to Face Emmaus Walk (Music Room\, Youth Room & Branford Room)
DESCRIPTION:
URL:https://epworth.faith/event/face-to-face-emmaus-walk-sanctuary-and-baker-room/
LOCATION:Epworth United Methodist Church\, 19285 Holland Glade Road\, Rehoboth Beach\, DE\, 19971\, United States
CATEGORIES:Church,Groups
ORGANIZER;CN="Robin Duer":MAILTO:beachrobin12@aol.com
END:VEVENT
BEGIN:VEVENT
DTSTART;TZID=America/New_York:20250506T100000
DTEND;TZID=America/New_York:20250506T120000
DTSTAMP:20260424T033330
CREATED:20250417T133849Z
LAST-MODIFIED:20250417T133849Z
UID:10016015-1746525600-1746532800@epworth.faith
SUMMARY:Face to Face Agape Dinner Planning Meeting (Starnes Room)
DESCRIPTION:
URL:https://epworth.faith/event/face-to-face-agape-dinner-planning-meeting-starnes-room/
LOCATION:Epworth United Methodist Church\, 19285 Holland Glade Road\, Rehoboth Beach\, DE\, 19971\, United States
CATEGORIES:Church,Groups
ORGANIZER;CN="Robin Duer":MAILTO:beachrobin12@aol.com
END:VEVENT
BEGIN:VEVENT
DTSTART;TZID=America/New_York:20250309T113000
DTEND;TZID=America/New_York:20250309T130000
DTSTAMP:20260424T033330
CREATED:20250204T135245Z
LAST-MODIFIED:20250204T135325Z
UID:10015504-1741519800-1741525200@epworth.faith
SUMMARY:Emmaus FTF Orientation (Starnes Room)
DESCRIPTION:
URL:https://epworth.faith/event/emmaus-ftf-orientation-starnes-room-2/
LOCATION:Epworth United Methodist Church\, 19285 Holland Glade Road\, Rehoboth Beach\, DE\, 19971\, United States
CATEGORIES:Church,Groups
ORGANIZER;CN="Robin Duer":MAILTO:beachrobin12@aol.com
END:VEVENT
BEGIN:VEVENT
DTSTART;TZID=America/New_York:20250302T113000
DTEND;TZID=America/New_York:20250302T130000
DTSTAMP:20260424T033330
CREATED:20241120T204159Z
LAST-MODIFIED:20241120T204159Z
UID:10015238-1740915000-1740920400@epworth.faith
SUMMARY:Emmaus FTF Orientation (Starnes Room)
DESCRIPTION:
URL:https://epworth.faith/event/emmaus-ftf-orientation-starnes-room/
LOCATION:Epworth United Methodist Church\, 19285 Holland Glade Road\, Rehoboth Beach\, DE\, 19971\, United States
CATEGORIES:Church,Groups
ORGANIZER;CN="Robin Duer":MAILTO:beachrobin12@aol.com
END:VEVENT
BEGIN:VEVENT
DTSTART;TZID=America/New_York:20250128T103000
DTEND;TZID=America/New_York:20250128T113000
DTSTAMP:20260424T033330
CREATED:20250122T193253Z
LAST-MODIFIED:20250122T193253Z
UID:10015497-1738060200-1738063800@epworth.faith
SUMMARY:Emmaus FTF Planning Meeting (Starnes Room)
DESCRIPTION:
URL:https://epworth.faith/event/emmaus-ftf-planning-meeting-starnes-room/
LOCATION:Epworth United Methodist Church\, 19285 Holland Glade Road\, Rehoboth Beach\, DE\, 19971\, United States
CATEGORIES:Church,Groups
ORGANIZER;CN="Robin Duer":MAILTO:beachrobin12@aol.com
END:VEVENT
BEGIN:VEVENT
DTSTART;TZID=America/New_York:20250119T110000
DTEND;TZID=America/New_York:20250119T130000
DTSTAMP:20260424T033330
CREATED:20250109T184303Z
LAST-MODIFIED:20250109T184303Z
UID:10015352-1737284400-1737291600@epworth.faith
SUMMARY:Emmaus Orientation (Starnes Room)
DESCRIPTION:
URL:https://epworth.faith/event/emmaus-orientation-starnes-room/
LOCATION:Epworth United Methodist Church\, 19285 Holland Glade Road\, Rehoboth Beach\, DE\, 19971\, United States
CATEGORIES:Church,Groups
ORGANIZER;CN="Robin Duer":MAILTO:beachrobin12@aol.com
END:VEVENT
BEGIN:VEVENT
DTSTART;TZID=America/New_York:20250112T113000
DTEND;TZID=America/New_York:20250112T130000
DTSTAMP:20260424T033330
CREATED:20241113T181438Z
LAST-MODIFIED:20250109T184622Z
UID:10015178-1736681400-1736686800@epworth.faith
SUMMARY:Emmaus Walk Meeting (Starnes Room)
DESCRIPTION:
URL:https://epworth.faith/event/emmaus-walk-meeting-baker-room/
LOCATION:Epworth United Methodist Church\, 19285 Holland Glade Road\, Rehoboth Beach\, DE\, 19971\, United States
CATEGORIES:Church,Groups
ORGANIZER;CN="Robin Duer":MAILTO:beachrobin12@aol.com
END:VEVENT
BEGIN:VEVENT
DTSTART;TZID=America/New_York:20241113T190000
DTEND;TZID=America/New_York:20241113T203000
DTSTAMP:20260424T033330
CREATED:20240509T210555Z
LAST-MODIFIED:20241003T202427Z
UID:10013461-1731524400-1731529800@epworth.faith
SUMMARY:Duer Small Group Book Study (Starnes Room)
DESCRIPTION:
URL:https://epworth.faith/event/duer-small-group-book-study-starnes-room/2024-11-13/
LOCATION:Epworth United Methodist Church\, 19285 Holland Glade Road\, Rehoboth Beach\, DE\, 19971\, United States
CATEGORIES:Church,Groups
ORGANIZER;CN="Robin Duer":MAILTO:beachrobin12@aol.com
END:VEVENT
END:VCALENDAR