BEGIN:VCALENDAR
VERSION:2.0
PRODID:-//Epworth UMC - ECPv6.15.20//NONSGML v1.0//EN
CALSCALE:GREGORIAN
METHOD:PUBLISH
X-WR-CALNAME:Epworth UMC
X-ORIGINAL-URL:https://epworth.faith
X-WR-CALDESC:Events for Epworth UMC
REFRESH-INTERVAL;VALUE=DURATION:PT1H
X-Robots-Tag:noindex
X-PUBLISHED-TTL:PT1H
BEGIN:VTIMEZONE
TZID:America/New_York
BEGIN:DAYLIGHT
TZOFFSETFROM:-0500
TZOFFSETTO:-0400
TZNAME:EDT
DTSTART:20220313T070000
END:DAYLIGHT
BEGIN:STANDARD
TZOFFSETFROM:-0400
TZOFFSETTO:-0500
TZNAME:EST
DTSTART:20221106T060000
END:STANDARD
BEGIN:DAYLIGHT
TZOFFSETFROM:-0500
TZOFFSETTO:-0400
TZNAME:EDT
DTSTART:20230312T070000
END:DAYLIGHT
BEGIN:STANDARD
TZOFFSETFROM:-0400
TZOFFSETTO:-0500
TZNAME:EST
DTSTART:20231105T060000
END:STANDARD
BEGIN:DAYLIGHT
TZOFFSETFROM:-0500
TZOFFSETTO:-0400
TZNAME:EDT
DTSTART:20240310T070000
END:DAYLIGHT
BEGIN:STANDARD
TZOFFSETFROM:-0400
TZOFFSETTO:-0500
TZNAME:EST
DTSTART:20241103T060000
END:STANDARD
BEGIN:DAYLIGHT
TZOFFSETFROM:-0500
TZOFFSETTO:-0400
TZNAME:EDT
DTSTART:20250309T070000
END:DAYLIGHT
BEGIN:STANDARD
TZOFFSETFROM:-0400
TZOFFSETTO:-0500
TZNAME:EST
DTSTART:20251102T060000
END:STANDARD
BEGIN:DAYLIGHT
TZOFFSETFROM:-0500
TZOFFSETTO:-0400
TZNAME:EDT
DTSTART:20260308T070000
END:DAYLIGHT
BEGIN:STANDARD
TZOFFSETFROM:-0400
TZOFFSETTO:-0500
TZNAME:EST
DTSTART:20261101T060000
END:STANDARD
END:VTIMEZONE
BEGIN:VEVENT
DTSTART;TZID=America/New_York:20250203T140000
DTEND;TZID=America/New_York:20250203T160000
DTSTAMP:20260423T180936
CREATED:20250115T191903Z
LAST-MODIFIED:20250115T191903Z
UID:10015388-1738591200-1738598400@epworth.faith
SUMMARY:SPRC Meeting (Baker Room)
DESCRIPTION:
URL:https://epworth.faith/event/sprc-meeting-baker-room-2/
LOCATION:Epworth United Methodist Church\, 19285 Holland Glade Road\, Rehoboth Beach\, DE\, 19971\, United States
CATEGORIES:Church,Groups
ORGANIZER;CN="Sandy Pierce":MAILTO:sfpierce01@gmail.com
END:VEVENT
BEGIN:VEVENT
DTSTART;TZID=America/New_York:20240604T180000
DTEND;TZID=America/New_York:20240604T200000
DTSTAMP:20260423T180936
CREATED:20230627T150627Z
LAST-MODIFIED:20230627T150627Z
UID:10008746-1717524000-1717531200@epworth.faith
SUMMARY:SPRC (Admin. Room & ZOOM)
DESCRIPTION:
URL:https://epworth.faith/event/sprc-admin-room-zoom/2024-06-04/
LOCATION:Epworth United Methodist Church\, 19285 Holland Glade Road\, Rehoboth Beach\, DE\, 19971\, United States
CATEGORIES:Groups
ORGANIZER;CN="Sandy Pierce":MAILTO:sfpierce01@gmail.com
END:VEVENT
BEGIN:VEVENT
DTSTART;TZID=America/New_York:20240507T180000
DTEND;TZID=America/New_York:20240507T200000
DTSTAMP:20260423T180936
CREATED:20230627T150627Z
LAST-MODIFIED:20230627T150627Z
UID:10008745-1715104800-1715112000@epworth.faith
SUMMARY:SPRC (Admin. Room & ZOOM)
DESCRIPTION:
URL:https://epworth.faith/event/sprc-admin-room-zoom/2024-05-07/
LOCATION:Epworth United Methodist Church\, 19285 Holland Glade Road\, Rehoboth Beach\, DE\, 19971\, United States
CATEGORIES:Groups
ORGANIZER;CN="Sandy Pierce":MAILTO:sfpierce01@gmail.com
END:VEVENT
BEGIN:VEVENT
DTSTART;TZID=America/New_York:20240402T180000
DTEND;TZID=America/New_York:20240402T200000
DTSTAMP:20260423T180936
CREATED:20230627T150627Z
LAST-MODIFIED:20230627T150627Z
UID:10008744-1712080800-1712088000@epworth.faith
SUMMARY:SPRC (Admin. Room & ZOOM)
DESCRIPTION:
URL:https://epworth.faith/event/sprc-admin-room-zoom/2024-04-02/
LOCATION:Epworth United Methodist Church\, 19285 Holland Glade Road\, Rehoboth Beach\, DE\, 19971\, United States
CATEGORIES:Groups
ORGANIZER;CN="Sandy Pierce":MAILTO:sfpierce01@gmail.com
END:VEVENT
BEGIN:VEVENT
DTSTART;TZID=America/New_York:20240305T180000
DTEND;TZID=America/New_York:20240305T200000
DTSTAMP:20260423T180936
CREATED:20230627T150627Z
LAST-MODIFIED:20230627T150627Z
UID:10008743-1709661600-1709668800@epworth.faith
SUMMARY:SPRC (Admin. Room & ZOOM)
DESCRIPTION:
URL:https://epworth.faith/event/sprc-admin-room-zoom/2024-03-05/
LOCATION:Epworth United Methodist Church\, 19285 Holland Glade Road\, Rehoboth Beach\, DE\, 19971\, United States
CATEGORIES:Groups
ORGANIZER;CN="Sandy Pierce":MAILTO:sfpierce01@gmail.com
END:VEVENT
BEGIN:VEVENT
DTSTART;TZID=America/New_York:20240206T180000
DTEND;TZID=America/New_York:20240206T200000
DTSTAMP:20260423T180936
CREATED:20230627T150627Z
LAST-MODIFIED:20230627T150627Z
UID:10008742-1707242400-1707249600@epworth.faith
SUMMARY:SPRC (Admin. Room & ZOOM)
DESCRIPTION:
URL:https://epworth.faith/event/sprc-admin-room-zoom/2024-02-06/
LOCATION:Epworth United Methodist Church\, 19285 Holland Glade Road\, Rehoboth Beach\, DE\, 19971\, United States
CATEGORIES:Groups
ORGANIZER;CN="Sandy Pierce":MAILTO:sfpierce01@gmail.com
END:VEVENT
BEGIN:VEVENT
DTSTART;TZID=America/New_York:20240102T180000
DTEND;TZID=America/New_York:20240102T200000
DTSTAMP:20260423T180936
CREATED:20230627T150627Z
LAST-MODIFIED:20230627T150627Z
UID:10008741-1704218400-1704225600@epworth.faith
SUMMARY:SPRC (Admin. Room & ZOOM)
DESCRIPTION:
URL:https://epworth.faith/event/sprc-admin-room-zoom/2024-01-02/
LOCATION:Epworth United Methodist Church\, 19285 Holland Glade Road\, Rehoboth Beach\, DE\, 19971\, United States
CATEGORIES:Groups
ORGANIZER;CN="Sandy Pierce":MAILTO:sfpierce01@gmail.com
END:VEVENT
BEGIN:VEVENT
DTSTART;TZID=America/New_York:20231205T180000
DTEND;TZID=America/New_York:20231205T200000
DTSTAMP:20260423T180936
CREATED:20230627T150627Z
LAST-MODIFIED:20230627T150627Z
UID:10008740-1701799200-1701806400@epworth.faith
SUMMARY:SPRC (Admin. Room & ZOOM)
DESCRIPTION:
URL:https://epworth.faith/event/sprc-admin-room-zoom/2023-12-05/
LOCATION:Epworth United Methodist Church\, 19285 Holland Glade Road\, Rehoboth Beach\, DE\, 19971\, United States
CATEGORIES:Groups
ORGANIZER;CN="Sandy Pierce":MAILTO:sfpierce01@gmail.com
END:VEVENT
BEGIN:VEVENT
DTSTART;TZID=America/New_York:20231129T093000
DTEND;TZID=America/New_York:20231129T150000
DTSTAMP:20260423T180936
CREATED:20231127T163508Z
LAST-MODIFIED:20231127T163508Z
UID:10011107-1701250200-1701270000@epworth.faith
SUMMARY:SPRC (Baker Lounge)
DESCRIPTION:
URL:https://epworth.faith/event/sprc-baker-lounge-2/
LOCATION:Epworth United Methodist Church\, 19285 Holland Glade Road\, Rehoboth Beach\, DE\, 19971\, United States
CATEGORIES:Church,Staff
ORGANIZER;CN="Sandy Pierce":MAILTO:sfpierce01@gmail.com
END:VEVENT
BEGIN:VEVENT
DTSTART;TZID=America/New_York:20231128T150000
DTEND;TZID=America/New_York:20231128T170000
DTSTAMP:20260423T180936
CREATED:20231127T162806Z
LAST-MODIFIED:20231127T162806Z
UID:10011106-1701183600-1701190800@epworth.faith
SUMMARY:SPRC (Starnes Room)
DESCRIPTION:
URL:https://epworth.faith/event/sprc-starnes-room/
LOCATION:Epworth United Methodist Church\, 19285 Holland Glade Road\, Rehoboth Beach\, DE\, 19971\, United States
CATEGORIES:Church,Staff
ORGANIZER;CN="Sandy Pierce":MAILTO:sfpierce01@gmail.com
END:VEVENT
BEGIN:VEVENT
DTSTART;TZID=America/New_York:20231107T180000
DTEND;TZID=America/New_York:20231107T200000
DTSTAMP:20260423T180936
CREATED:20230627T150627Z
LAST-MODIFIED:20230627T150627Z
UID:10008739-1699380000-1699387200@epworth.faith
SUMMARY:SPRC (Admin. Room & ZOOM)
DESCRIPTION:
URL:https://epworth.faith/event/sprc-admin-room-zoom/2023-11-07/
LOCATION:Epworth United Methodist Church\, 19285 Holland Glade Road\, Rehoboth Beach\, DE\, 19971\, United States
CATEGORIES:Groups
ORGANIZER;CN="Sandy Pierce":MAILTO:sfpierce01@gmail.com
END:VEVENT
BEGIN:VEVENT
DTSTART;TZID=America/New_York:20231009T140000
DTEND;TZID=America/New_York:20231009T150000
DTSTAMP:20260423T180936
CREATED:20231009T152217Z
LAST-MODIFIED:20231009T152217Z
UID:10009431-1696860000-1696863600@epworth.faith
SUMMARY:SPRC (Administrative Conference Room)
DESCRIPTION:
URL:https://epworth.faith/event/sprc-administrative-conference-room/
LOCATION:Epworth United Methodist Church\, 19285 Holland Glade Road\, Rehoboth Beach\, DE\, 19971\, United States
ORGANIZER;CN="Sandy Pierce":MAILTO:sfpierce01@gmail.com
END:VEVENT
BEGIN:VEVENT
DTSTART;TZID=America/New_York:20231003T180000
DTEND;TZID=America/New_York:20231003T200000
DTSTAMP:20260423T180936
CREATED:20230627T150627Z
LAST-MODIFIED:20230627T150627Z
UID:10008738-1696356000-1696363200@epworth.faith
SUMMARY:SPRC (Admin. Room & ZOOM)
DESCRIPTION:
URL:https://epworth.faith/event/sprc-admin-room-zoom/2023-10-03/
LOCATION:Epworth United Methodist Church\, 19285 Holland Glade Road\, Rehoboth Beach\, DE\, 19971\, United States
CATEGORIES:Groups
ORGANIZER;CN="Sandy Pierce":MAILTO:sfpierce01@gmail.com
END:VEVENT
BEGIN:VEVENT
DTSTART;TZID=America/New_York:20230905T180000
DTEND;TZID=America/New_York:20230905T200000
DTSTAMP:20260423T180936
CREATED:20230627T150627Z
LAST-MODIFIED:20230627T150627Z
UID:10008737-1693936800-1693944000@epworth.faith
SUMMARY:SPRC (Admin. Room & ZOOM)
DESCRIPTION:
URL:https://epworth.faith/event/sprc-admin-room-zoom/2023-09-05/
LOCATION:Epworth United Methodist Church\, 19285 Holland Glade Road\, Rehoboth Beach\, DE\, 19971\, United States
CATEGORIES:Groups
ORGANIZER;CN="Sandy Pierce":MAILTO:sfpierce01@gmail.com
END:VEVENT
BEGIN:VEVENT
DTSTART;TZID=America/New_York:20230801T180000
DTEND;TZID=America/New_York:20230801T200000
DTSTAMP:20260423T180936
CREATED:20230627T150627Z
LAST-MODIFIED:20230627T150627Z
UID:10008736-1690912800-1690920000@epworth.faith
SUMMARY:SPRC (Admin. Room & ZOOM)
DESCRIPTION:
URL:https://epworth.faith/event/sprc-admin-room-zoom/2023-08-01/
LOCATION:Epworth United Methodist Church\, 19285 Holland Glade Road\, Rehoboth Beach\, DE\, 19971\, United States
CATEGORIES:Groups
ORGANIZER;CN="Sandy Pierce":MAILTO:sfpierce01@gmail.com
END:VEVENT
BEGIN:VEVENT
DTSTART;TZID=America/New_York:20230801T160000
DTEND;TZID=America/New_York:20230801T180000
DTSTAMP:20260423T180936
CREATED:20230726T152140Z
LAST-MODIFIED:20230726T152141Z
UID:10008660-1690905600-1690912800@epworth.faith
SUMMARY:SPRC (Zoom Meeting)
DESCRIPTION:
URL:https://epworth.faith/event/sprc-zoom-meeting-2/
LOCATION:Epworth United Methodist Church\, 19285 Holland Glade Road\, Rehoboth Beach\, DE\, 19971\, United States
CATEGORIES:Groups
ORGANIZER;CN="Sandy Pierce":MAILTO:sfpierce01@gmail.com
END:VEVENT
BEGIN:VEVENT
DTSTART;TZID=America/New_York:20230717T103000
DTEND;TZID=America/New_York:20230717T113000
DTSTAMP:20260423T180936
CREATED:20230712T201336Z
LAST-MODIFIED:20230712T201336Z
UID:10008823-1689589800-1689593400@epworth.faith
SUMMARY:SPRC (Baker Lounge)
DESCRIPTION:
URL:https://epworth.faith/event/sprc-baker-lounge/
LOCATION:Epworth United Methodist Church\, 19285 Holland Glade Road\, Rehoboth Beach\, DE\, 19971\, United States
CATEGORIES:Groups
ORGANIZER;CN="Sandy Pierce":MAILTO:sfpierce01@gmail.com
END:VEVENT
BEGIN:VEVENT
DTSTART;TZID=America/New_York:20230618T110000
DTEND;TZID=America/New_York:20230618T130000
DTSTAMP:20260423T180936
CREATED:20230605T193301Z
LAST-MODIFIED:20230605T193301Z
UID:10008709-1687086000-1687093200@epworth.faith
SUMMARY:Ministers Celebration (Fellowship Hall)
DESCRIPTION:
URL:https://epworth.faith/event/ministers-celebration-fellowship-hall/
LOCATION:Epworth United Methodist Church\, 19285 Holland Glade Road\, Rehoboth Beach\, DE\, 19971\, United States
CATEGORIES:Groups
ORGANIZER;CN="Sandy Pierce":MAILTO:sfpierce01@gmail.com
END:VEVENT
END:VCALENDAR