BEGIN:VCALENDAR
VERSION:2.0
PRODID:-//Epworth UMC - ECPv6.15.20//NONSGML v1.0//EN
CALSCALE:GREGORIAN
METHOD:PUBLISH
X-ORIGINAL-URL:https://epworth.faith
X-WR-CALDESC:Events for Epworth UMC
REFRESH-INTERVAL;VALUE=DURATION:PT1H
X-Robots-Tag:noindex
X-PUBLISHED-TTL:PT1H
BEGIN:VTIMEZONE
TZID:America/New_York
BEGIN:DAYLIGHT
TZOFFSETFROM:-0500
TZOFFSETTO:-0400
TZNAME:EDT
DTSTART:20200308T070000
END:DAYLIGHT
BEGIN:STANDARD
TZOFFSETFROM:-0400
TZOFFSETTO:-0500
TZNAME:EST
DTSTART:20201101T060000
END:STANDARD
BEGIN:DAYLIGHT
TZOFFSETFROM:-0500
TZOFFSETTO:-0400
TZNAME:EDT
DTSTART:20210314T070000
END:DAYLIGHT
BEGIN:STANDARD
TZOFFSETFROM:-0400
TZOFFSETTO:-0500
TZNAME:EST
DTSTART:20211107T060000
END:STANDARD
BEGIN:DAYLIGHT
TZOFFSETFROM:-0500
TZOFFSETTO:-0400
TZNAME:EDT
DTSTART:20220313T070000
END:DAYLIGHT
BEGIN:STANDARD
TZOFFSETFROM:-0400
TZOFFSETTO:-0500
TZNAME:EST
DTSTART:20221106T060000
END:STANDARD
BEGIN:DAYLIGHT
TZOFFSETFROM:-0500
TZOFFSETTO:-0400
TZNAME:EDT
DTSTART:20230312T070000
END:DAYLIGHT
BEGIN:STANDARD
TZOFFSETFROM:-0400
TZOFFSETTO:-0500
TZNAME:EST
DTSTART:20231105T060000
END:STANDARD
END:VTIMEZONE
BEGIN:VEVENT
DTSTART;TZID=America/New_York:20221219T190000
DTEND;TZID=America/New_York:20221219T203000
DTSTAMP:20260424T045245
CREATED:20220915T144626Z
LAST-MODIFIED:20220915T144626Z
UID:10006869-1671476400-1671481800@epworth.faith
SUMMARY:Sussex Tech High School Concert (Sanctuary & Fellowship Hall)
DESCRIPTION:
URL:https://epworth.faith/event/sussex-tech-high-school-concert-sanctuary-fellowship-hall/
LOCATION:Epworth United Methodist Church\, 19285 Holland Glade Road\, Rehoboth Beach\, DE\, 19971\, United States
CATEGORIES:Concerts
ORGANIZER;CN="Sarah Rose":MAILTO:Sarah.Rose@sussexvt.k12.de.us
END:VEVENT
BEGIN:VEVENT
DTSTART;TZID=America/New_York:20221215T113000
DTEND;TZID=America/New_York:20221215T143000
DTSTAMP:20260424T045245
CREATED:20220915T144337Z
LAST-MODIFIED:20220915T144337Z
UID:10006868-1671103800-1671114600@epworth.faith
SUMMARY:Sussex Tech High School Rehearsal (Sanctuary & Fellowship Hall)
DESCRIPTION:
URL:https://epworth.faith/event/sussex-tech-high-school-rehearsal-sanctuary-fellowship-hall/
LOCATION:Epworth United Methodist Church\, 19285 Holland Glade Road\, Rehoboth Beach\, DE\, 19971\, United States
CATEGORIES:Concerts
ORGANIZER;CN="Sarah Rose":MAILTO:Sarah.Rose@sussexvt.k12.de.us
END:VEVENT
BEGIN:VEVENT
DTSTART;TZID=America/New_York:20220523T190000
DTEND;TZID=America/New_York:20220523T210000
DTSTAMP:20260424T045245
CREATED:20220208T164654Z
LAST-MODIFIED:20220208T164654Z
UID:10005934-1653332400-1653339600@epworth.faith
SUMMARY:Sussex Tech H.S. Concert (Sanctuary and FH)
DESCRIPTION:Sussex Tech High School will be having their Spring Concert in our Sanctuary tonight
URL:https://epworth.faith/event/sussex-tech-h-s-concert-sanctuary-and-fh/
LOCATION:Epworth United Methodist Church\, 19285 Holland Glade Road\, Rehoboth Beach\, DE\, 19971\, United States
CATEGORIES:Concerts
ORGANIZER;CN="Sarah Rose":MAILTO:Sarah.Rose@sussexvt.k12.de.us
END:VEVENT
BEGIN:VEVENT
DTSTART;TZID=America/New_York:20220519T130000
DTEND;TZID=America/New_York:20220519T170000
DTSTAMP:20260424T045245
CREATED:20220208T164803Z
LAST-MODIFIED:20220208T164803Z
UID:10005937-1652965200-1652979600@epworth.faith
SUMMARY:Sussex Tech H.S. Rehearsal (Sanctuary & F.H.)
DESCRIPTION:
URL:https://epworth.faith/event/sussex-tech-h-s-rehearsal-sanctuary-f-h/
LOCATION:Epworth United Methodist Church\, 19285 Holland Glade Road\, Rehoboth Beach\, DE\, 19971\, United States
CATEGORIES:Concerts
ORGANIZER;CN="Sarah Rose":MAILTO:Sarah.Rose@sussexvt.k12.de.us
END:VEVENT
BEGIN:VEVENT
DTSTART;TZID=America/New_York:20211213T190000
DTEND;TZID=America/New_York:20211213T210000
DTSTAMP:20260424T045245
CREATED:20211007T192614Z
LAST-MODIFIED:20211210T183202Z
UID:10004980-1639422000-1639429200@epworth.faith
SUMMARY:Sussex Technical High School Winter Concert
DESCRIPTION:Sussex Technical High School invites the public to attend its annual Winter Concert at 7 p.m. on Monday\, December 13\, at Epworth United Methodist Church\, 19285 Holland Glade Road\, Rehoboth Beach. The concert is free and open to the public. \nUnder the direction of Sussex Tech vocal instructor Sarah Rose\, performing will be the high school’s concert choir; the women’s group Bella Voce; and the Chamber ensemble. Joining the Tech students will be the guest quartet VOCE. \nConcert will be livestreamed.
URL:https://epworth.faith/event/sussex-tech-h-s-concert/
LOCATION:Epworth United Methodist Church\, 19285 Holland Glade Road\, Rehoboth Beach\, DE\, 19971\, United States
ATTACH;FMTTYPE=image/png:https://epworth.faith/wp-content/uploads/2021/10/211213-Concert.png
ORGANIZER;CN="Sarah Rose":MAILTO:Sarah.Rose@sussexvt.k12.de.us
END:VEVENT
BEGIN:VEVENT
DTSTART;TZID=America/New_York:20211209T130000
DTEND;TZID=America/New_York:20211209T170000
DTSTAMP:20260424T045245
CREATED:20211007T191859Z
LAST-MODIFIED:20211007T191936Z
UID:10004965-1639054800-1639069200@epworth.faith
SUMMARY:Concert Rehearsal
DESCRIPTION:Sussex Tech High School will be having their concert rehearsal in our Sanctuary
URL:https://epworth.faith/event/concert-rehearsal-2/
LOCATION:Epworth United Methodist Church\, 19285 Holland Glade Road\, Rehoboth Beach\, DE\, 19971\, United States
CATEGORIES:Concerts
ORGANIZER;CN="Sarah Rose":MAILTO:Sarah.Rose@sussexvt.k12.de.us
END:VEVENT
END:VCALENDAR