BEGIN:VCALENDAR
VERSION:2.0
PRODID:-//Epworth UMC - ECPv6.15.20//NONSGML v1.0//EN
CALSCALE:GREGORIAN
METHOD:PUBLISH
X-WR-CALNAME:Epworth UMC
X-ORIGINAL-URL:https://epworth.faith
X-WR-CALDESC:Events for Epworth UMC
REFRESH-INTERVAL;VALUE=DURATION:PT1H
X-Robots-Tag:noindex
X-PUBLISHED-TTL:PT1H
BEGIN:VTIMEZONE
TZID:America/New_York
BEGIN:DAYLIGHT
TZOFFSETFROM:-0500
TZOFFSETTO:-0400
TZNAME:EDT
DTSTART:20210314T070000
END:DAYLIGHT
BEGIN:STANDARD
TZOFFSETFROM:-0400
TZOFFSETTO:-0500
TZNAME:EST
DTSTART:20211107T060000
END:STANDARD
BEGIN:DAYLIGHT
TZOFFSETFROM:-0500
TZOFFSETTO:-0400
TZNAME:EDT
DTSTART:20220313T070000
END:DAYLIGHT
BEGIN:STANDARD
TZOFFSETFROM:-0400
TZOFFSETTO:-0500
TZNAME:EST
DTSTART:20221106T060000
END:STANDARD
BEGIN:DAYLIGHT
TZOFFSETFROM:-0500
TZOFFSETTO:-0400
TZNAME:EDT
DTSTART:20230312T070000
END:DAYLIGHT
BEGIN:STANDARD
TZOFFSETFROM:-0400
TZOFFSETTO:-0500
TZNAME:EST
DTSTART:20231105T060000
END:STANDARD
BEGIN:DAYLIGHT
TZOFFSETFROM:-0500
TZOFFSETTO:-0400
TZNAME:EDT
DTSTART:20240310T070000
END:DAYLIGHT
BEGIN:STANDARD
TZOFFSETFROM:-0400
TZOFFSETTO:-0500
TZNAME:EST
DTSTART:20241103T060000
END:STANDARD
BEGIN:DAYLIGHT
TZOFFSETFROM:-0500
TZOFFSETTO:-0400
TZNAME:EDT
DTSTART:20250309T070000
END:DAYLIGHT
BEGIN:STANDARD
TZOFFSETFROM:-0400
TZOFFSETTO:-0500
TZNAME:EST
DTSTART:20251102T060000
END:STANDARD
BEGIN:DAYLIGHT
TZOFFSETFROM:-0500
TZOFFSETTO:-0400
TZNAME:EDT
DTSTART:20260308T070000
END:DAYLIGHT
BEGIN:STANDARD
TZOFFSETFROM:-0400
TZOFFSETTO:-0500
TZNAME:EST
DTSTART:20261101T060000
END:STANDARD
END:VTIMEZONE
BEGIN:VEVENT
DTSTART;TZID=America/New_York:20250813T190000
DTEND;TZID=America/New_York:20250813T203000
DTSTAMP:20260425T114525
CREATED:20250619T123546Z
LAST-MODIFIED:20250624T150645Z
UID:10016827-1755111600-1755117000@epworth.faith
SUMMARY:Celtic to Classical Concert (Sanctuary)
DESCRIPTION:
URL:https://epworth.faith/event/celtic-to-classical-concert-sanctuary-concert-time-730pm/
LOCATION:Epworth United Methodist Church\, 19285 Holland Glade Road\, Rehoboth Beach\, DE\, 19971\, United States
CATEGORIES:Church,Concerts,Facility Rentals
ORGANIZER;CN="Sheridan Seyfried":MAILTO:sheridan.seyfried@gmail.com
END:VEVENT
BEGIN:VEVENT
DTSTART;TZID=America/New_York:20240821T193000
DTEND;TZID=America/New_York:20240821T210000
DTSTAMP:20260425T114525
CREATED:20240520T131154Z
LAST-MODIFIED:20240813T150326Z
UID:10013518-1724268600-1724274000@epworth.faith
SUMMARY:Celtic to Classical Concert (Sanctuary)
DESCRIPTION:Concert information
URL:https://epworth.faith/event/celtic-to-classical-concert-sanctuary-2/
LOCATION:Epworth United Methodist Church\, 19285 Holland Glade Road\, Rehoboth Beach\, DE\, 19971\, United States
CATEGORIES:Church,Concerts,Facility Rentals
ORGANIZER;CN="Sheridan Seyfried":MAILTO:sheridan.seyfried@gmail.com
END:VEVENT
BEGIN:VEVENT
DTSTART;TZID=America/New_York:20230809T193000
DTEND;TZID=America/New_York:20230809T210000
DTSTAMP:20260425T114525
CREATED:20230419T160935Z
LAST-MODIFIED:20230419T160935Z
UID:10008570-1691609400-1691614800@epworth.faith
SUMMARY:Sheridan Seyfried Concert (Sanctuary)
DESCRIPTION:
URL:https://epworth.faith/event/sheridan-seyfried-concert-sanctuary/
LOCATION:Epworth United Methodist Church\, 19285 Holland Glade Road\, Rehoboth Beach\, DE\, 19971\, United States
CATEGORIES:Concerts
ORGANIZER;CN="Sheridan Seyfried":MAILTO:sheridan.seyfried@gmail.com
END:VEVENT
BEGIN:VEVENT
DTSTART;TZID=America/New_York:20230809T100000
DTEND;TZID=America/New_York:20230809T140000
DTSTAMP:20260425T114525
CREATED:20230419T161506Z
LAST-MODIFIED:20230419T161506Z
UID:10008571-1691575200-1691589600@epworth.faith
SUMMARY:Seyfried Concert Rehearsal (Sanctuary)
DESCRIPTION:
URL:https://epworth.faith/event/seyfried-concert-rehearsal-sanctuary/
LOCATION:Epworth United Methodist Church\, 19285 Holland Glade Road\, Rehoboth Beach\, DE\, 19971\, United States
CATEGORIES:Concerts
ORGANIZER;CN="Sheridan Seyfried":MAILTO:sheridan.seyfried@gmail.com
END:VEVENT
BEGIN:VEVENT
DTSTART;TZID=America/New_York:20230808T100000
DTEND;TZID=America/New_York:20230808T150000
DTSTAMP:20260425T114525
CREATED:20230705T140905Z
LAST-MODIFIED:20230705T140905Z
UID:10008796-1691488800-1691506800@epworth.faith
SUMMARY:Seyfried Concert Rehearsal (Sanctuary)
DESCRIPTION:
URL:https://epworth.faith/event/seyfried-concert-rehearsal-sanctuary-3/
LOCATION:Epworth United Methodist Church\, 19285 Holland Glade Road\, Rehoboth Beach\, DE\, 19971\, United States
CATEGORIES:Concerts
ORGANIZER;CN="Sheridan Seyfried":MAILTO:sheridan.seyfried@gmail.com
END:VEVENT
BEGIN:VEVENT
DTSTART;TZID=America/New_York:20230807T100000
DTEND;TZID=America/New_York:20230807T210000
DTSTAMP:20260425T114525
CREATED:20230705T140820Z
LAST-MODIFIED:20230705T140820Z
UID:10008795-1691402400-1691442000@epworth.faith
SUMMARY:Seyfried Concert Rehearsal (Sanctuary)
DESCRIPTION:
URL:https://epworth.faith/event/seyfried-concert-rehearsal-sanctuary-2/
LOCATION:Epworth United Methodist Church\, 19285 Holland Glade Road\, Rehoboth Beach\, DE\, 19971\, United States
CATEGORIES:Concerts
ORGANIZER;CN="Sheridan Seyfried":MAILTO:sheridan.seyfried@gmail.com
END:VEVENT
BEGIN:VEVENT
DTSTART;TZID=America/New_York:20220810T193000
DTEND;TZID=America/New_York:20220810T213000
DTSTAMP:20260425T114525
CREATED:20220623T143303Z
LAST-MODIFIED:20220623T143303Z
UID:10006792-1660159800-1660167000@epworth.faith
SUMMARY:Celtic to Classical Concert (Sanctuary)
DESCRIPTION:
URL:https://epworth.faith/event/celtic-to-classical-concert-sanctuary/
LOCATION:Epworth United Methodist Church\, 19285 Holland Glade Road\, Rehoboth Beach\, DE\, 19971\, United States
CATEGORIES:Concerts
ORGANIZER;CN="Sheridan Seyfried":MAILTO:sheridan.seyfried@gmail.com
END:VEVENT
END:VCALENDAR