BEGIN:VCALENDAR
VERSION:2.0
PRODID:-//Epworth UMC - ECPv6.15.20//NONSGML v1.0//EN
CALSCALE:GREGORIAN
METHOD:PUBLISH
X-WR-CALNAME:Epworth UMC
X-ORIGINAL-URL:https://epworth.faith
X-WR-CALDESC:Events for Epworth UMC
REFRESH-INTERVAL;VALUE=DURATION:PT1H
X-Robots-Tag:noindex
X-PUBLISHED-TTL:PT1H
BEGIN:VTIMEZONE
TZID:America/New_York
BEGIN:DAYLIGHT
TZOFFSETFROM:-0500
TZOFFSETTO:-0400
TZNAME:EDT
DTSTART:20290311T070000
END:DAYLIGHT
BEGIN:STANDARD
TZOFFSETFROM:-0400
TZOFFSETTO:-0500
TZNAME:EST
DTSTART:20291104T060000
END:STANDARD
BEGIN:DAYLIGHT
TZOFFSETFROM:-0500
TZOFFSETTO:-0400
TZNAME:EDT
DTSTART:20300310T070000
END:DAYLIGHT
BEGIN:STANDARD
TZOFFSETFROM:-0400
TZOFFSETTO:-0500
TZNAME:EST
DTSTART:20301103T060000
END:STANDARD
BEGIN:DAYLIGHT
TZOFFSETFROM:-0500
TZOFFSETTO:-0400
TZNAME:EDT
DTSTART:20310309T070000
END:DAYLIGHT
BEGIN:STANDARD
TZOFFSETFROM:-0400
TZOFFSETTO:-0500
TZNAME:EST
DTSTART:20311102T060000
END:STANDARD
BEGIN:DAYLIGHT
TZOFFSETFROM:-0500
TZOFFSETTO:-0400
TZNAME:EDT
DTSTART:20320314T070000
END:DAYLIGHT
BEGIN:STANDARD
TZOFFSETFROM:-0400
TZOFFSETTO:-0500
TZNAME:EST
DTSTART:20321107T060000
END:STANDARD
END:VTIMEZONE
BEGIN:VEVENT
DTSTART;TZID=America/New_York:20300522T133000
DTEND;TZID=America/New_York:20300522T153000
DTSTAMP:20260424T104752
CREATED:20260226T161400Z
LAST-MODIFIED:20260226T161400Z
UID:10021748-1905687000-1905694200@epworth.faith
SUMMARY:Parkinson's Group Meeting/Activity (Branford Lounge)
DESCRIPTION:
URL:https://epworth.faith/event/parkinsons-group-meeting-activity-branford-lounge/2030-05-22/
LOCATION:Epworth United Methodist Church\, 19285 Holland Glade Road\, Rehoboth Beach\, DE\, 19971\, United States
CATEGORIES:Church,Groups
END:VEVENT
BEGIN:VEVENT
DTSTART;TZID=America/New_York:20300626T133000
DTEND;TZID=America/New_York:20300626T153000
DTSTAMP:20260424T104752
CREATED:20260226T161400Z
LAST-MODIFIED:20260226T161400Z
UID:10021749-1908711000-1908718200@epworth.faith
SUMMARY:Parkinson's Group Meeting/Activity (Branford Lounge)
DESCRIPTION:
URL:https://epworth.faith/event/parkinsons-group-meeting-activity-branford-lounge/2030-06-26/
LOCATION:Epworth United Methodist Church\, 19285 Holland Glade Road\, Rehoboth Beach\, DE\, 19971\, United States
CATEGORIES:Church,Groups
END:VEVENT
BEGIN:VEVENT
DTSTART;TZID=America/New_York:20300724T133000
DTEND;TZID=America/New_York:20300724T153000
DTSTAMP:20260424T104752
CREATED:20260226T161400Z
LAST-MODIFIED:20260226T161400Z
UID:10021750-1911130200-1911137400@epworth.faith
SUMMARY:Parkinson's Group Meeting/Activity (Branford Lounge)
DESCRIPTION:
URL:https://epworth.faith/event/parkinsons-group-meeting-activity-branford-lounge/2030-07-24/
LOCATION:Epworth United Methodist Church\, 19285 Holland Glade Road\, Rehoboth Beach\, DE\, 19971\, United States
CATEGORIES:Church,Groups
END:VEVENT
BEGIN:VEVENT
DTSTART;TZID=America/New_York:20300828T133000
DTEND;TZID=America/New_York:20300828T153000
DTSTAMP:20260424T104752
CREATED:20260226T161400Z
LAST-MODIFIED:20260226T161400Z
UID:10021751-1914154200-1914161400@epworth.faith
SUMMARY:Parkinson's Group Meeting/Activity (Branford Lounge)
DESCRIPTION:
URL:https://epworth.faith/event/parkinsons-group-meeting-activity-branford-lounge/2030-08-28/
LOCATION:Epworth United Methodist Church\, 19285 Holland Glade Road\, Rehoboth Beach\, DE\, 19971\, United States
CATEGORIES:Church,Groups
END:VEVENT
BEGIN:VEVENT
DTSTART;TZID=America/New_York:20300925T133000
DTEND;TZID=America/New_York:20300925T153000
DTSTAMP:20260424T104752
CREATED:20260226T161400Z
LAST-MODIFIED:20260226T161400Z
UID:10021752-1916573400-1916580600@epworth.faith
SUMMARY:Parkinson's Group Meeting/Activity (Branford Lounge)
DESCRIPTION:
URL:https://epworth.faith/event/parkinsons-group-meeting-activity-branford-lounge/2030-09-25/
LOCATION:Epworth United Methodist Church\, 19285 Holland Glade Road\, Rehoboth Beach\, DE\, 19971\, United States
CATEGORIES:Church,Groups
END:VEVENT
BEGIN:VEVENT
DTSTART;TZID=America/New_York:20301023T133000
DTEND;TZID=America/New_York:20301023T153000
DTSTAMP:20260424T104752
CREATED:20260226T161400Z
LAST-MODIFIED:20260226T161400Z
UID:10021753-1918992600-1918999800@epworth.faith
SUMMARY:Parkinson's Group Meeting/Activity (Branford Lounge)
DESCRIPTION:
URL:https://epworth.faith/event/parkinsons-group-meeting-activity-branford-lounge/2030-10-23/
LOCATION:Epworth United Methodist Church\, 19285 Holland Glade Road\, Rehoboth Beach\, DE\, 19971\, United States
CATEGORIES:Church,Groups
END:VEVENT
BEGIN:VEVENT
DTSTART;TZID=America/New_York:20301127T133000
DTEND;TZID=America/New_York:20301127T153000
DTSTAMP:20260424T104752
CREATED:20260226T161400Z
LAST-MODIFIED:20260226T161400Z
UID:10021754-1922016600-1922023800@epworth.faith
SUMMARY:Parkinson's Group Meeting/Activity (Branford Lounge)
DESCRIPTION:
URL:https://epworth.faith/event/parkinsons-group-meeting-activity-branford-lounge/2030-11-27/
LOCATION:Epworth United Methodist Church\, 19285 Holland Glade Road\, Rehoboth Beach\, DE\, 19971\, United States
CATEGORIES:Church,Groups
END:VEVENT
BEGIN:VEVENT
DTSTART;TZID=America/New_York:20301225T133000
DTEND;TZID=America/New_York:20301225T153000
DTSTAMP:20260424T104752
CREATED:20260226T161400Z
LAST-MODIFIED:20260226T161400Z
UID:10021755-1924435800-1924443000@epworth.faith
SUMMARY:Parkinson's Group Meeting/Activity (Branford Lounge)
DESCRIPTION:
URL:https://epworth.faith/event/parkinsons-group-meeting-activity-branford-lounge/2030-12-25/
LOCATION:Epworth United Methodist Church\, 19285 Holland Glade Road\, Rehoboth Beach\, DE\, 19971\, United States
CATEGORIES:Church,Groups
END:VEVENT
BEGIN:VEVENT
DTSTART;TZID=America/New_York:20310122T133000
DTEND;TZID=America/New_York:20310122T153000
DTSTAMP:20260424T104752
CREATED:20260226T161400Z
LAST-MODIFIED:20260226T161400Z
UID:10021756-1926855000-1926862200@epworth.faith
SUMMARY:Parkinson's Group Meeting/Activity (Branford Lounge)
DESCRIPTION:
URL:https://epworth.faith/event/parkinsons-group-meeting-activity-branford-lounge/2031-01-22/
LOCATION:Epworth United Methodist Church\, 19285 Holland Glade Road\, Rehoboth Beach\, DE\, 19971\, United States
CATEGORIES:Church,Groups
END:VEVENT
BEGIN:VEVENT
DTSTART;TZID=America/New_York:20310226T133000
DTEND;TZID=America/New_York:20310226T153000
DTSTAMP:20260424T104752
CREATED:20260226T161400Z
LAST-MODIFIED:20260226T161400Z
UID:10021757-1929879000-1929886200@epworth.faith
SUMMARY:Parkinson's Group Meeting/Activity (Branford Lounge)
DESCRIPTION:
URL:https://epworth.faith/event/parkinsons-group-meeting-activity-branford-lounge/2031-02-26/
LOCATION:Epworth United Methodist Church\, 19285 Holland Glade Road\, Rehoboth Beach\, DE\, 19971\, United States
CATEGORIES:Church,Groups
END:VEVENT
END:VCALENDAR