BEGIN:VCALENDAR
VERSION:2.0
PRODID:-//Epworth UMC - ECPv6.15.20//NONSGML v1.0//EN
CALSCALE:GREGORIAN
METHOD:PUBLISH
X-ORIGINAL-URL:https://epworth.faith
X-WR-CALDESC:Events for Epworth UMC
REFRESH-INTERVAL;VALUE=DURATION:PT1H
X-Robots-Tag:noindex
X-PUBLISHED-TTL:PT1H
BEGIN:VTIMEZONE
TZID:America/New_York
BEGIN:DAYLIGHT
TZOFFSETFROM:-0500
TZOFFSETTO:-0400
TZNAME:EDT
DTSTART:20230312T070000
END:DAYLIGHT
BEGIN:STANDARD
TZOFFSETFROM:-0400
TZOFFSETTO:-0500
TZNAME:EST
DTSTART:20231105T060000
END:STANDARD
BEGIN:DAYLIGHT
TZOFFSETFROM:-0500
TZOFFSETTO:-0400
TZNAME:EDT
DTSTART:20240310T070000
END:DAYLIGHT
BEGIN:STANDARD
TZOFFSETFROM:-0400
TZOFFSETTO:-0500
TZNAME:EST
DTSTART:20241103T060000
END:STANDARD
BEGIN:DAYLIGHT
TZOFFSETFROM:-0500
TZOFFSETTO:-0400
TZNAME:EDT
DTSTART:20250309T070000
END:DAYLIGHT
BEGIN:STANDARD
TZOFFSETFROM:-0400
TZOFFSETTO:-0500
TZNAME:EST
DTSTART:20251102T060000
END:STANDARD
END:VTIMEZONE
BEGIN:VEVENT
DTSTART;TZID=America/New_York:20241231T190000
DTEND;TZID=America/New_York:20241231T200000
DTSTAMP:20260424T122233
CREATED:20231211T175811Z
LAST-MODIFIED:20231211T175811Z
UID:10011349-1735671600-1735675200@epworth.faith
SUMMARY:AA (Music Room)
DESCRIPTION:
URL:https://epworth.faith/event/aa-music-room/2024-12-31/
LOCATION:Epworth United Methodist Church\, 19285 Holland Glade Road\, Rehoboth Beach\, DE\, 19971\, United States
CATEGORIES:Facility Rentals,Neighborhood/Community Groups
END:VEVENT
BEGIN:VEVENT
DTSTART;TZID=America/New_York:20241224T190000
DTEND;TZID=America/New_York:20241224T200000
DTSTAMP:20260424T122233
CREATED:20231211T175811Z
LAST-MODIFIED:20231211T175811Z
UID:10011348-1735066800-1735070400@epworth.faith
SUMMARY:AA (Music Room)
DESCRIPTION:
URL:https://epworth.faith/event/aa-music-room/2024-12-24/
LOCATION:Epworth United Methodist Church\, 19285 Holland Glade Road\, Rehoboth Beach\, DE\, 19971\, United States
CATEGORIES:Facility Rentals,Neighborhood/Community Groups
END:VEVENT
BEGIN:VEVENT
DTSTART;TZID=America/New_York:20241217T190000
DTEND;TZID=America/New_York:20241217T200000
DTSTAMP:20260424T122233
CREATED:20231211T175811Z
LAST-MODIFIED:20231211T175811Z
UID:10011347-1734462000-1734465600@epworth.faith
SUMMARY:AA (Music Room)
DESCRIPTION:
URL:https://epworth.faith/event/aa-music-room/2024-12-17/
LOCATION:Epworth United Methodist Church\, 19285 Holland Glade Road\, Rehoboth Beach\, DE\, 19971\, United States
CATEGORIES:Facility Rentals,Neighborhood/Community Groups
END:VEVENT
BEGIN:VEVENT
DTSTART;TZID=America/New_York:20241210T190000
DTEND;TZID=America/New_York:20241210T200000
DTSTAMP:20260424T122233
CREATED:20231211T175811Z
LAST-MODIFIED:20231211T175811Z
UID:10011346-1733857200-1733860800@epworth.faith
SUMMARY:AA (Music Room)
DESCRIPTION:
URL:https://epworth.faith/event/aa-music-room/2024-12-10/
LOCATION:Epworth United Methodist Church\, 19285 Holland Glade Road\, Rehoboth Beach\, DE\, 19971\, United States
CATEGORIES:Facility Rentals,Neighborhood/Community Groups
END:VEVENT
BEGIN:VEVENT
DTSTART;TZID=America/New_York:20241203T190000
DTEND;TZID=America/New_York:20241203T200000
DTSTAMP:20260424T122233
CREATED:20231211T175811Z
LAST-MODIFIED:20231211T175811Z
UID:10011345-1733252400-1733256000@epworth.faith
SUMMARY:AA (Music Room)
DESCRIPTION:
URL:https://epworth.faith/event/aa-music-room/2024-12-03/
LOCATION:Epworth United Methodist Church\, 19285 Holland Glade Road\, Rehoboth Beach\, DE\, 19971\, United States
CATEGORIES:Facility Rentals,Neighborhood/Community Groups
END:VEVENT
BEGIN:VEVENT
DTSTART;TZID=America/New_York:20241126T190000
DTEND;TZID=America/New_York:20241126T200000
DTSTAMP:20260424T122233
CREATED:20231211T175811Z
LAST-MODIFIED:20231211T175811Z
UID:10011344-1732647600-1732651200@epworth.faith
SUMMARY:AA (Music Room)
DESCRIPTION:
URL:https://epworth.faith/event/aa-music-room/2024-11-26/
LOCATION:Epworth United Methodist Church\, 19285 Holland Glade Road\, Rehoboth Beach\, DE\, 19971\, United States
CATEGORIES:Facility Rentals,Neighborhood/Community Groups
END:VEVENT
BEGIN:VEVENT
DTSTART;TZID=America/New_York:20241119T190000
DTEND;TZID=America/New_York:20241119T200000
DTSTAMP:20260424T122233
CREATED:20231211T175811Z
LAST-MODIFIED:20231211T175811Z
UID:10011343-1732042800-1732046400@epworth.faith
SUMMARY:AA (Music Room)
DESCRIPTION:
URL:https://epworth.faith/event/aa-music-room/2024-11-19/
LOCATION:Epworth United Methodist Church\, 19285 Holland Glade Road\, Rehoboth Beach\, DE\, 19971\, United States
CATEGORIES:Facility Rentals,Neighborhood/Community Groups
END:VEVENT
BEGIN:VEVENT
DTSTART;TZID=America/New_York:20241112T190000
DTEND;TZID=America/New_York:20241112T200000
DTSTAMP:20260424T122233
CREATED:20231211T175811Z
LAST-MODIFIED:20231211T175811Z
UID:10011342-1731438000-1731441600@epworth.faith
SUMMARY:AA (Music Room)
DESCRIPTION:
URL:https://epworth.faith/event/aa-music-room/2024-11-12/
LOCATION:Epworth United Methodist Church\, 19285 Holland Glade Road\, Rehoboth Beach\, DE\, 19971\, United States
CATEGORIES:Facility Rentals,Neighborhood/Community Groups
END:VEVENT
BEGIN:VEVENT
DTSTART;TZID=America/New_York:20241105T190000
DTEND;TZID=America/New_York:20241105T200000
DTSTAMP:20260424T122233
CREATED:20231211T175811Z
LAST-MODIFIED:20231211T175811Z
UID:10011341-1730833200-1730836800@epworth.faith
SUMMARY:AA (Music Room)
DESCRIPTION:
URL:https://epworth.faith/event/aa-music-room/2024-11-05/
LOCATION:Epworth United Methodist Church\, 19285 Holland Glade Road\, Rehoboth Beach\, DE\, 19971\, United States
CATEGORIES:Facility Rentals,Neighborhood/Community Groups
END:VEVENT
BEGIN:VEVENT
DTSTART;TZID=America/New_York:20241029T190000
DTEND;TZID=America/New_York:20241029T200000
DTSTAMP:20260424T122233
CREATED:20231211T175811Z
LAST-MODIFIED:20231211T175811Z
UID:10011340-1730228400-1730232000@epworth.faith
SUMMARY:AA (Music Room)
DESCRIPTION:
URL:https://epworth.faith/event/aa-music-room/2024-10-29/
LOCATION:Epworth United Methodist Church\, 19285 Holland Glade Road\, Rehoboth Beach\, DE\, 19971\, United States
CATEGORIES:Facility Rentals,Neighborhood/Community Groups
END:VEVENT
BEGIN:VEVENT
DTSTART;TZID=America/New_York:20241022T190000
DTEND;TZID=America/New_York:20241022T200000
DTSTAMP:20260424T122233
CREATED:20231211T175811Z
LAST-MODIFIED:20231211T175811Z
UID:10011339-1729623600-1729627200@epworth.faith
SUMMARY:AA (Music Room)
DESCRIPTION:
URL:https://epworth.faith/event/aa-music-room/2024-10-22/
LOCATION:Epworth United Methodist Church\, 19285 Holland Glade Road\, Rehoboth Beach\, DE\, 19971\, United States
CATEGORIES:Facility Rentals,Neighborhood/Community Groups
END:VEVENT
BEGIN:VEVENT
DTSTART;TZID=America/New_York:20241015T190000
DTEND;TZID=America/New_York:20241015T200000
DTSTAMP:20260424T122233
CREATED:20231211T175811Z
LAST-MODIFIED:20231211T175811Z
UID:10011338-1729018800-1729022400@epworth.faith
SUMMARY:AA (Music Room)
DESCRIPTION:
URL:https://epworth.faith/event/aa-music-room/2024-10-15/
LOCATION:Epworth United Methodist Church\, 19285 Holland Glade Road\, Rehoboth Beach\, DE\, 19971\, United States
CATEGORIES:Facility Rentals,Neighborhood/Community Groups
END:VEVENT
BEGIN:VEVENT
DTSTART;TZID=America/New_York:20241008T190000
DTEND;TZID=America/New_York:20241008T200000
DTSTAMP:20260424T122233
CREATED:20231211T175811Z
LAST-MODIFIED:20231211T175811Z
UID:10011337-1728414000-1728417600@epworth.faith
SUMMARY:AA (Music Room)
DESCRIPTION:
URL:https://epworth.faith/event/aa-music-room/2024-10-08/
LOCATION:Epworth United Methodist Church\, 19285 Holland Glade Road\, Rehoboth Beach\, DE\, 19971\, United States
CATEGORIES:Facility Rentals,Neighborhood/Community Groups
END:VEVENT
BEGIN:VEVENT
DTSTART;TZID=America/New_York:20241001T190000
DTEND;TZID=America/New_York:20241001T200000
DTSTAMP:20260424T122233
CREATED:20231211T175811Z
LAST-MODIFIED:20231211T175811Z
UID:10011336-1727809200-1727812800@epworth.faith
SUMMARY:AA (Music Room)
DESCRIPTION:
URL:https://epworth.faith/event/aa-music-room/2024-10-01/
LOCATION:Epworth United Methodist Church\, 19285 Holland Glade Road\, Rehoboth Beach\, DE\, 19971\, United States
CATEGORIES:Facility Rentals,Neighborhood/Community Groups
END:VEVENT
BEGIN:VEVENT
DTSTART;TZID=America/New_York:20240924T190000
DTEND;TZID=America/New_York:20240924T200000
DTSTAMP:20260424T122233
CREATED:20231211T175811Z
LAST-MODIFIED:20231211T175811Z
UID:10011335-1727204400-1727208000@epworth.faith
SUMMARY:AA (Music Room)
DESCRIPTION:
URL:https://epworth.faith/event/aa-music-room/2024-09-24/
LOCATION:Epworth United Methodist Church\, 19285 Holland Glade Road\, Rehoboth Beach\, DE\, 19971\, United States
CATEGORIES:Facility Rentals,Neighborhood/Community Groups
END:VEVENT
BEGIN:VEVENT
DTSTART;TZID=America/New_York:20240917T190000
DTEND;TZID=America/New_York:20240917T200000
DTSTAMP:20260424T122233
CREATED:20231211T175811Z
LAST-MODIFIED:20231211T175811Z
UID:10011334-1726599600-1726603200@epworth.faith
SUMMARY:AA (Music Room)
DESCRIPTION:
URL:https://epworth.faith/event/aa-music-room/2024-09-17/
LOCATION:Epworth United Methodist Church\, 19285 Holland Glade Road\, Rehoboth Beach\, DE\, 19971\, United States
CATEGORIES:Facility Rentals,Neighborhood/Community Groups
END:VEVENT
BEGIN:VEVENT
DTSTART;TZID=America/New_York:20240910T190000
DTEND;TZID=America/New_York:20240910T200000
DTSTAMP:20260424T122233
CREATED:20231211T175811Z
LAST-MODIFIED:20231211T175811Z
UID:10011333-1725994800-1725998400@epworth.faith
SUMMARY:AA (Music Room)
DESCRIPTION:
URL:https://epworth.faith/event/aa-music-room/2024-09-10/
LOCATION:Epworth United Methodist Church\, 19285 Holland Glade Road\, Rehoboth Beach\, DE\, 19971\, United States
CATEGORIES:Facility Rentals,Neighborhood/Community Groups
END:VEVENT
BEGIN:VEVENT
DTSTART;TZID=America/New_York:20240903T190000
DTEND;TZID=America/New_York:20240903T200000
DTSTAMP:20260424T122233
CREATED:20231211T175811Z
LAST-MODIFIED:20231211T175811Z
UID:10011332-1725390000-1725393600@epworth.faith
SUMMARY:AA (Music Room)
DESCRIPTION:
URL:https://epworth.faith/event/aa-music-room/2024-09-03/
LOCATION:Epworth United Methodist Church\, 19285 Holland Glade Road\, Rehoboth Beach\, DE\, 19971\, United States
CATEGORIES:Facility Rentals,Neighborhood/Community Groups
END:VEVENT
BEGIN:VEVENT
DTSTART;TZID=America/New_York:20240827T190000
DTEND;TZID=America/New_York:20240827T200000
DTSTAMP:20260424T122233
CREATED:20231211T175811Z
LAST-MODIFIED:20231211T175811Z
UID:10011331-1724785200-1724788800@epworth.faith
SUMMARY:AA (Music Room)
DESCRIPTION:
URL:https://epworth.faith/event/aa-music-room/2024-08-27/
LOCATION:Epworth United Methodist Church\, 19285 Holland Glade Road\, Rehoboth Beach\, DE\, 19971\, United States
CATEGORIES:Facility Rentals,Neighborhood/Community Groups
END:VEVENT
BEGIN:VEVENT
DTSTART;TZID=America/New_York:20240820T190000
DTEND;TZID=America/New_York:20240820T200000
DTSTAMP:20260424T122233
CREATED:20231211T175811Z
LAST-MODIFIED:20231211T175811Z
UID:10011330-1724180400-1724184000@epworth.faith
SUMMARY:AA (Music Room)
DESCRIPTION:
URL:https://epworth.faith/event/aa-music-room/2024-08-20/
LOCATION:Epworth United Methodist Church\, 19285 Holland Glade Road\, Rehoboth Beach\, DE\, 19971\, United States
CATEGORIES:Facility Rentals,Neighborhood/Community Groups
END:VEVENT
BEGIN:VEVENT
DTSTART;TZID=America/New_York:20240813T190000
DTEND;TZID=America/New_York:20240813T200000
DTSTAMP:20260424T122233
CREATED:20231211T175811Z
LAST-MODIFIED:20231211T175811Z
UID:10011329-1723575600-1723579200@epworth.faith
SUMMARY:AA (Music Room)
DESCRIPTION:
URL:https://epworth.faith/event/aa-music-room/2024-08-13/
LOCATION:Epworth United Methodist Church\, 19285 Holland Glade Road\, Rehoboth Beach\, DE\, 19971\, United States
CATEGORIES:Facility Rentals,Neighborhood/Community Groups
END:VEVENT
BEGIN:VEVENT
DTSTART;TZID=America/New_York:20240806T190000
DTEND;TZID=America/New_York:20240806T200000
DTSTAMP:20260424T122233
CREATED:20231211T175811Z
LAST-MODIFIED:20231211T175811Z
UID:10011328-1722970800-1722974400@epworth.faith
SUMMARY:AA (Music Room)
DESCRIPTION:
URL:https://epworth.faith/event/aa-music-room/2024-08-06/
LOCATION:Epworth United Methodist Church\, 19285 Holland Glade Road\, Rehoboth Beach\, DE\, 19971\, United States
CATEGORIES:Facility Rentals,Neighborhood/Community Groups
END:VEVENT
BEGIN:VEVENT
DTSTART;TZID=America/New_York:20240730T190000
DTEND;TZID=America/New_York:20240730T200000
DTSTAMP:20260424T122233
CREATED:20231211T175811Z
LAST-MODIFIED:20231211T175811Z
UID:10011327-1722366000-1722369600@epworth.faith
SUMMARY:AA (Music Room)
DESCRIPTION:
URL:https://epworth.faith/event/aa-music-room/2024-07-30/
LOCATION:Epworth United Methodist Church\, 19285 Holland Glade Road\, Rehoboth Beach\, DE\, 19971\, United States
CATEGORIES:Facility Rentals,Neighborhood/Community Groups
END:VEVENT
BEGIN:VEVENT
DTSTART;TZID=America/New_York:20240723T190000
DTEND;TZID=America/New_York:20240723T200000
DTSTAMP:20260424T122233
CREATED:20231211T175811Z
LAST-MODIFIED:20231211T175811Z
UID:10011326-1721761200-1721764800@epworth.faith
SUMMARY:AA (Music Room)
DESCRIPTION:
URL:https://epworth.faith/event/aa-music-room/2024-07-23/
LOCATION:Epworth United Methodist Church\, 19285 Holland Glade Road\, Rehoboth Beach\, DE\, 19971\, United States
CATEGORIES:Facility Rentals,Neighborhood/Community Groups
END:VEVENT
BEGIN:VEVENT
DTSTART;TZID=America/New_York:20240716T190000
DTEND;TZID=America/New_York:20240716T200000
DTSTAMP:20260424T122233
CREATED:20231211T175811Z
LAST-MODIFIED:20231211T175811Z
UID:10011325-1721156400-1721160000@epworth.faith
SUMMARY:AA (Music Room)
DESCRIPTION:
URL:https://epworth.faith/event/aa-music-room/2024-07-16/
LOCATION:Epworth United Methodist Church\, 19285 Holland Glade Road\, Rehoboth Beach\, DE\, 19971\, United States
CATEGORIES:Facility Rentals,Neighborhood/Community Groups
END:VEVENT
BEGIN:VEVENT
DTSTART;TZID=America/New_York:20240709T190000
DTEND;TZID=America/New_York:20240709T200000
DTSTAMP:20260424T122233
CREATED:20231211T175811Z
LAST-MODIFIED:20231211T175811Z
UID:10011324-1720551600-1720555200@epworth.faith
SUMMARY:AA (Music Room)
DESCRIPTION:
URL:https://epworth.faith/event/aa-music-room/2024-07-09/
LOCATION:Epworth United Methodist Church\, 19285 Holland Glade Road\, Rehoboth Beach\, DE\, 19971\, United States
CATEGORIES:Facility Rentals,Neighborhood/Community Groups
END:VEVENT
BEGIN:VEVENT
DTSTART;TZID=America/New_York:20240702T190000
DTEND;TZID=America/New_York:20240702T200000
DTSTAMP:20260424T122233
CREATED:20231211T175811Z
LAST-MODIFIED:20231211T175811Z
UID:10011323-1719946800-1719950400@epworth.faith
SUMMARY:AA (Music Room)
DESCRIPTION:
URL:https://epworth.faith/event/aa-music-room/2024-07-02/
LOCATION:Epworth United Methodist Church\, 19285 Holland Glade Road\, Rehoboth Beach\, DE\, 19971\, United States
CATEGORIES:Facility Rentals,Neighborhood/Community Groups
END:VEVENT
BEGIN:VEVENT
DTSTART;TZID=America/New_York:20240625T190000
DTEND;TZID=America/New_York:20240625T200000
DTSTAMP:20260424T122233
CREATED:20231211T175811Z
LAST-MODIFIED:20231211T175811Z
UID:10011322-1719342000-1719345600@epworth.faith
SUMMARY:AA (Music Room)
DESCRIPTION:
URL:https://epworth.faith/event/aa-music-room/2024-06-25/
LOCATION:Epworth United Methodist Church\, 19285 Holland Glade Road\, Rehoboth Beach\, DE\, 19971\, United States
CATEGORIES:Facility Rentals,Neighborhood/Community Groups
END:VEVENT
BEGIN:VEVENT
DTSTART;TZID=America/New_York:20240618T190000
DTEND;TZID=America/New_York:20240618T200000
DTSTAMP:20260424T122233
CREATED:20231211T175811Z
LAST-MODIFIED:20231211T175811Z
UID:10011321-1718737200-1718740800@epworth.faith
SUMMARY:AA (Music Room)
DESCRIPTION:
URL:https://epworth.faith/event/aa-music-room/2024-06-18/
LOCATION:Epworth United Methodist Church\, 19285 Holland Glade Road\, Rehoboth Beach\, DE\, 19971\, United States
CATEGORIES:Facility Rentals,Neighborhood/Community Groups
END:VEVENT
BEGIN:VEVENT
DTSTART;TZID=America/New_York:20240611T190000
DTEND;TZID=America/New_York:20240611T200000
DTSTAMP:20260424T122233
CREATED:20231211T175811Z
LAST-MODIFIED:20231211T175811Z
UID:10011320-1718132400-1718136000@epworth.faith
SUMMARY:AA (Music Room)
DESCRIPTION:
URL:https://epworth.faith/event/aa-music-room/2024-06-11/
LOCATION:Epworth United Methodist Church\, 19285 Holland Glade Road\, Rehoboth Beach\, DE\, 19971\, United States
CATEGORIES:Facility Rentals,Neighborhood/Community Groups
END:VEVENT
END:VCALENDAR