BEGIN:VCALENDAR
VERSION:2.0
PRODID:-//Epworth UMC - ECPv6.15.20//NONSGML v1.0//EN
CALSCALE:GREGORIAN
METHOD:PUBLISH
X-ORIGINAL-URL:https://epworth.faith
X-WR-CALDESC:Events for Epworth UMC
REFRESH-INTERVAL;VALUE=DURATION:PT1H
X-Robots-Tag:noindex
X-PUBLISHED-TTL:PT1H
BEGIN:VTIMEZONE
TZID:America/New_York
BEGIN:DAYLIGHT
TZOFFSETFROM:-0500
TZOFFSETTO:-0400
TZNAME:EDT
DTSTART:20220313T070000
END:DAYLIGHT
BEGIN:STANDARD
TZOFFSETFROM:-0400
TZOFFSETTO:-0500
TZNAME:EST
DTSTART:20221106T060000
END:STANDARD
BEGIN:DAYLIGHT
TZOFFSETFROM:-0500
TZOFFSETTO:-0400
TZNAME:EDT
DTSTART:20230312T070000
END:DAYLIGHT
BEGIN:STANDARD
TZOFFSETFROM:-0400
TZOFFSETTO:-0500
TZNAME:EST
DTSTART:20231105T060000
END:STANDARD
BEGIN:DAYLIGHT
TZOFFSETFROM:-0500
TZOFFSETTO:-0400
TZNAME:EDT
DTSTART:20240310T070000
END:DAYLIGHT
BEGIN:STANDARD
TZOFFSETFROM:-0400
TZOFFSETTO:-0500
TZNAME:EST
DTSTART:20241103T060000
END:STANDARD
BEGIN:DAYLIGHT
TZOFFSETFROM:-0500
TZOFFSETTO:-0400
TZNAME:EDT
DTSTART:20250309T070000
END:DAYLIGHT
BEGIN:STANDARD
TZOFFSETFROM:-0400
TZOFFSETTO:-0500
TZNAME:EST
DTSTART:20251102T060000
END:STANDARD
BEGIN:DAYLIGHT
TZOFFSETFROM:-0500
TZOFFSETTO:-0400
TZNAME:EDT
DTSTART:20260308T070000
END:DAYLIGHT
BEGIN:STANDARD
TZOFFSETFROM:-0400
TZOFFSETTO:-0500
TZNAME:EST
DTSTART:20261101T060000
END:STANDARD
END:VTIMEZONE
BEGIN:VEVENT
DTSTART;TZID=America/New_York:20250409T120000
DTEND;TZID=America/New_York:20250409T133000
DTSTAMP:20260424T004523
CREATED:20250224T214445Z
LAST-MODIFIED:20250224T214445Z
UID:10015540-1744200000-1744205400@epworth.faith
SUMMARY:Plant Sale Meeting (Office Conference Room)
DESCRIPTION:
URL:https://epworth.faith/event/plant-sale-meeting-office-conference-room-3/
LOCATION:Epworth United Methodist Church\, 19285 Holland Glade Road\, Rehoboth Beach\, DE\, 19971\, United States
CATEGORIES:Church,Groups
ORGANIZER;CN="Sue Brenton":MAILTO:myshadow143@verizon.net
END:VEVENT
BEGIN:VEVENT
DTSTART;TZID=America/New_York:20250401T110000
DTEND;TZID=America/New_York:20250401T130000
DTSTAMP:20260424T004523
CREATED:20250225T133134Z
LAST-MODIFIED:20250225T133134Z
UID:10015544-1743505200-1743512400@epworth.faith
SUMMARY:365 Christmas Joy - Easter Eggs (Fellowship Hall)
DESCRIPTION:
URL:https://epworth.faith/event/365-christmas-joy-easter-eggs-fellowship-hall/
LOCATION:Epworth United Methodist Church\, 19285 Holland Glade Road\, Rehoboth Beach\, DE\, 19971\, United States
CATEGORIES:Church,Groups
ORGANIZER;CN="Sue Brenton":MAILTO:myshadow143@verizon.net
END:VEVENT
BEGIN:VEVENT
DTSTART;TZID=America/New_York:20250319T120000
DTEND;TZID=America/New_York:20250319T133000
DTSTAMP:20260424T004523
CREATED:20250224T214403Z
LAST-MODIFIED:20250224T214403Z
UID:10015539-1742385600-1742391000@epworth.faith
SUMMARY:Plant Sale Meeting (Office Conference Room)
DESCRIPTION:
URL:https://epworth.faith/event/plant-sale-meeting-office-conference-room-2/
LOCATION:Epworth United Methodist Church\, 19285 Holland Glade Road\, Rehoboth Beach\, DE\, 19971\, United States
CATEGORIES:Church,Groups
ORGANIZER;CN="Sue Brenton":MAILTO:myshadow143@verizon.net
END:VEVENT
BEGIN:VEVENT
DTSTART;TZID=America/New_York:20250318T110000
DTEND;TZID=America/New_York:20250318T130000
DTSTAMP:20260424T004523
CREATED:20250225T133042Z
LAST-MODIFIED:20250225T133042Z
UID:10015543-1742295600-1742302800@epworth.faith
SUMMARY:365 Christmas Joy - Flowers (Fellowship Hall)
DESCRIPTION:
URL:https://epworth.faith/event/365-christmas-joy-flowers-fellowship-hall/
LOCATION:Epworth United Methodist Church\, 19285 Holland Glade Road\, Rehoboth Beach\, DE\, 19971\, United States
CATEGORIES:Church,Groups
ORGANIZER;CN="Sue Brenton":MAILTO:myshadow143@verizon.net
END:VEVENT
BEGIN:VEVENT
DTSTART;TZID=America/New_York:20250311T110000
DTEND;TZID=America/New_York:20250311T130000
DTSTAMP:20260424T004523
CREATED:20250225T132957Z
LAST-MODIFIED:20250225T132957Z
UID:10015542-1741690800-1741698000@epworth.faith
SUMMARY:365 Christmas Joy - Shamrocks (Fellowship Hall)
DESCRIPTION:
URL:https://epworth.faith/event/365-christmas-joy-shamrocks-fellowship-hall/
LOCATION:Epworth United Methodist Church\, 19285 Holland Glade Road\, Rehoboth Beach\, DE\, 19971\, United States
CATEGORIES:Church,Groups
ORGANIZER;CN="Sue Brenton":MAILTO:myshadow143@verizon.net
END:VEVENT
BEGIN:VEVENT
DTSTART;TZID=America/New_York:20250308T110000
DTEND;TZID=America/New_York:20250308T170000
DTSTAMP:20260424T004523
CREATED:20250303T195616Z
LAST-MODIFIED:20250303T195616Z
UID:10015555-1741431600-1741453200@epworth.faith
SUMMARY:365 Joy for Baking Cookies (Kitchen)
DESCRIPTION:
URL:https://epworth.faith/event/365-joy-for-baking-cookies-kitchen/
LOCATION:Epworth United Methodist Church\, 19285 Holland Glade Road\, Rehoboth Beach\, DE\, 19971\, United States
CATEGORIES:Church,Groups
ORGANIZER;CN="Sue Brenton":MAILTO:myshadow143@verizon.net
END:VEVENT
BEGIN:VEVENT
DTSTART;TZID=America/New_York:20250305T120000
DTEND;TZID=America/New_York:20250305T133000
DTSTAMP:20260424T004523
CREATED:20250224T214326Z
LAST-MODIFIED:20250224T214326Z
UID:10015538-1741176000-1741181400@epworth.faith
SUMMARY:Plant Sale Meeting (Office Conference Room)
DESCRIPTION:
URL:https://epworth.faith/event/plant-sale-meeting-office-conference-room/
LOCATION:Epworth United Methodist Church\, 19285 Holland Glade Road\, Rehoboth Beach\, DE\, 19971\, United States
CATEGORIES:Church,Groups
ORGANIZER;CN="Sue Brenton":MAILTO:myshadow143@verizon.net
END:VEVENT
BEGIN:VEVENT
DTSTART;TZID=America/New_York:20241221T090000
DTEND;TZID=America/New_York:20241221T120000
DTSTAMP:20260424T004523
CREATED:20231221T211938Z
LAST-MODIFIED:20231221T211938Z
UID:10012042-1734771600-1734782400@epworth.faith
SUMMARY:Christmas Joy - Gift Pickup (Fellowhsip Hall)
DESCRIPTION:
URL:https://epworth.faith/event/christmas-joy-gift-pickup-fellowhsip-hall/
LOCATION:Epworth United Methodist Church\, 19285 Holland Glade Road\, Rehoboth Beach\, DE\, 19971\, United States
CATEGORIES:Church,Groups
ORGANIZER;CN="Sue Brenton":MAILTO:myshadow143@verizon.net
END:VEVENT
BEGIN:VEVENT
DTSTART;TZID=America/New_York:20241210T110000
DTEND;TZID=America/New_York:20241210T190000
DTSTAMP:20260424T004523
CREATED:20241119T205403Z
LAST-MODIFIED:20241119T205403Z
UID:10015185-1733828400-1733857200@epworth.faith
SUMMARY:Cookie Decorating for Cookie Walk (Fellowship Hall)
DESCRIPTION:
URL:https://epworth.faith/event/cookie-decorating-for-cookie-walk-fellowship-hall/
LOCATION:Epworth United Methodist Church\, 19285 Holland Glade Road\, Rehoboth Beach\, DE\, 19971\, United States
CATEGORIES:Church,Groups
ORGANIZER;CN="Sue Brenton":MAILTO:myshadow143@verizon.net
END:VEVENT
BEGIN:VEVENT
DTSTART;TZID=America/New_York:20241207T090000
DTEND;TZID=America/New_York:20241207T150000
DTSTAMP:20260424T004524
CREATED:20231221T210115Z
LAST-MODIFIED:20231221T212917Z
UID:10012039-1733562000-1733583600@epworth.faith
SUMMARY:Christmas Joy - Gift Sorting (Fellowship Hall)
DESCRIPTION:
URL:https://epworth.faith/event/christmas-joy-gift-wrapping-fellowship-hall/
LOCATION:Epworth United Methodist Church\, 19285 Holland Glade Road\, Rehoboth Beach\, DE\, 19971\, United States
CATEGORIES:Church,Groups
ORGANIZER;CN="Sue Brenton":MAILTO:myshadow143@verizon.net
END:VEVENT
BEGIN:VEVENT
DTSTART;TZID=America/New_York:20241130T070000
DTEND;TZID=America/New_York:20241130T120000
DTSTAMP:20260424T004524
CREATED:20231221T161148Z
LAST-MODIFIED:20231221T161148Z
UID:10012038-1732950000-1732968000@epworth.faith
SUMMARY:Breakfast with Santa (Fellowship Hall)
DESCRIPTION:
URL:https://epworth.faith/event/breakfast-with-santa-fellowship-hall-2/
LOCATION:Epworth United Methodist Church\, 19285 Holland Glade Road\, Rehoboth Beach\, DE\, 19971\, United States
CATEGORIES:Church,Groups
ORGANIZER;CN="Sue Brenton":MAILTO:myshadow143@verizon.net
END:VEVENT
BEGIN:VEVENT
DTSTART;TZID=America/New_York:20241112T110000
DTEND;TZID=America/New_York:20241112T150000
DTSTAMP:20260424T004524
CREATED:20241031T120644Z
LAST-MODIFIED:20241031T120644Z
UID:10015113-1731409200-1731423600@epworth.faith
SUMMARY:Baking Sugar Cookies for Decorating Class (Kitchen)
DESCRIPTION:
URL:https://epworth.faith/event/baking-sugar-cookies-for-decorating-class-kitchen/
LOCATION:Epworth United Methodist Church\, 19285 Holland Glade Road\, Rehoboth Beach\, DE\, 19971\, United States
CATEGORIES:Church,Groups
ORGANIZER;CN="Sue Brenton":MAILTO:myshadow143@verizon.net
END:VEVENT
BEGIN:VEVENT
DTSTART;TZID=America/New_York:20241024T100000
DTEND;TZID=America/New_York:20241024T120000
DTSTAMP:20260424T004524
CREATED:20241016T123628Z
LAST-MODIFIED:20241016T123628Z
UID:10015107-1729764000-1729771200@epworth.faith
SUMMARY:Christmas Joy Meeting (Office Conference Room)
DESCRIPTION:
URL:https://epworth.faith/event/christmas-joy-meeting-office-conference-room/
LOCATION:Epworth United Methodist Church\, 19285 Holland Glade Road\, Rehoboth Beach\, DE\, 19971\, United States
CATEGORIES:Church,Groups
ORGANIZER;CN="Sue Brenton":MAILTO:myshadow143@verizon.net
END:VEVENT
BEGIN:VEVENT
DTSTART;TZID=America/New_York:20241005T073000
DTEND;TZID=America/New_York:20241005T170000
DTSTAMP:20260424T004524
CREATED:20240508T132859Z
LAST-MODIFIED:20240508T132901Z
UID:10013414-1728113400-1728147600@epworth.faith
SUMMARY:Golf Tournament Fundraiser - Drive Away Hunger (American Classic Golf Club)
DESCRIPTION:
URL:https://epworth.faith/event/golf-tournament-fundraiser-drive-away-hunger-american-classic-golf-club/
LOCATION:American Classic Golf Club\, 18485 Bethpage Drive\, Lewes\, DE\, 19958\, United States
CATEGORIES:Church,Groups,Neighborhood/Community Groups
ORGANIZER;CN="Sue Brenton":MAILTO:myshadow143@verizon.net
END:VEVENT
BEGIN:VEVENT
DTSTART;TZID=America/New_York:20240620T100000
DTEND;TZID=America/New_York:20240620T113000
DTSTAMP:20260424T004524
CREATED:20240617T181131Z
LAST-MODIFIED:20240617T184902Z
UID:10013569-1718877600-1718883000@epworth.faith
SUMMARY:Meeting to Discuss Golf Outing (Office Conference Room)
DESCRIPTION:
URL:https://epworth.faith/event/meeting-to-discuss-golf-outing-baker-room/
LOCATION:Epworth United Methodist Church\, 19285 Holland Glade Road\, Rehoboth Beach\, DE\, 19971\, United States
CATEGORIES:Church,Groups
ORGANIZER;CN="Sue Brenton":MAILTO:myshadow143@verizon.net
END:VEVENT
BEGIN:VEVENT
DTSTART;TZID=America/New_York:20240601T080000
DTEND;TZID=America/New_York:20240601T200000
DTSTAMP:20260424T004524
CREATED:20240416T141807Z
LAST-MODIFIED:20240508T122315Z
UID:10012657-1717228800-1717272000@epworth.faith
SUMMARY:Fried Chicken Fundraising (Fellowship Hall)
DESCRIPTION:
URL:https://epworth.faith/event/fried-chicken-fundraising-fellowship-hall/
LOCATION:Epworth United Methodist Church\, 19285 Holland Glade Road\, Rehoboth Beach\, DE\, 19971\, United States
CATEGORIES:Church,Groups
ORGANIZER;CN="Sue Brenton":MAILTO:myshadow143@verizon.net
END:VEVENT
BEGIN:VEVENT
DTSTART;TZID=America/New_York:20240531T150000
DTEND;TZID=America/New_York:20240531T200000
DTSTAMP:20260424T004524
CREATED:20240416T141143Z
LAST-MODIFIED:20240416T141710Z
UID:10012656-1717167600-1717185600@epworth.faith
SUMMARY:Fundraising Event Set-Up (Fellowship Hall)
DESCRIPTION:
URL:https://epworth.faith/event/fundraising-event-fellowship-hall/
LOCATION:Epworth United Methodist Church\, 19285 Holland Glade Road\, Rehoboth Beach\, DE\, 19971\, United States
CATEGORIES:Church,Groups
ORGANIZER;CN="Sue Brenton":MAILTO:myshadow143@verizon.net
END:VEVENT
BEGIN:VEVENT
DTSTART;TZID=America/New_York:20240221T120000
DTEND;TZID=America/New_York:20240221T140000
DTSTAMP:20260424T004524
CREATED:20240111T195306Z
LAST-MODIFIED:20240111T195306Z
UID:10012129-1708516800-1708524000@epworth.faith
SUMMARY:EUMC Fundraising Committee (Admin Conference Room)
DESCRIPTION:
URL:https://epworth.faith/event/eumc-fundraising-committee-admin-conference-room/
LOCATION:Epworth United Methodist Church\, 19285 Holland Glade Road\, Rehoboth Beach\, DE\, 19971\, United States
CATEGORIES:Church,Groups
ORGANIZER;CN="Sue Brenton":MAILTO:myshadow143@verizon.net
END:VEVENT
BEGIN:VEVENT
DTSTART;TZID=America/New_York:20240110T120000
DTEND;TZID=America/New_York:20240110T140000
DTSTAMP:20260424T004524
CREATED:20231116T150834Z
LAST-MODIFIED:20231116T150834Z
UID:10011101-1704888000-1704895200@epworth.faith
SUMMARY:Fundraising Committee (Admin Conference Room)
DESCRIPTION:
URL:https://epworth.faith/event/fundraising-committee-admin-conference-room-3/
LOCATION:Epworth United Methodist Church\, 19285 Holland Glade Road\, Rehoboth Beach\, DE\, 19971\, United States
CATEGORIES:Church,Groups
ORGANIZER;CN="Sue Brenton":MAILTO:myshadow143@verizon.net
END:VEVENT
BEGIN:VEVENT
DTSTART;TZID=America/New_York:20231216T140000
DTEND;TZID=America/New_York:20231216T210000
DTSTAMP:20260424T004524
CREATED:20230719T154757Z
LAST-MODIFIED:20230719T154757Z
UID:10008829-1702735200-1702760400@epworth.faith
SUMMARY:Christmas Joy Wrapping (Fellowship Hall)
DESCRIPTION:
URL:https://epworth.faith/event/christmas-joy-wrapping-fellowship-hall-5/
LOCATION:Epworth United Methodist Church\, 19285 Holland Glade Road\, Rehoboth Beach\, DE\, 19971\, United States
CATEGORIES:Groups
ORGANIZER;CN="Sue Brenton":MAILTO:myshadow143@verizon.net
END:VEVENT
BEGIN:VEVENT
DTSTART;TZID=America/New_York:20231216T080000
DTEND;TZID=America/New_York:20231216T140000
DTSTAMP:20260424T004524
CREATED:20230719T153859Z
LAST-MODIFIED:20231114T141006Z
UID:10008826-1702713600-1702735200@epworth.faith
SUMMARY:Cookie Walk (Branford Lounge)
DESCRIPTION:Epworth UMC will host a Cookie Walk on Saturday\, December 16. The event begins at 8:30 am and will continue until the cookies are gone. Cookies cost $10 per pound. There will also be prepackaged cookie gift sets available for sale. The gift sets make great presents for teachers\, delivery people\, or bus drivers. Cash is preferred. Epworth’s Cookie Walk is the primary fundraiser for Christmas Joy\, Epworth’s annual program that helps local families celebrate Christmas. For more information\, please call (302)227-7743 x 111. Epworth UMC is located at 19285 Holland Glade Road in Rehoboth.
URL:https://epworth.faith/event/cookie-walk-branford-lounge/
LOCATION:Epworth United Methodist Church\, 19285 Holland Glade Road\, Rehoboth Beach\, DE\, 19971\, United States
CATEGORIES:Groups
ATTACH;FMTTYPE=image/jpeg:https://epworth.faith/wp-content/uploads/2023/07/cookieswalking.jpg
ORGANIZER;CN="Sue Brenton":MAILTO:myshadow143@verizon.net
END:VEVENT
BEGIN:VEVENT
DTSTART;TZID=America/New_York:20231216T070000
DTEND;TZID=America/New_York:20231216T140000
DTSTAMP:20260424T004524
CREATED:20230719T154016Z
LAST-MODIFIED:20231114T134042Z
UID:10008827-1702710000-1702735200@epworth.faith
SUMMARY:Cookie Walk Storage (Kitchen\, Baker\, Starnes)
DESCRIPTION:Epworth UMC will host a Cookie Walk on Saturday\, December 16. The event begins at 8:30 am and will continue until the cookies are gone. Cookies cost $10 per pound. There will also be prepackaged cookie gift sets available for sale. The gift sets make great presents for teachers\, delivery people\, or bus drivers. Cash is preferred. Epworth’s Cookie Walk is the primary fundraiser for Christmas Joy\, Epworth’s annual program that helps local families celebrate Christmas. For more information\, please call (302)227-7743 x 111. Epworth UMC is located at 19285 Holland Glade Road in Rehoboth.
URL:https://epworth.faith/event/cookie-walk-storage-kitchen-2/
LOCATION:Epworth United Methodist Church\, 19285 Holland Glade Road\, Rehoboth Beach\, DE\, 19971\, United States
CATEGORIES:Groups
ORGANIZER;CN="Sue Brenton":MAILTO:myshadow143@verizon.net
END:VEVENT
BEGIN:VEVENT
DTSTART;TZID=America/New_York:20231215T100000
DTEND;TZID=America/New_York:20231215T190000
DTSTAMP:20260424T004524
CREATED:20230719T153613Z
LAST-MODIFIED:20230719T153613Z
UID:10008825-1702634400-1702666800@epworth.faith
SUMMARY:Cookie Walk Storage (Kitchen)
DESCRIPTION:
URL:https://epworth.faith/event/cookie-walk-storage-kitchen/
LOCATION:Epworth United Methodist Church\, 19285 Holland Glade Road\, Rehoboth Beach\, DE\, 19971\, United States
CATEGORIES:Groups
ORGANIZER;CN="Sue Brenton":MAILTO:myshadow143@verizon.net
END:VEVENT
BEGIN:VEVENT
DTSTART;TZID=America/New_York:20231209T080000
DTEND;TZID=America/New_York:20231209T170000
DTSTAMP:20260424T004524
CREATED:20230719T154643Z
LAST-MODIFIED:20230719T154643Z
UID:10008828-1702108800-1702141200@epworth.faith
SUMMARY:Christmas Joy Wrapping (Fellowship Hall)
DESCRIPTION:
URL:https://epworth.faith/event/christmas-joy-wrapping-fellowship-hall-4/
LOCATION:Epworth United Methodist Church\, 19285 Holland Glade Road\, Rehoboth Beach\, DE\, 19971\, United States
CATEGORIES:Groups
ORGANIZER;CN="Sue Brenton":MAILTO:myshadow143@verizon.net
END:VEVENT
BEGIN:VEVENT
DTSTART;TZID=America/New_York:20231202T090000
DTEND;TZID=America/New_York:20231202T120000
DTSTAMP:20260424T004524
CREATED:20230726T190510Z
LAST-MODIFIED:20230726T190510Z
UID:10008839-1701507600-1701518400@epworth.faith
SUMMARY:Breakfast with Santa (Fellowship Hall & Kitchen)
DESCRIPTION:
URL:https://epworth.faith/event/breakfast-with-santa-fellowship-hall-kitchen/
LOCATION:Epworth United Methodist Church\, 19285 Holland Glade Road\, Rehoboth Beach\, DE\, 19971\, United States
CATEGORIES:Groups
ORGANIZER;CN="Sue Brenton":MAILTO:myshadow143@verizon.net
END:VEVENT
BEGIN:VEVENT
DTSTART;TZID=America/New_York:20231127T110000
DTEND;TZID=America/New_York:20231127T130000
DTSTAMP:20260424T004524
CREATED:20231120T164314Z
LAST-MODIFIED:20231120T164314Z
UID:10011104-1701082800-1701090000@epworth.faith
SUMMARY:Christmas Joy (Baker Lounge)
DESCRIPTION:
URL:https://epworth.faith/event/christmas-joy-baker-lounge-3/
LOCATION:Epworth United Methodist Church\, 19285 Holland Glade Road\, Rehoboth Beach\, DE\, 19971\, United States
CATEGORIES:Church,Groups
ORGANIZER;CN="Sue Brenton":MAILTO:myshadow143@verizon.net
END:VEVENT
BEGIN:VEVENT
DTSTART;TZID=America/New_York:20231115T120000
DTEND;TZID=America/New_York:20231115T140000
DTSTAMP:20260424T004524
CREATED:20231019T174346Z
LAST-MODIFIED:20231019T174346Z
UID:10009438-1700049600-1700056800@epworth.faith
SUMMARY:Fundraising Committee (Admin Conference Room)
DESCRIPTION:
URL:https://epworth.faith/event/fundraising-committee-admin-conference-room-2/
LOCATION:Epworth United Methodist Church\, 19285 Holland Glade Road\, Rehoboth Beach\, DE\, 19971\, United States
CATEGORIES:Church,Groups
ORGANIZER;CN="Sue Brenton":MAILTO:myshadow143@verizon.net
END:VEVENT
BEGIN:VEVENT
DTSTART;TZID=America/New_York:20231018T120000
DTEND;TZID=America/New_York:20231018T140000
DTSTAMP:20260424T004524
CREATED:20230921T175352Z
LAST-MODIFIED:20230921T180551Z
UID:10009420-1697630400-1697637600@epworth.faith
SUMMARY:Fundraising Committee (Admin Conference Room)
DESCRIPTION:
URL:https://epworth.faith/event/fundraising-committee-admin-conference-room/
LOCATION:Epworth United Methodist Church\, 19285 Holland Glade Road\, Rehoboth Beach\, DE\, 19971\, United States
CATEGORIES:Church,Groups
ORGANIZER;CN="Sue Brenton":MAILTO:myshadow143@verizon.net
END:VEVENT
BEGIN:VEVENT
DTSTART;TZID=America/New_York:20230920T120000
DTEND;TZID=America/New_York:20230920T133000
DTSTAMP:20260424T004524
CREATED:20230904T144907Z
LAST-MODIFIED:20230904T144907Z
UID:10008997-1695211200-1695216600@epworth.faith
SUMMARY:Fundraising Committee (Admin Conference Rm)
DESCRIPTION:
URL:https://epworth.faith/event/fundraising-committee-admin-conference-rm/
LOCATION:Epworth United Methodist Church\, 19285 Holland Glade Road\, Rehoboth Beach\, DE\, 19971\, United States
CATEGORIES:Church,Groups
ORGANIZER;CN="Sue Brenton":MAILTO:myshadow143@verizon.net
END:VEVENT
BEGIN:VEVENT
DTSTART;TZID=America/New_York:20230910T090000
DTEND;TZID=America/New_York:20230910T120000
DTSTAMP:20260424T004524
CREATED:20230726T190242Z
LAST-MODIFIED:20230909T152311Z
UID:10008837-1694336400-1694347200@epworth.faith
SUMMARY:Fellowship Breakfast (Fellowship Hall & Kitchen)
DESCRIPTION:Co-Hosted by Food & Love Teams and Epworth’s Fundraising Committee
URL:https://epworth.faith/event/fundraising-breakfast-fellowship-hall-kitchen/
LOCATION:Epworth United Methodist Church\, 19285 Holland Glade Road\, Rehoboth Beach\, DE\, 19971\, United States
CATEGORIES:Groups
ORGANIZER;CN="Sue Brenton":MAILTO:myshadow143@verizon.net
END:VEVENT
END:VCALENDAR