BEGIN:VCALENDAR
VERSION:2.0
PRODID:-//Epworth UMC - ECPv6.15.20//NONSGML v1.0//EN
CALSCALE:GREGORIAN
METHOD:PUBLISH
X-ORIGINAL-URL:https://epworth.faith
X-WR-CALDESC:Events for Epworth UMC
REFRESH-INTERVAL;VALUE=DURATION:PT1H
X-Robots-Tag:noindex
X-PUBLISHED-TTL:PT1H
BEGIN:VTIMEZONE
TZID:America/New_York
BEGIN:DAYLIGHT
TZOFFSETFROM:-0500
TZOFFSETTO:-0400
TZNAME:EDT
DTSTART:20210314T070000
END:DAYLIGHT
BEGIN:STANDARD
TZOFFSETFROM:-0400
TZOFFSETTO:-0500
TZNAME:EST
DTSTART:20211107T060000
END:STANDARD
BEGIN:DAYLIGHT
TZOFFSETFROM:-0500
TZOFFSETTO:-0400
TZNAME:EDT
DTSTART:20220313T070000
END:DAYLIGHT
BEGIN:STANDARD
TZOFFSETFROM:-0400
TZOFFSETTO:-0500
TZNAME:EST
DTSTART:20221106T060000
END:STANDARD
BEGIN:DAYLIGHT
TZOFFSETFROM:-0500
TZOFFSETTO:-0400
TZNAME:EDT
DTSTART:20230312T070000
END:DAYLIGHT
BEGIN:STANDARD
TZOFFSETFROM:-0400
TZOFFSETTO:-0500
TZNAME:EST
DTSTART:20231105T060000
END:STANDARD
END:VTIMEZONE
BEGIN:VEVENT
DTSTART;TZID=America/New_York:20221210T090000
DTEND;TZID=America/New_York:20221210T120000
DTSTAMP:20260424T142004
CREATED:20220808T145802Z
LAST-MODIFIED:20220808T145802Z
UID:10005878-1670662800-1670673600@epworth.faith
SUMMARY:Cookie Walk (Narthex)
DESCRIPTION:
URL:https://epworth.faith/event/cookie-walk-narthex/
LOCATION:Epworth United Methodist Church\, 19285 Holland Glade Road\, Rehoboth Beach\, DE\, 19971\, United States
CATEGORIES:Groups
ORGANIZER;CN="Sue Brenton":MAILTO:myshadow143@verizon.net
END:VEVENT
BEGIN:VEVENT
DTSTART;TZID=America/New_York:20221210T070000
DTEND;TZID=America/New_York:20221210T140000
DTSTAMP:20260424T142004
CREATED:20221123T150701Z
LAST-MODIFIED:20221123T150701Z
UID:10007093-1670655600-1670680800@epworth.faith
SUMMARY:Christmas Joy (Music Room)
DESCRIPTION:
URL:https://epworth.faith/event/christmas-joy-music-room/2022-12-10/
LOCATION:Epworth United Methodist Church\, 19285 Holland Glade Road\, Rehoboth Beach\, DE\, 19971\, United States
CATEGORIES:Groups
ORGANIZER;CN="Sue Brenton":MAILTO:myshadow143@verizon.net
END:VEVENT
BEGIN:VEVENT
DTSTART;TZID=America/New_York:20221209T160000
DTEND;TZID=America/New_York:20221209T190000
DTSTAMP:20260424T142004
CREATED:20220808T145701Z
LAST-MODIFIED:20220808T145701Z
UID:10005877-1670601600-1670612400@epworth.faith
SUMMARY:Cookie Walk Set-Up (Narthex)
DESCRIPTION:
URL:https://epworth.faith/event/cookie-walk-set-up-narthex/
LOCATION:Epworth United Methodist Church\, 19285 Holland Glade Road\, Rehoboth Beach\, DE\, 19971\, United States
CATEGORIES:Groups
ORGANIZER;CN="Sue Brenton":MAILTO:myshadow143@verizon.net
END:VEVENT
BEGIN:VEVENT
DTSTART;TZID=America/New_York:20221209T140000
DTEND;TZID=America/New_York:20221209T180000
DTSTAMP:20260424T142004
CREATED:20221122T161558Z
LAST-MODIFIED:20221122T161558Z
UID:10007091-1670594400-1670608800@epworth.faith
SUMMARY:Christmas Joy Set-up (Fellowship Hall)
DESCRIPTION:
URL:https://epworth.faith/event/christmas-joy-set-up-fellowship-hall/
LOCATION:Epworth United Methodist Church\, 19285 Holland Glade Road\, Rehoboth Beach\, DE\, 19971\, United States
CATEGORIES:Groups
ORGANIZER;CN="Sue Brenton":MAILTO:myshadow143@verizon.net
END:VEVENT
BEGIN:VEVENT
DTSTART;TZID=America/New_York:20221209T100000
DTEND;TZID=America/New_York:20221209T180000
DTSTAMP:20260424T142004
CREATED:20221013T144841Z
LAST-MODIFIED:20221013T144841Z
UID:10006163-1670580000-1670608800@epworth.faith
SUMMARY:Cookie Storage (Branford Lounge)
DESCRIPTION:
URL:https://epworth.faith/event/cookie-storage-branford-lounge/
LOCATION:Epworth United Methodist Church\, 19285 Holland Glade Road\, Rehoboth Beach\, DE\, 19971\, United States
CATEGORIES:Groups
ORGANIZER;CN="Sue Brenton":MAILTO:myshadow143@verizon.net
END:VEVENT
BEGIN:VEVENT
DTSTART;TZID=America/New_York:20221209T070000
DTEND;TZID=America/New_York:20221209T140000
DTSTAMP:20260424T142004
CREATED:20221123T150701Z
LAST-MODIFIED:20221123T150701Z
UID:10007092-1670569200-1670594400@epworth.faith
SUMMARY:Christmas Joy (Music Room)
DESCRIPTION:
URL:https://epworth.faith/event/christmas-joy-music-room/2022-12-09/
LOCATION:Epworth United Methodist Church\, 19285 Holland Glade Road\, Rehoboth Beach\, DE\, 19971\, United States
CATEGORIES:Groups
ORGANIZER;CN="Sue Brenton":MAILTO:myshadow143@verizon.net
END:VEVENT
BEGIN:VEVENT
DTSTART;TZID=America/New_York:20221208T100000
DTEND;TZID=America/New_York:20221208T160000
DTSTAMP:20260424T142004
CREATED:20221206T151743Z
LAST-MODIFIED:20221206T151743Z
UID:10006275-1670493600-1670515200@epworth.faith
SUMMARY:Christmas Joy Sorting (Fellowship Hall)
DESCRIPTION:
URL:https://epworth.faith/event/christmas-joy-sorting-fellowship-hall/
LOCATION:Epworth United Methodist Church\, 19285 Holland Glade Road\, Rehoboth Beach\, DE\, 19971\, United States
CATEGORIES:Groups
ORGANIZER;CN="Sue Brenton":MAILTO:myshadow143@verizon.net
END:VEVENT
BEGIN:VEVENT
DTSTART;TZID=America/New_York:20221208T100000
DTEND;TZID=America/New_York:20221208T120000
DTSTAMP:20260424T142004
CREATED:20221206T151651Z
LAST-MODIFIED:20221206T151651Z
UID:10006267-1670493600-1670500800@epworth.faith
SUMMARY:Christmas Joy (Baker Lounge)
DESCRIPTION:
URL:https://epworth.faith/event/christmas-joy-baker-lounge-2/
LOCATION:Epworth United Methodist Church\, 19285 Holland Glade Road\, Rehoboth Beach\, DE\, 19971\, United States
CATEGORIES:Groups
ORGANIZER;CN="Sue Brenton":MAILTO:myshadow143@verizon.net
END:VEVENT
BEGIN:VEVENT
DTSTART;TZID=America/New_York:20221130T110000
DTEND;TZID=America/New_York:20221130T130000
DTSTAMP:20260424T142004
CREATED:20221115T161345Z
LAST-MODIFIED:20221115T161345Z
UID:10007027-1669806000-1669813200@epworth.faith
SUMMARY:Christmas Joy (Admin. Room)
DESCRIPTION:
URL:https://epworth.faith/event/christmas-joy-admin-room-3/
LOCATION:Epworth United Methodist Church\, 19285 Holland Glade Road\, Rehoboth Beach\, DE\, 19971\, United States
CATEGORIES:Groups
ORGANIZER;CN="Sue Brenton":MAILTO:myshadow143@verizon.net
END:VEVENT
BEGIN:VEVENT
DTSTART;TZID=America/New_York:20221118T100000
DTEND;TZID=America/New_York:20221118T120000
DTSTAMP:20260424T142004
CREATED:20221115T161244Z
LAST-MODIFIED:20221115T161244Z
UID:10007026-1668765600-1668772800@epworth.faith
SUMMARY:Christmas Joy (Admin. Room)
DESCRIPTION:
URL:https://epworth.faith/event/christmas-joy-admin-room-2/
LOCATION:Epworth United Methodist Church\, 19285 Holland Glade Road\, Rehoboth Beach\, DE\, 19971\, United States
CATEGORIES:Groups
ORGANIZER;CN="Sue Brenton":MAILTO:myshadow143@verizon.net
END:VEVENT
BEGIN:VEVENT
DTSTART;TZID=America/New_York:20221109T100000
DTEND;TZID=America/New_York:20221109T120000
DTSTAMP:20260424T142004
CREATED:20221012T160421Z
LAST-MODIFIED:20221012T160421Z
UID:10006132-1667988000-1667995200@epworth.faith
SUMMARY:Christmas Joy (Administrative Conference Room)
DESCRIPTION:
URL:https://epworth.faith/event/christmas-joy-administrative-conference-room/2022-11-09/
LOCATION:Epworth United Methodist Church\, 19285 Holland Glade Road\, Rehoboth Beach\, DE\, 19971\, United States
CATEGORIES:Groups
ORGANIZER;CN="Sue Brenton":MAILTO:myshadow143@verizon.net
END:VEVENT
BEGIN:VEVENT
DTSTART;TZID=America/New_York:20221106T100000
DTEND;TZID=America/New_York:20221106T140000
DTSTAMP:20260424T142004
CREATED:20221102T142142Z
LAST-MODIFIED:20221102T142142Z
UID:10007016-1667728800-1667743200@epworth.faith
SUMMARY:Christmas Joy (Admin. Room)
DESCRIPTION:
URL:https://epworth.faith/event/christmas-joy-admin-room/
LOCATION:Epworth United Methodist Church\, 19285 Holland Glade Road\, Rehoboth Beach\, DE\, 19971\, United States
CATEGORIES:Groups
ORGANIZER;CN="Sue Brenton":MAILTO:myshadow143@verizon.net
END:VEVENT
BEGIN:VEVENT
DTSTART;TZID=America/New_York:20221104T100000
DTEND;TZID=America/New_York:20221104T120000
DTSTAMP:20260424T142004
CREATED:20221012T160421Z
LAST-MODIFIED:20221012T160421Z
UID:10006131-1667556000-1667563200@epworth.faith
SUMMARY:Christmas Joy (Administrative Conference Room)
DESCRIPTION:
URL:https://epworth.faith/event/christmas-joy-administrative-conference-room/2022-11-04/
LOCATION:Epworth United Methodist Church\, 19285 Holland Glade Road\, Rehoboth Beach\, DE\, 19971\, United States
CATEGORIES:Groups
ORGANIZER;CN="Sue Brenton":MAILTO:myshadow143@verizon.net
END:VEVENT
BEGIN:VEVENT
DTSTART;TZID=America/New_York:20221102T100000
DTEND;TZID=America/New_York:20221102T120000
DTSTAMP:20260424T142004
CREATED:20221012T160421Z
LAST-MODIFIED:20221012T160421Z
UID:10006130-1667383200-1667390400@epworth.faith
SUMMARY:Christmas Joy (Administrative Conference Room)
DESCRIPTION:
URL:https://epworth.faith/event/christmas-joy-administrative-conference-room/2022-11-02/
LOCATION:Epworth United Methodist Church\, 19285 Holland Glade Road\, Rehoboth Beach\, DE\, 19971\, United States
CATEGORIES:Groups
ORGANIZER;CN="Sue Brenton":MAILTO:myshadow143@verizon.net
END:VEVENT
BEGIN:VEVENT
DTSTART;TZID=America/New_York:20221012T110000
DTEND;TZID=America/New_York:20221012T130000
DTSTAMP:20260424T142004
CREATED:20220927T164933Z
LAST-MODIFIED:20220927T164933Z
UID:10006123-1665572400-1665579600@epworth.faith
SUMMARY:Christmas Joy (Baker Lounge)
DESCRIPTION:
URL:https://epworth.faith/event/christmas-joy-baker-lounge/
LOCATION:Epworth United Methodist Church\, 19285 Holland Glade Road\, Rehoboth Beach\, DE\, 19971\, United States
CATEGORIES:Groups
ORGANIZER;CN="Sue Brenton":MAILTO:myshadow143@verizon.net
END:VEVENT
END:VCALENDAR