BEGIN:VCALENDAR
VERSION:2.0
PRODID:-//Epworth UMC - ECPv6.15.20//NONSGML v1.0//EN
CALSCALE:GREGORIAN
METHOD:PUBLISH
X-ORIGINAL-URL:https://epworth.faith
X-WR-CALDESC:Events for Epworth UMC
REFRESH-INTERVAL;VALUE=DURATION:PT1H
X-Robots-Tag:noindex
X-PUBLISHED-TTL:PT1H
BEGIN:VTIMEZONE
TZID:America/New_York
BEGIN:DAYLIGHT
TZOFFSETFROM:-0500
TZOFFSETTO:-0400
TZNAME:EDT
DTSTART:20220313T070000
END:DAYLIGHT
BEGIN:STANDARD
TZOFFSETFROM:-0400
TZOFFSETTO:-0500
TZNAME:EST
DTSTART:20221106T060000
END:STANDARD
BEGIN:DAYLIGHT
TZOFFSETFROM:-0500
TZOFFSETTO:-0400
TZNAME:EDT
DTSTART:20230312T070000
END:DAYLIGHT
BEGIN:STANDARD
TZOFFSETFROM:-0400
TZOFFSETTO:-0500
TZNAME:EST
DTSTART:20231105T060000
END:STANDARD
BEGIN:DAYLIGHT
TZOFFSETFROM:-0500
TZOFFSETTO:-0400
TZNAME:EDT
DTSTART:20240310T070000
END:DAYLIGHT
BEGIN:STANDARD
TZOFFSETFROM:-0400
TZOFFSETTO:-0500
TZNAME:EST
DTSTART:20241103T060000
END:STANDARD
BEGIN:DAYLIGHT
TZOFFSETFROM:-0500
TZOFFSETTO:-0400
TZNAME:EDT
DTSTART:20250309T070000
END:DAYLIGHT
BEGIN:STANDARD
TZOFFSETFROM:-0400
TZOFFSETTO:-0500
TZNAME:EST
DTSTART:20251102T060000
END:STANDARD
END:VTIMEZONE
BEGIN:VEVENT
DTSTART;TZID=America/New_York:20241105T100000
DTEND;TZID=America/New_York:20241105T120000
DTSTAMP:20260425T115432
CREATED:20240624T140534Z
LAST-MODIFIED:20240624T140534Z
UID:10013589-1730800800-1730808000@epworth.faith
SUMMARY:Epworth UMC Plant Sale Committee Meeting (Starnes Room)
DESCRIPTION:
URL:https://epworth.faith/event/epworth-umc-plant-sale-committee-meeting-starnes-room/2024-11-05/
LOCATION:Epworth United Methodist Church\, 19285 Holland Glade Road\, Rehoboth Beach\, DE\, 19971\, United States
CATEGORIES:Church,Groups
ORGANIZER;CN="Susan Jimenez":MAILTO:saj19971@gmail.com
END:VEVENT
BEGIN:VEVENT
DTSTART;TZID=America/New_York:20241030T100000
DTEND;TZID=America/New_York:20241030T120000
DTSTAMP:20260425T115432
CREATED:20240509T205948Z
LAST-MODIFIED:20240509T205948Z
UID:10013423-1730282400-1730289600@epworth.faith
SUMMARY:Sisters in Christ Bible Study (Starnes Room)
DESCRIPTION:
URL:https://epworth.faith/event/sisters-in-christ-bible-study-starnes-room/2024-10-30/
LOCATION:Epworth United Methodist Church\, 19285 Holland Glade Road\, Rehoboth Beach\, DE\, 19971\, United States
CATEGORIES:Church,Groups
ORGANIZER;CN="Susan Jimenez":MAILTO:saj19971@gmail.com
END:VEVENT
BEGIN:VEVENT
DTSTART;TZID=America/New_York:20241023T100000
DTEND;TZID=America/New_York:20241023T120000
DTSTAMP:20260425T115432
CREATED:20240509T205948Z
LAST-MODIFIED:20240509T205948Z
UID:10013422-1729677600-1729684800@epworth.faith
SUMMARY:Sisters in Christ Bible Study (Starnes Room)
DESCRIPTION:
URL:https://epworth.faith/event/sisters-in-christ-bible-study-starnes-room/2024-10-23/
LOCATION:Epworth United Methodist Church\, 19285 Holland Glade Road\, Rehoboth Beach\, DE\, 19971\, United States
CATEGORIES:Church,Groups
ORGANIZER;CN="Susan Jimenez":MAILTO:saj19971@gmail.com
END:VEVENT
BEGIN:VEVENT
DTSTART;TZID=America/New_York:20241016T100000
DTEND;TZID=America/New_York:20241016T120000
DTSTAMP:20260425T115432
CREATED:20240509T205948Z
LAST-MODIFIED:20240509T205948Z
UID:10013421-1729072800-1729080000@epworth.faith
SUMMARY:Sisters in Christ Bible Study (Starnes Room)
DESCRIPTION:
URL:https://epworth.faith/event/sisters-in-christ-bible-study-starnes-room/2024-10-16/
LOCATION:Epworth United Methodist Church\, 19285 Holland Glade Road\, Rehoboth Beach\, DE\, 19971\, United States
CATEGORIES:Church,Groups
ORGANIZER;CN="Susan Jimenez":MAILTO:saj19971@gmail.com
END:VEVENT
BEGIN:VEVENT
DTSTART;TZID=America/New_York:20241009T100000
DTEND;TZID=America/New_York:20241009T120000
DTSTAMP:20260425T115432
CREATED:20240509T205948Z
LAST-MODIFIED:20240509T205948Z
UID:10013420-1728468000-1728475200@epworth.faith
SUMMARY:Sisters in Christ Bible Study (Starnes Room)
DESCRIPTION:
URL:https://epworth.faith/event/sisters-in-christ-bible-study-starnes-room/2024-10-09/
LOCATION:Epworth United Methodist Church\, 19285 Holland Glade Road\, Rehoboth Beach\, DE\, 19971\, United States
CATEGORIES:Church,Groups
ORGANIZER;CN="Susan Jimenez":MAILTO:saj19971@gmail.com
END:VEVENT
BEGIN:VEVENT
DTSTART;TZID=America/New_York:20241002T100000
DTEND;TZID=America/New_York:20241002T120000
DTSTAMP:20260425T115432
CREATED:20240509T205948Z
LAST-MODIFIED:20240509T205948Z
UID:10013419-1727863200-1727870400@epworth.faith
SUMMARY:Sisters in Christ Bible Study (Starnes Room)
DESCRIPTION:
URL:https://epworth.faith/event/sisters-in-christ-bible-study-starnes-room/2024-10-02/
LOCATION:Epworth United Methodist Church\, 19285 Holland Glade Road\, Rehoboth Beach\, DE\, 19971\, United States
CATEGORIES:Church,Groups
ORGANIZER;CN="Susan Jimenez":MAILTO:saj19971@gmail.com
END:VEVENT
BEGIN:VEVENT
DTSTART;TZID=America/New_York:20241001T100000
DTEND;TZID=America/New_York:20241001T120000
DTSTAMP:20260425T115432
CREATED:20240624T140534Z
LAST-MODIFIED:20240624T140534Z
UID:10013588-1727776800-1727784000@epworth.faith
SUMMARY:Epworth UMC Plant Sale Committee Meeting (Starnes Room)
DESCRIPTION:
URL:https://epworth.faith/event/epworth-umc-plant-sale-committee-meeting-starnes-room/2024-10-01/
LOCATION:Epworth United Methodist Church\, 19285 Holland Glade Road\, Rehoboth Beach\, DE\, 19971\, United States
CATEGORIES:Church,Groups
ORGANIZER;CN="Susan Jimenez":MAILTO:saj19971@gmail.com
END:VEVENT
BEGIN:VEVENT
DTSTART;TZID=America/New_York:20240925T100000
DTEND;TZID=America/New_York:20240925T120000
DTSTAMP:20260425T115432
CREATED:20240509T205948Z
LAST-MODIFIED:20240509T205948Z
UID:10013418-1727258400-1727265600@epworth.faith
SUMMARY:Sisters in Christ Bible Study (Starnes Room)
DESCRIPTION:
URL:https://epworth.faith/event/sisters-in-christ-bible-study-starnes-room/2024-09-25/
LOCATION:Epworth United Methodist Church\, 19285 Holland Glade Road\, Rehoboth Beach\, DE\, 19971\, United States
CATEGORIES:Church,Groups
ORGANIZER;CN="Susan Jimenez":MAILTO:saj19971@gmail.com
END:VEVENT
BEGIN:VEVENT
DTSTART;TZID=America/New_York:20240918T100000
DTEND;TZID=America/New_York:20240918T120000
DTSTAMP:20260425T115432
CREATED:20240509T205948Z
LAST-MODIFIED:20240509T205948Z
UID:10013417-1726653600-1726660800@epworth.faith
SUMMARY:Sisters in Christ Bible Study (Starnes Room)
DESCRIPTION:
URL:https://epworth.faith/event/sisters-in-christ-bible-study-starnes-room/2024-09-18/
LOCATION:Epworth United Methodist Church\, 19285 Holland Glade Road\, Rehoboth Beach\, DE\, 19971\, United States
CATEGORIES:Church,Groups
ORGANIZER;CN="Susan Jimenez":MAILTO:saj19971@gmail.com
END:VEVENT
BEGIN:VEVENT
DTSTART;TZID=America/New_York:20240911T100000
DTEND;TZID=America/New_York:20240911T120000
DTSTAMP:20260425T115432
CREATED:20240509T205948Z
LAST-MODIFIED:20240509T205948Z
UID:10013416-1726048800-1726056000@epworth.faith
SUMMARY:Sisters in Christ Bible Study (Starnes Room)
DESCRIPTION:
URL:https://epworth.faith/event/sisters-in-christ-bible-study-starnes-room/2024-09-11/
LOCATION:Epworth United Methodist Church\, 19285 Holland Glade Road\, Rehoboth Beach\, DE\, 19971\, United States
CATEGORIES:Church,Groups
ORGANIZER;CN="Susan Jimenez":MAILTO:saj19971@gmail.com
END:VEVENT
BEGIN:VEVENT
DTSTART;TZID=America/New_York:20240903T100000
DTEND;TZID=America/New_York:20240903T120000
DTSTAMP:20260425T115432
CREATED:20240624T140534Z
LAST-MODIFIED:20240624T140534Z
UID:10013587-1725357600-1725364800@epworth.faith
SUMMARY:Epworth UMC Plant Sale Committee Meeting (Starnes Room)
DESCRIPTION:
URL:https://epworth.faith/event/epworth-umc-plant-sale-committee-meeting-starnes-room/2024-09-03/
LOCATION:Epworth United Methodist Church\, 19285 Holland Glade Road\, Rehoboth Beach\, DE\, 19971\, United States
CATEGORIES:Church,Groups
ORGANIZER;CN="Susan Jimenez":MAILTO:saj19971@gmail.com
END:VEVENT
BEGIN:VEVENT
DTSTART;TZID=America/New_York:20240806T100000
DTEND;TZID=America/New_York:20240806T120000
DTSTAMP:20260425T115432
CREATED:20240624T140534Z
LAST-MODIFIED:20240624T140534Z
UID:10013586-1722938400-1722945600@epworth.faith
SUMMARY:Epworth UMC Plant Sale Committee Meeting (Starnes Room)
DESCRIPTION:
URL:https://epworth.faith/event/epworth-umc-plant-sale-committee-meeting-starnes-room/2024-08-06/
LOCATION:Epworth United Methodist Church\, 19285 Holland Glade Road\, Rehoboth Beach\, DE\, 19971\, United States
CATEGORIES:Church,Groups
ORGANIZER;CN="Susan Jimenez":MAILTO:saj19971@gmail.com
END:VEVENT
BEGIN:VEVENT
DTSTART;TZID=America/New_York:20240713T090000
DTEND;TZID=America/New_York:20240713T160000
DTSTAMP:20260425T115432
CREATED:20240626T141154Z
LAST-MODIFIED:20240626T141154Z
UID:10013594-1720861200-1720886400@epworth.faith
SUMMARY:National Care Ministry Webinar (Office Admin Room)
DESCRIPTION:
URL:https://epworth.faith/event/national-care-ministry-webinar-office-admin-room/2024-07-13/
LOCATION:Epworth United Methodist Church\, 19285 Holland Glade Road\, Rehoboth Beach\, DE\, 19971\, United States
CATEGORIES:Church,Groups
ORGANIZER;CN="Susan Jimenez":MAILTO:saj19971@gmail.com
END:VEVENT
BEGIN:VEVENT
DTSTART;TZID=America/New_York:20240712T090000
DTEND;TZID=America/New_York:20240712T160000
DTSTAMP:20260425T115432
CREATED:20240626T141154Z
LAST-MODIFIED:20240626T141154Z
UID:10013593-1720774800-1720800000@epworth.faith
SUMMARY:National Care Ministry Webinar (Office Admin Room)
DESCRIPTION:
URL:https://epworth.faith/event/national-care-ministry-webinar-office-admin-room/2024-07-12/
LOCATION:Epworth United Methodist Church\, 19285 Holland Glade Road\, Rehoboth Beach\, DE\, 19971\, United States
CATEGORIES:Church,Groups
ORGANIZER;CN="Susan Jimenez":MAILTO:saj19971@gmail.com
END:VEVENT
BEGIN:VEVENT
DTSTART;TZID=America/New_York:20240702T100000
DTEND;TZID=America/New_York:20240702T120000
DTSTAMP:20260425T115432
CREATED:20240624T140534Z
LAST-MODIFIED:20240624T140534Z
UID:10013585-1719914400-1719921600@epworth.faith
SUMMARY:Epworth UMC Plant Sale Committee Meeting (Starnes Room)
DESCRIPTION:
URL:https://epworth.faith/event/epworth-umc-plant-sale-committee-meeting-starnes-room/2024-07-02/
LOCATION:Epworth United Methodist Church\, 19285 Holland Glade Road\, Rehoboth Beach\, DE\, 19971\, United States
CATEGORIES:Church,Groups
ORGANIZER;CN="Susan Jimenez":MAILTO:saj19971@gmail.com
END:VEVENT
BEGIN:VEVENT
DTSTART;TZID=America/New_York:20240610T190000
DTEND;TZID=America/New_York:20240610T200000
DTSTAMP:20260425T115432
CREATED:20240605T203125Z
LAST-MODIFIED:20240605T203125Z
UID:10013561-1718046000-1718049600@epworth.faith
SUMMARY:Stephen Ministry Meeting (Starnes Room)
DESCRIPTION:
URL:https://epworth.faith/event/stephen-ministry-meeting-starnes-room/
LOCATION:Epworth United Methodist Church\, 19285 Holland Glade Road\, Rehoboth Beach\, DE\, 19971\, United States
CATEGORIES:Church,Groups
ORGANIZER;CN="Susan Jimenez":MAILTO:saj19971@gmail.com
END:VEVENT
BEGIN:VEVENT
DTSTART;TZID=America/New_York:20240516T100000
DTEND;TZID=America/New_York:20240516T110000
DTSTAMP:20260425T115432
CREATED:20240514T151845Z
LAST-MODIFIED:20240514T151845Z
UID:10013515-1715853600-1715857200@epworth.faith
SUMMARY:Rentals Working Group (Baker Room)
DESCRIPTION:
URL:https://epworth.faith/event/rentals-working-group-baker-room/
LOCATION:Epworth United Methodist Church\, 19285 Holland Glade Road\, Rehoboth Beach\, DE\, 19971\, United States
CATEGORIES:Church,Groups
ORGANIZER;CN="Susan Jimenez":MAILTO:saj19971@gmail.com
END:VEVENT
BEGIN:VEVENT
DTSTART;TZID=America/New_York:20240508T130000
DTEND;TZID=America/New_York:20240508T143000
DTSTAMP:20260425T115432
CREATED:20240429T194211Z
LAST-MODIFIED:20240429T194211Z
UID:10013406-1715173200-1715178600@epworth.faith
SUMMARY:Rentals Working Group (Baker Lounge)
DESCRIPTION:
URL:https://epworth.faith/event/rentals-working-group-baker-lounge/
LOCATION:Epworth United Methodist Church\, 19285 Holland Glade Road\, Rehoboth Beach\, DE\, 19971\, United States
CATEGORIES:Church,Groups
ORGANIZER;CN="Susan Jimenez":MAILTO:saj19971@gmail.com
END:VEVENT
BEGIN:VEVENT
DTSTART;TZID=America/New_York:20240106T100000
DTEND;TZID=America/New_York:20240106T123000
DTSTAMP:20260425T115432
CREATED:20231204T151849Z
LAST-MODIFIED:20231204T151920Z
UID:10011113-1704535200-1704544200@epworth.faith
SUMMARY:Celebration of Life - Donna Hitchens (Sanctuary)
DESCRIPTION:
URL:https://epworth.faith/event/celebration-of-life-donna-hitchens-sanctuary/
LOCATION:Epworth United Methodist Church\, 19285 Holland Glade Road\, Rehoboth Beach\, DE\, 19971\, United States
CATEGORIES:Church,Funerals
ORGANIZER;CN="Susan Jimenez":MAILTO:saj19971@gmail.com
END:VEVENT
BEGIN:VEVENT
DTSTART;TZID=America/New_York:20231206T100000
DTEND;TZID=America/New_York:20231206T123000
DTSTAMP:20260425T115432
CREATED:20231204T151233Z
LAST-MODIFIED:20231204T151233Z
UID:10011112-1701856800-1701865800@epworth.faith
SUMMARY:Celebration of Life - Catherine J.  "Cass" Hall (Sanctuary)
DESCRIPTION:
URL:https://epworth.faith/event/celebration-of-life-catherine-j-cass-hall-sanctuary/
LOCATION:Epworth United Methodist Church\, 19285 Holland Glade Road\, Rehoboth Beach\, DE\, 19971\, United States
ORGANIZER;CN="Susan Jimenez":MAILTO:saj19971@gmail.com
END:VEVENT
BEGIN:VEVENT
DTSTART;TZID=America/New_York:20231113T190000
DTEND;TZID=America/New_York:20231113T210000
DTSTAMP:20260425T115432
CREATED:20231009T151333Z
LAST-MODIFIED:20231009T151333Z
UID:10009430-1699902000-1699909200@epworth.faith
SUMMARY:Stephen Ministry (Starnes Room)
DESCRIPTION:
URL:https://epworth.faith/event/stephen-ministry-starnes-room/
LOCATION:Epworth United Methodist Church\, 19285 Holland Glade Road\, Rehoboth Beach\, DE\, 19971\, United States
CATEGORIES:Church,Groups
ORGANIZER;CN="Susan Jimenez":MAILTO:saj19971@gmail.com
END:VEVENT
BEGIN:VEVENT
DTSTART;TZID=America/New_York:20230911T190000
DTEND;TZID=America/New_York:20230911T210000
DTSTAMP:20260425T115432
CREATED:20230907T140841Z
LAST-MODIFIED:20230907T140841Z
UID:10008998-1694458800-1694466000@epworth.faith
SUMMARY:Stephen Ministry Meeting (Baker Lounge)
DESCRIPTION:
URL:https://epworth.faith/event/stephen-ministry-meeting-baker-lounge/
LOCATION:Epworth United Methodist Church\, 19285 Holland Glade Road\, Rehoboth Beach\, DE\, 19971\, United States
ORGANIZER;CN="Val Linder":MAILTO:rovalinder@comcast.net
END:VEVENT
BEGIN:VEVENT
DTSTART;TZID=America/New_York:20230726T100000
DTEND;TZID=America/New_York:20230726T120000
DTSTAMP:20260425T115432
CREATED:20230712T185055Z
LAST-MODIFIED:20230712T185055Z
UID:10008822-1690365600-1690372800@epworth.faith
SUMMARY:DOV Training (Admin. Room)
DESCRIPTION:
URL:https://epworth.faith/event/dov-training-admin-room/2023-07-26/
LOCATION:Epworth United Methodist Church\, 19285 Holland Glade Road\, Rehoboth Beach\, DE\, 19971\, United States
CATEGORIES:Groups
ORGANIZER;CN="Susan Jimenez":MAILTO:saj19971@gmail.com
END:VEVENT
BEGIN:VEVENT
DTSTART;TZID=America/New_York:20230724T100000
DTEND;TZID=America/New_York:20230724T120000
DTSTAMP:20260425T115432
CREATED:20230712T185055Z
LAST-MODIFIED:20230712T185055Z
UID:10008821-1690192800-1690200000@epworth.faith
SUMMARY:DOV Training (Admin. Room)
DESCRIPTION:
URL:https://epworth.faith/event/dov-training-admin-room/2023-07-24/
LOCATION:Epworth United Methodist Church\, 19285 Holland Glade Road\, Rehoboth Beach\, DE\, 19971\, United States
CATEGORIES:Groups
ORGANIZER;CN="Susan Jimenez":MAILTO:saj19971@gmail.com
END:VEVENT
END:VCALENDAR