BEGIN:VCALENDAR
VERSION:2.0
PRODID:-//Epworth UMC - ECPv6.15.20//NONSGML v1.0//EN
CALSCALE:GREGORIAN
METHOD:PUBLISH
X-ORIGINAL-URL:https://epworth.faith
X-WR-CALDESC:Events for Epworth UMC
REFRESH-INTERVAL;VALUE=DURATION:PT1H
X-Robots-Tag:noindex
X-PUBLISHED-TTL:PT1H
BEGIN:VTIMEZONE
TZID:America/New_York
BEGIN:DAYLIGHT
TZOFFSETFROM:-0500
TZOFFSETTO:-0400
TZNAME:EDT
DTSTART:20250309T070000
END:DAYLIGHT
BEGIN:STANDARD
TZOFFSETFROM:-0400
TZOFFSETTO:-0500
TZNAME:EST
DTSTART:20251102T060000
END:STANDARD
BEGIN:DAYLIGHT
TZOFFSETFROM:-0500
TZOFFSETTO:-0400
TZNAME:EDT
DTSTART:20260308T070000
END:DAYLIGHT
BEGIN:STANDARD
TZOFFSETFROM:-0400
TZOFFSETTO:-0500
TZNAME:EST
DTSTART:20261101T060000
END:STANDARD
BEGIN:DAYLIGHT
TZOFFSETFROM:-0500
TZOFFSETTO:-0400
TZNAME:EDT
DTSTART:20270314T070000
END:DAYLIGHT
BEGIN:STANDARD
TZOFFSETFROM:-0400
TZOFFSETTO:-0500
TZNAME:EST
DTSTART:20271107T060000
END:STANDARD
END:VTIMEZONE
BEGIN:VEVENT
DTSTART;TZID=America/New_York:20260423T120000
DTEND;TZID=America/New_York:20260423T130000
DTSTAMP:20260423T152644
CREATED:20240905T122329Z
LAST-MODIFIED:20251023T150055Z
UID:10019573-1776945600-1776949200@epworth.faith
SUMMARY:Alanon Meeting (Branford Room)
DESCRIPTION:
URL:https://epworth.faith/event/alanon-meeting-branford-room-3/2026-04-23/
LOCATION:Epworth United Methodist Church\, 19285 Holland Glade Road\, Rehoboth Beach\, DE\, 19971\, United States
CATEGORIES:Church,Groups
END:VEVENT
BEGIN:VEVENT
DTSTART;TZID=America/New_York:20260421T190000
DTEND;TZID=America/New_York:20260421T200000
DTSTAMP:20260423T152644
CREATED:20240905T121808Z
LAST-MODIFIED:20251023T145128Z
UID:10019321-1776798000-1776801600@epworth.faith
SUMMARY:AA Meeting (Music Room)
DESCRIPTION:
URL:https://epworth.faith/event/aa-meeting-music-room/2026-04-21/
LOCATION:Epworth United Methodist Church\, 19285 Holland Glade Road\, Rehoboth Beach\, DE\, 19971\, United States
CATEGORIES:Church,Groups
END:VEVENT
BEGIN:VEVENT
DTSTART;TZID=America/New_York:20260421T190000
DTEND;TZID=America/New_York:20260421T200000
DTSTAMP:20260423T152644
CREATED:20240905T121615Z
LAST-MODIFIED:20251023T144756Z
UID:10019070-1776798000-1776801600@epworth.faith
SUMMARY:Alanon Meeting (Baker Room)
DESCRIPTION:
URL:https://epworth.faith/event/alanon-meeting-baker-room/2026-04-21/
LOCATION:Epworth United Methodist Church\, 19285 Holland Glade Road\, Rehoboth Beach\, DE\, 19971\, United States
CATEGORIES:Church,Groups
END:VEVENT
BEGIN:VEVENT
DTSTART;TZID=America/New_York:20260421T180000
DTEND;TZID=America/New_York:20260421T190000
DTSTAMP:20260423T152644
CREATED:20240905T121346Z
LAST-MODIFIED:20251023T144445Z
UID:10018819-1776794400-1776798000@epworth.faith
SUMMARY:Alanon Meeting (Branford Room)
DESCRIPTION:
URL:https://epworth.faith/event/alanon-meeting-branford-room/2026-04-21/
LOCATION:Epworth United Methodist Church\, 19285 Holland Glade Road\, Rehoboth Beach\, DE\, 19971\, United States
CATEGORIES:Church,Groups
END:VEVENT
BEGIN:VEVENT
DTSTART;TZID=America/New_York:20260421T160000
DTEND;TZID=America/New_York:20260421T180000
DTSTAMP:20260423T152644
CREATED:20250709T125307Z
LAST-MODIFIED:20250709T125307Z
UID:10016926-1776787200-1776794400@epworth.faith
SUMMARY:Finance Committee Meeting (Zoom)
DESCRIPTION:
URL:https://epworth.faith/event/finance-committee-meeting-zoom/2026-04-21/
LOCATION:Epworth United Methodist Church\, 19285 Holland Glade Road\, Rehoboth Beach\, DE\, 19971\, United States
CATEGORIES:Church,Groups
END:VEVENT
BEGIN:VEVENT
DTSTART;TZID=America/New_York:20260420T180000
DTEND;TZID=America/New_York:20260420T190000
DTSTAMP:20260423T152644
CREATED:20240905T122138Z
LAST-MODIFIED:20251023T144119Z
UID:10018568-1776708000-1776711600@epworth.faith
SUMMARY:Alanon Meeting (Branford Room)
DESCRIPTION:
URL:https://epworth.faith/event/alanon-meeting-branford-room-2/2026-04-20/
LOCATION:Epworth United Methodist Church\, 19285 Holland Glade Road\, Rehoboth Beach\, DE\, 19971\, United States
CATEGORIES:Church,Groups
END:VEVENT
BEGIN:VEVENT
DTSTART;TZID=America/New_York:20260420T170000
DTEND;TZID=America/New_York:20260420T180000
DTSTAMP:20260423T152644
CREATED:20240905T122003Z
LAST-MODIFIED:20251023T143906Z
UID:10018317-1776704400-1776708000@epworth.faith
SUMMARY:Alanon Newcomers (Baker Room)
DESCRIPTION:
URL:https://epworth.faith/event/alanon-newcomers-baker-room/2026-04-20/
LOCATION:Epworth United Methodist Church\, 19285 Holland Glade Road\, Rehoboth Beach\, DE\, 19971\, United States
CATEGORIES:Church,Groups
END:VEVENT
BEGIN:VEVENT
DTSTART;TZID=America/New_York:20260419T111500
DTEND;TZID=America/New_York:20260419T114500
DTSTAMP:20260423T152644
CREATED:20251023T142658Z
LAST-MODIFIED:20251023T142658Z
UID:10018066-1776597300-1776599100@epworth.faith
SUMMARY:Stephen Ministry Prayer Chapel (Baker Room)
DESCRIPTION:
URL:https://epworth.faith/event/stephen-ministry-prayer-chapel-baker-room-2/2026-04-19/
LOCATION:Epworth United Methodist Church\, 19285 Holland Glade Road\, Rehoboth Beach\, DE\, 19971\, United States
CATEGORIES:Church,Groups
END:VEVENT
BEGIN:VEVENT
DTSTART;TZID=America/New_York:20260418T180000
DTEND;TZID=America/New_York:20260418T190000
DTSTAMP:20260423T152644
CREATED:20240905T123154Z
LAST-MODIFIED:20251023T152520Z
UID:10020576-1776535200-1776538800@epworth.faith
SUMMARY:AA Meeting (Branford Room)
DESCRIPTION:
URL:https://epworth.faith/event/aa-meeting-branford-room/2026-04-18/
LOCATION:Epworth United Methodist Church\, 19285 Holland Glade Road\, Rehoboth Beach\, DE\, 19971\, United States
CATEGORIES:Church,Groups
END:VEVENT
BEGIN:VEVENT
DTSTART;TZID=America/New_York:20260418T180000
DTEND;TZID=America/New_York:20260418T190000
DTSTAMP:20260423T152645
CREATED:20240905T122918Z
LAST-MODIFIED:20251023T150738Z
UID:10020325-1776535200-1776538800@epworth.faith
SUMMARY:Alanon Meeting (Baker Room)
DESCRIPTION:
URL:https://epworth.faith/event/alanon-meeting-baker-room-2/2026-04-18/
LOCATION:Epworth United Methodist Church\, 19285 Holland Glade Road\, Rehoboth Beach\, DE\, 19971\, United States
CATEGORIES:Church,Groups
END:VEVENT
BEGIN:VEVENT
DTSTART;TZID=America/New_York:20260418T090000
DTEND;TZID=America/New_York:20260418T100000
DTSTAMP:20260423T152645
CREATED:20240905T122704Z
LAST-MODIFIED:20251023T150523Z
UID:10020074-1776502800-1776506400@epworth.faith
SUMMARY:ACA Meeting (Baker Room)
DESCRIPTION:
URL:https://epworth.faith/event/aca-meeting-baker-room/2026-04-18/
LOCATION:Epworth United Methodist Church\, 19285 Holland Glade Road\, Rehoboth Beach\, DE\, 19971\, United States
CATEGORIES:Church,Groups
END:VEVENT
BEGIN:VEVENT
DTSTART;TZID=America/New_York:20260416T193000
DTEND;TZID=America/New_York:20260416T203000
DTSTAMP:20260423T152645
CREATED:20240905T122521Z
LAST-MODIFIED:20251023T150301Z
UID:10019823-1776367800-1776371400@epworth.faith
SUMMARY:AA Meeting (Baker Room)
DESCRIPTION:
URL:https://epworth.faith/event/aa-meeting-baker-room/2026-04-16/
LOCATION:Epworth United Methodist Church\, 19285 Holland Glade Road\, Rehoboth Beach\, DE\, 19971\, United States
CATEGORIES:Church,Groups
END:VEVENT
BEGIN:VEVENT
DTSTART;TZID=America/New_York:20260416T120000
DTEND;TZID=America/New_York:20260416T130000
DTSTAMP:20260423T152645
CREATED:20240905T122329Z
LAST-MODIFIED:20251023T150055Z
UID:10019572-1776340800-1776344400@epworth.faith
SUMMARY:Alanon Meeting (Branford Room)
DESCRIPTION:
URL:https://epworth.faith/event/alanon-meeting-branford-room-3/2026-04-16/
LOCATION:Epworth United Methodist Church\, 19285 Holland Glade Road\, Rehoboth Beach\, DE\, 19971\, United States
CATEGORIES:Church,Groups
END:VEVENT
BEGIN:VEVENT
DTSTART;TZID=America/New_York:20260414T190000
DTEND;TZID=America/New_York:20260414T200000
DTSTAMP:20260423T152645
CREATED:20240905T121808Z
LAST-MODIFIED:20251023T145128Z
UID:10019320-1776193200-1776196800@epworth.faith
SUMMARY:AA Meeting (Music Room)
DESCRIPTION:
URL:https://epworth.faith/event/aa-meeting-music-room/2026-04-14/
LOCATION:Epworth United Methodist Church\, 19285 Holland Glade Road\, Rehoboth Beach\, DE\, 19971\, United States
CATEGORIES:Church,Groups
END:VEVENT
BEGIN:VEVENT
DTSTART;TZID=America/New_York:20260414T190000
DTEND;TZID=America/New_York:20260414T200000
DTSTAMP:20260423T152645
CREATED:20240905T121615Z
LAST-MODIFIED:20251023T144756Z
UID:10019069-1776193200-1776196800@epworth.faith
SUMMARY:Alanon Meeting (Baker Room)
DESCRIPTION:
URL:https://epworth.faith/event/alanon-meeting-baker-room/2026-04-14/
LOCATION:Epworth United Methodist Church\, 19285 Holland Glade Road\, Rehoboth Beach\, DE\, 19971\, United States
CATEGORIES:Church,Groups
END:VEVENT
BEGIN:VEVENT
DTSTART;TZID=America/New_York:20260414T180000
DTEND;TZID=America/New_York:20260414T190000
DTSTAMP:20260423T152645
CREATED:20240905T121346Z
LAST-MODIFIED:20251023T144445Z
UID:10018818-1776189600-1776193200@epworth.faith
SUMMARY:Alanon Meeting (Branford Room)
DESCRIPTION:
URL:https://epworth.faith/event/alanon-meeting-branford-room/2026-04-14/
LOCATION:Epworth United Methodist Church\, 19285 Holland Glade Road\, Rehoboth Beach\, DE\, 19971\, United States
CATEGORIES:Church,Groups
END:VEVENT
BEGIN:VEVENT
DTSTART;TZID=America/New_York:20260413T180000
DTEND;TZID=America/New_York:20260413T190000
DTSTAMP:20260423T152645
CREATED:20240905T122138Z
LAST-MODIFIED:20251023T144119Z
UID:10018567-1776103200-1776106800@epworth.faith
SUMMARY:Alanon Meeting (Branford Room)
DESCRIPTION:
URL:https://epworth.faith/event/alanon-meeting-branford-room-2/2026-04-13/
LOCATION:Epworth United Methodist Church\, 19285 Holland Glade Road\, Rehoboth Beach\, DE\, 19971\, United States
CATEGORIES:Church,Groups
END:VEVENT
BEGIN:VEVENT
DTSTART;TZID=America/New_York:20260413T170000
DTEND;TZID=America/New_York:20260413T180000
DTSTAMP:20260423T152645
CREATED:20240905T122003Z
LAST-MODIFIED:20251023T143906Z
UID:10018316-1776099600-1776103200@epworth.faith
SUMMARY:Alanon Newcomers (Baker Room)
DESCRIPTION:
URL:https://epworth.faith/event/alanon-newcomers-baker-room/2026-04-13/
LOCATION:Epworth United Methodist Church\, 19285 Holland Glade Road\, Rehoboth Beach\, DE\, 19971\, United States
CATEGORIES:Church,Groups
END:VEVENT
BEGIN:VEVENT
DTSTART;TZID=America/New_York:20260412T111500
DTEND;TZID=America/New_York:20260412T114500
DTSTAMP:20260423T152645
CREATED:20251023T142658Z
LAST-MODIFIED:20251023T142658Z
UID:10018065-1775992500-1775994300@epworth.faith
SUMMARY:Stephen Ministry Prayer Chapel (Baker Room)
DESCRIPTION:
URL:https://epworth.faith/event/stephen-ministry-prayer-chapel-baker-room-2/2026-04-12/
LOCATION:Epworth United Methodist Church\, 19285 Holland Glade Road\, Rehoboth Beach\, DE\, 19971\, United States
CATEGORIES:Church,Groups
END:VEVENT
BEGIN:VEVENT
DTSTART;TZID=America/New_York:20260412T110000
DTEND;TZID=America/New_York:20260412T123000
DTSTAMP:20260423T152645
CREATED:20260409T135546Z
LAST-MODIFIED:20260409T135546Z
UID:10022192-1775991600-1775997000@epworth.faith
SUMMARY:Labyrinth Maintenance Meeting (Branford Lounge)
DESCRIPTION:
URL:https://epworth.faith/event/labyrinth-maintenance-meeting-branford-lounge/
LOCATION:Epworth United Methodist Church\, 19285 Holland Glade Road\, Rehoboth Beach\, DE\, 19971\, United States
CATEGORIES:Church,Groups
END:VEVENT
BEGIN:VEVENT
DTSTART;TZID=America/New_York:20260411T180000
DTEND;TZID=America/New_York:20260411T190000
DTSTAMP:20260423T152645
CREATED:20240905T123154Z
LAST-MODIFIED:20251023T152520Z
UID:10020575-1775930400-1775934000@epworth.faith
SUMMARY:AA Meeting (Branford Room)
DESCRIPTION:
URL:https://epworth.faith/event/aa-meeting-branford-room/2026-04-11/
LOCATION:Epworth United Methodist Church\, 19285 Holland Glade Road\, Rehoboth Beach\, DE\, 19971\, United States
CATEGORIES:Church,Groups
END:VEVENT
BEGIN:VEVENT
DTSTART;TZID=America/New_York:20260411T180000
DTEND;TZID=America/New_York:20260411T190000
DTSTAMP:20260423T152645
CREATED:20240905T122918Z
LAST-MODIFIED:20251023T150738Z
UID:10020324-1775930400-1775934000@epworth.faith
SUMMARY:Alanon Meeting (Baker Room)
DESCRIPTION:
URL:https://epworth.faith/event/alanon-meeting-baker-room-2/2026-04-11/
LOCATION:Epworth United Methodist Church\, 19285 Holland Glade Road\, Rehoboth Beach\, DE\, 19971\, United States
CATEGORIES:Church,Groups
END:VEVENT
BEGIN:VEVENT
DTSTART;TZID=America/New_York:20260411T090000
DTEND;TZID=America/New_York:20260411T100000
DTSTAMP:20260423T152645
CREATED:20240905T122704Z
LAST-MODIFIED:20251023T150523Z
UID:10020073-1775898000-1775901600@epworth.faith
SUMMARY:ACA Meeting (Baker Room)
DESCRIPTION:
URL:https://epworth.faith/event/aca-meeting-baker-room/2026-04-11/
LOCATION:Epworth United Methodist Church\, 19285 Holland Glade Road\, Rehoboth Beach\, DE\, 19971\, United States
CATEGORIES:Church,Groups
END:VEVENT
BEGIN:VEVENT
DTSTART;TZID=America/New_York:20260409T193000
DTEND;TZID=America/New_York:20260409T203000
DTSTAMP:20260423T152645
CREATED:20240905T122521Z
LAST-MODIFIED:20251023T150301Z
UID:10019822-1775763000-1775766600@epworth.faith
SUMMARY:AA Meeting (Baker Room)
DESCRIPTION:
URL:https://epworth.faith/event/aa-meeting-baker-room/2026-04-09/
LOCATION:Epworth United Methodist Church\, 19285 Holland Glade Road\, Rehoboth Beach\, DE\, 19971\, United States
CATEGORIES:Church,Groups
END:VEVENT
BEGIN:VEVENT
DTSTART;TZID=America/New_York:20260409T120000
DTEND;TZID=America/New_York:20260409T130000
DTSTAMP:20260423T152645
CREATED:20240905T122329Z
LAST-MODIFIED:20251023T150055Z
UID:10019571-1775736000-1775739600@epworth.faith
SUMMARY:Alanon Meeting (Branford Room)
DESCRIPTION:
URL:https://epworth.faith/event/alanon-meeting-branford-room-3/2026-04-09/
LOCATION:Epworth United Methodist Church\, 19285 Holland Glade Road\, Rehoboth Beach\, DE\, 19971\, United States
CATEGORIES:Church,Groups
END:VEVENT
BEGIN:VEVENT
DTSTART;TZID=America/New_York:20260407T190000
DTEND;TZID=America/New_York:20260407T200000
DTSTAMP:20260423T152645
CREATED:20240905T121808Z
LAST-MODIFIED:20251023T145128Z
UID:10019319-1775588400-1775592000@epworth.faith
SUMMARY:AA Meeting (Music Room)
DESCRIPTION:
URL:https://epworth.faith/event/aa-meeting-music-room/2026-04-07/
LOCATION:Epworth United Methodist Church\, 19285 Holland Glade Road\, Rehoboth Beach\, DE\, 19971\, United States
CATEGORIES:Church,Groups
END:VEVENT
BEGIN:VEVENT
DTSTART;TZID=America/New_York:20260407T190000
DTEND;TZID=America/New_York:20260407T200000
DTSTAMP:20260423T152645
CREATED:20240905T121615Z
LAST-MODIFIED:20251023T144756Z
UID:10019068-1775588400-1775592000@epworth.faith
SUMMARY:Alanon Meeting (Baker Room)
DESCRIPTION:
URL:https://epworth.faith/event/alanon-meeting-baker-room/2026-04-07/
LOCATION:Epworth United Methodist Church\, 19285 Holland Glade Road\, Rehoboth Beach\, DE\, 19971\, United States
CATEGORIES:Church,Groups
END:VEVENT
BEGIN:VEVENT
DTSTART;TZID=America/New_York:20260407T180000
DTEND;TZID=America/New_York:20260407T190000
DTSTAMP:20260423T152646
CREATED:20240905T121346Z
LAST-MODIFIED:20251023T144445Z
UID:10018817-1775584800-1775588400@epworth.faith
SUMMARY:Alanon Meeting (Branford Room)
DESCRIPTION:
URL:https://epworth.faith/event/alanon-meeting-branford-room/2026-04-07/
LOCATION:Epworth United Methodist Church\, 19285 Holland Glade Road\, Rehoboth Beach\, DE\, 19971\, United States
CATEGORIES:Church,Groups
END:VEVENT
BEGIN:VEVENT
DTSTART;TZID=America/New_York:20260406T180000
DTEND;TZID=America/New_York:20260406T190000
DTSTAMP:20260423T152646
CREATED:20240905T122138Z
LAST-MODIFIED:20251023T144119Z
UID:10018566-1775498400-1775502000@epworth.faith
SUMMARY:Alanon Meeting (Branford Room)
DESCRIPTION:
URL:https://epworth.faith/event/alanon-meeting-branford-room-2/2026-04-06/
LOCATION:Epworth United Methodist Church\, 19285 Holland Glade Road\, Rehoboth Beach\, DE\, 19971\, United States
CATEGORIES:Church,Groups
END:VEVENT
BEGIN:VEVENT
DTSTART;TZID=America/New_York:20260406T170000
DTEND;TZID=America/New_York:20260406T180000
DTSTAMP:20260423T152646
CREATED:20240905T122003Z
LAST-MODIFIED:20251023T143906Z
UID:10018315-1775494800-1775498400@epworth.faith
SUMMARY:Alanon Newcomers (Baker Room)
DESCRIPTION:
URL:https://epworth.faith/event/alanon-newcomers-baker-room/2026-04-06/
LOCATION:Epworth United Methodist Church\, 19285 Holland Glade Road\, Rehoboth Beach\, DE\, 19971\, United States
CATEGORIES:Church,Groups
END:VEVENT
END:VCALENDAR