BEGIN:VCALENDAR
VERSION:2.0
PRODID:-//Epworth UMC - ECPv6.15.20//NONSGML v1.0//EN
CALSCALE:GREGORIAN
METHOD:PUBLISH
X-WR-CALNAME:Epworth UMC
X-ORIGINAL-URL:https://epworth.faith
X-WR-CALDESC:Events for Epworth UMC
REFRESH-INTERVAL;VALUE=DURATION:PT1H
X-Robots-Tag:noindex
X-PUBLISHED-TTL:PT1H
BEGIN:VTIMEZONE
TZID:America/New_York
BEGIN:DAYLIGHT
TZOFFSETFROM:-0500
TZOFFSETTO:-0400
TZNAME:EDT
DTSTART:20260308T070000
END:DAYLIGHT
BEGIN:STANDARD
TZOFFSETFROM:-0400
TZOFFSETTO:-0500
TZNAME:EST
DTSTART:20261101T060000
END:STANDARD
BEGIN:DAYLIGHT
TZOFFSETFROM:-0500
TZOFFSETTO:-0400
TZNAME:EDT
DTSTART:20270314T070000
END:DAYLIGHT
BEGIN:STANDARD
TZOFFSETFROM:-0400
TZOFFSETTO:-0500
TZNAME:EST
DTSTART:20271107T060000
END:STANDARD
BEGIN:DAYLIGHT
TZOFFSETFROM:-0500
TZOFFSETTO:-0400
TZNAME:EDT
DTSTART:20280312T070000
END:DAYLIGHT
BEGIN:STANDARD
TZOFFSETFROM:-0400
TZOFFSETTO:-0500
TZNAME:EST
DTSTART:20281105T060000
END:STANDARD
BEGIN:DAYLIGHT
TZOFFSETFROM:-0500
TZOFFSETTO:-0400
TZNAME:EDT
DTSTART:20290311T070000
END:DAYLIGHT
BEGIN:STANDARD
TZOFFSETFROM:-0400
TZOFFSETTO:-0500
TZNAME:EST
DTSTART:20291104T060000
END:STANDARD
BEGIN:DAYLIGHT
TZOFFSETFROM:-0500
TZOFFSETTO:-0400
TZNAME:EDT
DTSTART:20300310T070000
END:DAYLIGHT
BEGIN:STANDARD
TZOFFSETFROM:-0400
TZOFFSETTO:-0500
TZNAME:EST
DTSTART:20301103T060000
END:STANDARD
END:VTIMEZONE
BEGIN:VEVENT
DTSTART;TZID=America/New_York:20270413T180000
DTEND;TZID=America/New_York:20270413T200000
DTSTAMP:20260423T152238
CREATED:20250709T125038Z
LAST-MODIFIED:20250709T125038Z
UID:10016877-1807639200-1807646400@epworth.faith
SUMMARY:Trustee Committee Meeting (Zoom)
DESCRIPTION:
URL:https://epworth.faith/event/trustee-committee-meeting-zoom/2027-04-13/
LOCATION:Epworth United Methodist Church\, 19285 Holland Glade Road\, Rehoboth Beach\, DE\, 19971\, United States
ORGANIZER;CN="Tom Lewis":MAILTO:mathguy29@yahoo.com
END:VEVENT
BEGIN:VEVENT
DTSTART;TZID=America/New_York:20270511T180000
DTEND;TZID=America/New_York:20270511T200000
DTSTAMP:20260423T152238
CREATED:20250709T125038Z
LAST-MODIFIED:20250709T125038Z
UID:10016878-1810058400-1810065600@epworth.faith
SUMMARY:Trustee Committee Meeting (Zoom)
DESCRIPTION:
URL:https://epworth.faith/event/trustee-committee-meeting-zoom/2027-05-11/
LOCATION:Epworth United Methodist Church\, 19285 Holland Glade Road\, Rehoboth Beach\, DE\, 19971\, United States
ORGANIZER;CN="Tom Lewis":MAILTO:mathguy29@yahoo.com
END:VEVENT
BEGIN:VEVENT
DTSTART;TZID=America/New_York:20270608T180000
DTEND;TZID=America/New_York:20270608T200000
DTSTAMP:20260423T152238
CREATED:20250709T125038Z
LAST-MODIFIED:20250709T125038Z
UID:10016879-1812477600-1812484800@epworth.faith
SUMMARY:Trustee Committee Meeting (Zoom)
DESCRIPTION:
URL:https://epworth.faith/event/trustee-committee-meeting-zoom/2027-06-08/
LOCATION:Epworth United Methodist Church\, 19285 Holland Glade Road\, Rehoboth Beach\, DE\, 19971\, United States
ORGANIZER;CN="Tom Lewis":MAILTO:mathguy29@yahoo.com
END:VEVENT
BEGIN:VEVENT
DTSTART;TZID=America/New_York:20270713T180000
DTEND;TZID=America/New_York:20270713T200000
DTSTAMP:20260423T152238
CREATED:20250709T125038Z
LAST-MODIFIED:20250709T125038Z
UID:10016880-1815501600-1815508800@epworth.faith
SUMMARY:Trustee Committee Meeting (Zoom)
DESCRIPTION:
URL:https://epworth.faith/event/trustee-committee-meeting-zoom/2027-07-13/
LOCATION:Epworth United Methodist Church\, 19285 Holland Glade Road\, Rehoboth Beach\, DE\, 19971\, United States
ORGANIZER;CN="Tom Lewis":MAILTO:mathguy29@yahoo.com
END:VEVENT
BEGIN:VEVENT
DTSTART;TZID=America/New_York:20270810T180000
DTEND;TZID=America/New_York:20270810T200000
DTSTAMP:20260423T152238
CREATED:20250709T125038Z
LAST-MODIFIED:20250709T125038Z
UID:10016881-1817920800-1817928000@epworth.faith
SUMMARY:Trustee Committee Meeting (Zoom)
DESCRIPTION:
URL:https://epworth.faith/event/trustee-committee-meeting-zoom/2027-08-10/
LOCATION:Epworth United Methodist Church\, 19285 Holland Glade Road\, Rehoboth Beach\, DE\, 19971\, United States
ORGANIZER;CN="Tom Lewis":MAILTO:mathguy29@yahoo.com
END:VEVENT
BEGIN:VEVENT
DTSTART;TZID=America/New_York:20270914T180000
DTEND;TZID=America/New_York:20270914T200000
DTSTAMP:20260423T152238
CREATED:20250709T125038Z
LAST-MODIFIED:20250709T125038Z
UID:10016882-1820944800-1820952000@epworth.faith
SUMMARY:Trustee Committee Meeting (Zoom)
DESCRIPTION:
URL:https://epworth.faith/event/trustee-committee-meeting-zoom/2027-09-14/
LOCATION:Epworth United Methodist Church\, 19285 Holland Glade Road\, Rehoboth Beach\, DE\, 19971\, United States
ORGANIZER;CN="Tom Lewis":MAILTO:mathguy29@yahoo.com
END:VEVENT
BEGIN:VEVENT
DTSTART;TZID=America/New_York:20271012T180000
DTEND;TZID=America/New_York:20271012T200000
DTSTAMP:20260423T152238
CREATED:20250709T125038Z
LAST-MODIFIED:20250709T125038Z
UID:10016883-1823364000-1823371200@epworth.faith
SUMMARY:Trustee Committee Meeting (Zoom)
DESCRIPTION:
URL:https://epworth.faith/event/trustee-committee-meeting-zoom/2027-10-12/
LOCATION:Epworth United Methodist Church\, 19285 Holland Glade Road\, Rehoboth Beach\, DE\, 19971\, United States
ORGANIZER;CN="Tom Lewis":MAILTO:mathguy29@yahoo.com
END:VEVENT
BEGIN:VEVENT
DTSTART;TZID=America/New_York:20271109T180000
DTEND;TZID=America/New_York:20271109T200000
DTSTAMP:20260423T152238
CREATED:20250709T125038Z
LAST-MODIFIED:20250709T125038Z
UID:10016884-1825783200-1825790400@epworth.faith
SUMMARY:Trustee Committee Meeting (Zoom)
DESCRIPTION:
URL:https://epworth.faith/event/trustee-committee-meeting-zoom/2027-11-09/
LOCATION:Epworth United Methodist Church\, 19285 Holland Glade Road\, Rehoboth Beach\, DE\, 19971\, United States
ORGANIZER;CN="Tom Lewis":MAILTO:mathguy29@yahoo.com
END:VEVENT
BEGIN:VEVENT
DTSTART;TZID=America/New_York:20271214T180000
DTEND;TZID=America/New_York:20271214T200000
DTSTAMP:20260423T152238
CREATED:20250709T125038Z
LAST-MODIFIED:20250709T125038Z
UID:10016885-1828807200-1828814400@epworth.faith
SUMMARY:Trustee Committee Meeting (Zoom)
DESCRIPTION:
URL:https://epworth.faith/event/trustee-committee-meeting-zoom/2027-12-14/
LOCATION:Epworth United Methodist Church\, 19285 Holland Glade Road\, Rehoboth Beach\, DE\, 19971\, United States
ORGANIZER;CN="Tom Lewis":MAILTO:mathguy29@yahoo.com
END:VEVENT
BEGIN:VEVENT
DTSTART;TZID=America/New_York:20280111T180000
DTEND;TZID=America/New_York:20280111T200000
DTSTAMP:20260423T152238
CREATED:20250709T125038Z
LAST-MODIFIED:20250709T125038Z
UID:10016886-1831226400-1831233600@epworth.faith
SUMMARY:Trustee Committee Meeting (Zoom)
DESCRIPTION:
URL:https://epworth.faith/event/trustee-committee-meeting-zoom/2028-01-11/
LOCATION:Epworth United Methodist Church\, 19285 Holland Glade Road\, Rehoboth Beach\, DE\, 19971\, United States
ORGANIZER;CN="Tom Lewis":MAILTO:mathguy29@yahoo.com
END:VEVENT
BEGIN:VEVENT
DTSTART;TZID=America/New_York:20280208T180000
DTEND;TZID=America/New_York:20280208T200000
DTSTAMP:20260423T152238
CREATED:20250709T125038Z
LAST-MODIFIED:20250709T125038Z
UID:10016887-1833645600-1833652800@epworth.faith
SUMMARY:Trustee Committee Meeting (Zoom)
DESCRIPTION:
URL:https://epworth.faith/event/trustee-committee-meeting-zoom/2028-02-08/
LOCATION:Epworth United Methodist Church\, 19285 Holland Glade Road\, Rehoboth Beach\, DE\, 19971\, United States
ORGANIZER;CN="Tom Lewis":MAILTO:mathguy29@yahoo.com
END:VEVENT
BEGIN:VEVENT
DTSTART;TZID=America/New_York:20280314T180000
DTEND;TZID=America/New_York:20280314T200000
DTSTAMP:20260423T152238
CREATED:20250709T125038Z
LAST-MODIFIED:20250709T125038Z
UID:10016888-1836669600-1836676800@epworth.faith
SUMMARY:Trustee Committee Meeting (Zoom)
DESCRIPTION:
URL:https://epworth.faith/event/trustee-committee-meeting-zoom/2028-03-14/
LOCATION:Epworth United Methodist Church\, 19285 Holland Glade Road\, Rehoboth Beach\, DE\, 19971\, United States
ORGANIZER;CN="Tom Lewis":MAILTO:mathguy29@yahoo.com
END:VEVENT
BEGIN:VEVENT
DTSTART;TZID=America/New_York:20280411T180000
DTEND;TZID=America/New_York:20280411T200000
DTSTAMP:20260423T152238
CREATED:20250709T125038Z
LAST-MODIFIED:20250709T125038Z
UID:10016889-1839088800-1839096000@epworth.faith
SUMMARY:Trustee Committee Meeting (Zoom)
DESCRIPTION:
URL:https://epworth.faith/event/trustee-committee-meeting-zoom/2028-04-11/
LOCATION:Epworth United Methodist Church\, 19285 Holland Glade Road\, Rehoboth Beach\, DE\, 19971\, United States
ORGANIZER;CN="Tom Lewis":MAILTO:mathguy29@yahoo.com
END:VEVENT
BEGIN:VEVENT
DTSTART;TZID=America/New_York:20280509T180000
DTEND;TZID=America/New_York:20280509T200000
DTSTAMP:20260423T152238
CREATED:20250709T125038Z
LAST-MODIFIED:20250709T125038Z
UID:10016890-1841508000-1841515200@epworth.faith
SUMMARY:Trustee Committee Meeting (Zoom)
DESCRIPTION:
URL:https://epworth.faith/event/trustee-committee-meeting-zoom/2028-05-09/
LOCATION:Epworth United Methodist Church\, 19285 Holland Glade Road\, Rehoboth Beach\, DE\, 19971\, United States
ORGANIZER;CN="Tom Lewis":MAILTO:mathguy29@yahoo.com
END:VEVENT
BEGIN:VEVENT
DTSTART;TZID=America/New_York:20280613T180000
DTEND;TZID=America/New_York:20280613T200000
DTSTAMP:20260423T152238
CREATED:20250709T125038Z
LAST-MODIFIED:20250709T125038Z
UID:10016891-1844532000-1844539200@epworth.faith
SUMMARY:Trustee Committee Meeting (Zoom)
DESCRIPTION:
URL:https://epworth.faith/event/trustee-committee-meeting-zoom/2028-06-13/
LOCATION:Epworth United Methodist Church\, 19285 Holland Glade Road\, Rehoboth Beach\, DE\, 19971\, United States
ORGANIZER;CN="Tom Lewis":MAILTO:mathguy29@yahoo.com
END:VEVENT
BEGIN:VEVENT
DTSTART;TZID=America/New_York:20280711T180000
DTEND;TZID=America/New_York:20280711T200000
DTSTAMP:20260423T152238
CREATED:20250709T125038Z
LAST-MODIFIED:20250709T125038Z
UID:10016892-1846951200-1846958400@epworth.faith
SUMMARY:Trustee Committee Meeting (Zoom)
DESCRIPTION:
URL:https://epworth.faith/event/trustee-committee-meeting-zoom/2028-07-11/
LOCATION:Epworth United Methodist Church\, 19285 Holland Glade Road\, Rehoboth Beach\, DE\, 19971\, United States
ORGANIZER;CN="Tom Lewis":MAILTO:mathguy29@yahoo.com
END:VEVENT
BEGIN:VEVENT
DTSTART;TZID=America/New_York:20280808T180000
DTEND;TZID=America/New_York:20280808T200000
DTSTAMP:20260423T152238
CREATED:20250709T125038Z
LAST-MODIFIED:20250709T125038Z
UID:10016893-1849370400-1849377600@epworth.faith
SUMMARY:Trustee Committee Meeting (Zoom)
DESCRIPTION:
URL:https://epworth.faith/event/trustee-committee-meeting-zoom/2028-08-08/
LOCATION:Epworth United Methodist Church\, 19285 Holland Glade Road\, Rehoboth Beach\, DE\, 19971\, United States
ORGANIZER;CN="Tom Lewis":MAILTO:mathguy29@yahoo.com
END:VEVENT
BEGIN:VEVENT
DTSTART;TZID=America/New_York:20280912T180000
DTEND;TZID=America/New_York:20280912T200000
DTSTAMP:20260423T152238
CREATED:20250709T125038Z
LAST-MODIFIED:20250709T125038Z
UID:10016894-1852394400-1852401600@epworth.faith
SUMMARY:Trustee Committee Meeting (Zoom)
DESCRIPTION:
URL:https://epworth.faith/event/trustee-committee-meeting-zoom/2028-09-12/
LOCATION:Epworth United Methodist Church\, 19285 Holland Glade Road\, Rehoboth Beach\, DE\, 19971\, United States
ORGANIZER;CN="Tom Lewis":MAILTO:mathguy29@yahoo.com
END:VEVENT
BEGIN:VEVENT
DTSTART;TZID=America/New_York:20281010T180000
DTEND;TZID=America/New_York:20281010T200000
DTSTAMP:20260423T152238
CREATED:20250709T125038Z
LAST-MODIFIED:20250709T125038Z
UID:10016895-1854813600-1854820800@epworth.faith
SUMMARY:Trustee Committee Meeting (Zoom)
DESCRIPTION:
URL:https://epworth.faith/event/trustee-committee-meeting-zoom/2028-10-10/
LOCATION:Epworth United Methodist Church\, 19285 Holland Glade Road\, Rehoboth Beach\, DE\, 19971\, United States
ORGANIZER;CN="Tom Lewis":MAILTO:mathguy29@yahoo.com
END:VEVENT
BEGIN:VEVENT
DTSTART;TZID=America/New_York:20281114T180000
DTEND;TZID=America/New_York:20281114T200000
DTSTAMP:20260423T152238
CREATED:20250709T125038Z
LAST-MODIFIED:20250709T125038Z
UID:10016896-1857837600-1857844800@epworth.faith
SUMMARY:Trustee Committee Meeting (Zoom)
DESCRIPTION:
URL:https://epworth.faith/event/trustee-committee-meeting-zoom/2028-11-14/
LOCATION:Epworth United Methodist Church\, 19285 Holland Glade Road\, Rehoboth Beach\, DE\, 19971\, United States
ORGANIZER;CN="Tom Lewis":MAILTO:mathguy29@yahoo.com
END:VEVENT
BEGIN:VEVENT
DTSTART;TZID=America/New_York:20281212T180000
DTEND;TZID=America/New_York:20281212T200000
DTSTAMP:20260423T152238
CREATED:20250709T125038Z
LAST-MODIFIED:20250709T125038Z
UID:10016897-1860256800-1860264000@epworth.faith
SUMMARY:Trustee Committee Meeting (Zoom)
DESCRIPTION:
URL:https://epworth.faith/event/trustee-committee-meeting-zoom/2028-12-12/
LOCATION:Epworth United Methodist Church\, 19285 Holland Glade Road\, Rehoboth Beach\, DE\, 19971\, United States
ORGANIZER;CN="Tom Lewis":MAILTO:mathguy29@yahoo.com
END:VEVENT
BEGIN:VEVENT
DTSTART;TZID=America/New_York:20290109T180000
DTEND;TZID=America/New_York:20290109T200000
DTSTAMP:20260423T152238
CREATED:20250709T125038Z
LAST-MODIFIED:20250709T125038Z
UID:10016898-1862676000-1862683200@epworth.faith
SUMMARY:Trustee Committee Meeting (Zoom)
DESCRIPTION:
URL:https://epworth.faith/event/trustee-committee-meeting-zoom/2029-01-09/
LOCATION:Epworth United Methodist Church\, 19285 Holland Glade Road\, Rehoboth Beach\, DE\, 19971\, United States
ORGANIZER;CN="Tom Lewis":MAILTO:mathguy29@yahoo.com
END:VEVENT
BEGIN:VEVENT
DTSTART;TZID=America/New_York:20290213T180000
DTEND;TZID=America/New_York:20290213T200000
DTSTAMP:20260423T152238
CREATED:20250709T125038Z
LAST-MODIFIED:20250709T125038Z
UID:10016899-1865700000-1865707200@epworth.faith
SUMMARY:Trustee Committee Meeting (Zoom)
DESCRIPTION:
URL:https://epworth.faith/event/trustee-committee-meeting-zoom/2029-02-13/
LOCATION:Epworth United Methodist Church\, 19285 Holland Glade Road\, Rehoboth Beach\, DE\, 19971\, United States
ORGANIZER;CN="Tom Lewis":MAILTO:mathguy29@yahoo.com
END:VEVENT
BEGIN:VEVENT
DTSTART;TZID=America/New_York:20290313T180000
DTEND;TZID=America/New_York:20290313T200000
DTSTAMP:20260423T152238
CREATED:20250709T125038Z
LAST-MODIFIED:20250709T125038Z
UID:10016900-1868119200-1868126400@epworth.faith
SUMMARY:Trustee Committee Meeting (Zoom)
DESCRIPTION:
URL:https://epworth.faith/event/trustee-committee-meeting-zoom/2029-03-13/
LOCATION:Epworth United Methodist Church\, 19285 Holland Glade Road\, Rehoboth Beach\, DE\, 19971\, United States
ORGANIZER;CN="Tom Lewis":MAILTO:mathguy29@yahoo.com
END:VEVENT
BEGIN:VEVENT
DTSTART;TZID=America/New_York:20290410T180000
DTEND;TZID=America/New_York:20290410T200000
DTSTAMP:20260423T152238
CREATED:20250709T125038Z
LAST-MODIFIED:20250709T125038Z
UID:10016901-1870538400-1870545600@epworth.faith
SUMMARY:Trustee Committee Meeting (Zoom)
DESCRIPTION:
URL:https://epworth.faith/event/trustee-committee-meeting-zoom/2029-04-10/
LOCATION:Epworth United Methodist Church\, 19285 Holland Glade Road\, Rehoboth Beach\, DE\, 19971\, United States
ORGANIZER;CN="Tom Lewis":MAILTO:mathguy29@yahoo.com
END:VEVENT
BEGIN:VEVENT
DTSTART;TZID=America/New_York:20290508T180000
DTEND;TZID=America/New_York:20290508T200000
DTSTAMP:20260423T152238
CREATED:20250709T125038Z
LAST-MODIFIED:20250709T125038Z
UID:10016902-1872957600-1872964800@epworth.faith
SUMMARY:Trustee Committee Meeting (Zoom)
DESCRIPTION:
URL:https://epworth.faith/event/trustee-committee-meeting-zoom/2029-05-08/
LOCATION:Epworth United Methodist Church\, 19285 Holland Glade Road\, Rehoboth Beach\, DE\, 19971\, United States
ORGANIZER;CN="Tom Lewis":MAILTO:mathguy29@yahoo.com
END:VEVENT
BEGIN:VEVENT
DTSTART;TZID=America/New_York:20290612T180000
DTEND;TZID=America/New_York:20290612T200000
DTSTAMP:20260423T152238
CREATED:20250709T125038Z
LAST-MODIFIED:20250709T125038Z
UID:10016903-1875981600-1875988800@epworth.faith
SUMMARY:Trustee Committee Meeting (Zoom)
DESCRIPTION:
URL:https://epworth.faith/event/trustee-committee-meeting-zoom/2029-06-12/
LOCATION:Epworth United Methodist Church\, 19285 Holland Glade Road\, Rehoboth Beach\, DE\, 19971\, United States
ORGANIZER;CN="Tom Lewis":MAILTO:mathguy29@yahoo.com
END:VEVENT
BEGIN:VEVENT
DTSTART;TZID=America/New_York:20290710T180000
DTEND;TZID=America/New_York:20290710T200000
DTSTAMP:20260423T152238
CREATED:20250709T125038Z
LAST-MODIFIED:20250709T125038Z
UID:10016904-1878400800-1878408000@epworth.faith
SUMMARY:Trustee Committee Meeting (Zoom)
DESCRIPTION:
URL:https://epworth.faith/event/trustee-committee-meeting-zoom/2029-07-10/
LOCATION:Epworth United Methodist Church\, 19285 Holland Glade Road\, Rehoboth Beach\, DE\, 19971\, United States
ORGANIZER;CN="Tom Lewis":MAILTO:mathguy29@yahoo.com
END:VEVENT
BEGIN:VEVENT
DTSTART;TZID=America/New_York:20290814T180000
DTEND;TZID=America/New_York:20290814T200000
DTSTAMP:20260423T152238
CREATED:20250709T125038Z
LAST-MODIFIED:20250709T125038Z
UID:10016905-1881424800-1881432000@epworth.faith
SUMMARY:Trustee Committee Meeting (Zoom)
DESCRIPTION:
URL:https://epworth.faith/event/trustee-committee-meeting-zoom/2029-08-14/
LOCATION:Epworth United Methodist Church\, 19285 Holland Glade Road\, Rehoboth Beach\, DE\, 19971\, United States
ORGANIZER;CN="Tom Lewis":MAILTO:mathguy29@yahoo.com
END:VEVENT
BEGIN:VEVENT
DTSTART;TZID=America/New_York:20290911T180000
DTEND;TZID=America/New_York:20290911T200000
DTSTAMP:20260423T152238
CREATED:20250709T125038Z
LAST-MODIFIED:20250709T125038Z
UID:10016906-1883844000-1883851200@epworth.faith
SUMMARY:Trustee Committee Meeting (Zoom)
DESCRIPTION:
URL:https://epworth.faith/event/trustee-committee-meeting-zoom/2029-09-11/
LOCATION:Epworth United Methodist Church\, 19285 Holland Glade Road\, Rehoboth Beach\, DE\, 19971\, United States
ORGANIZER;CN="Tom Lewis":MAILTO:mathguy29@yahoo.com
END:VEVENT
END:VCALENDAR