BEGIN:VCALENDAR
VERSION:2.0
PRODID:-//Epworth UMC - ECPv6.15.20//NONSGML v1.0//EN
CALSCALE:GREGORIAN
METHOD:PUBLISH
X-ORIGINAL-URL:https://epworth.faith
X-WR-CALDESC:Events for Epworth UMC
REFRESH-INTERVAL;VALUE=DURATION:PT1H
X-Robots-Tag:noindex
X-PUBLISHED-TTL:PT1H
BEGIN:VTIMEZONE
TZID:America/New_York
BEGIN:DAYLIGHT
TZOFFSETFROM:-0500
TZOFFSETTO:-0400
TZNAME:EDT
DTSTART:20290311T070000
END:DAYLIGHT
BEGIN:STANDARD
TZOFFSETFROM:-0400
TZOFFSETTO:-0500
TZNAME:EST
DTSTART:20291104T060000
END:STANDARD
BEGIN:DAYLIGHT
TZOFFSETFROM:-0500
TZOFFSETTO:-0400
TZNAME:EDT
DTSTART:20300310T070000
END:DAYLIGHT
BEGIN:STANDARD
TZOFFSETFROM:-0400
TZOFFSETTO:-0500
TZNAME:EST
DTSTART:20301103T060000
END:STANDARD
BEGIN:DAYLIGHT
TZOFFSETFROM:-0500
TZOFFSETTO:-0400
TZNAME:EDT
DTSTART:20310309T070000
END:DAYLIGHT
BEGIN:STANDARD
TZOFFSETFROM:-0400
TZOFFSETTO:-0500
TZNAME:EST
DTSTART:20311102T060000
END:STANDARD
END:VTIMEZONE
BEGIN:VEVENT
DTSTART;TZID=America/New_York:20300409T180000
DTEND;TZID=America/New_York:20300409T200000
DTSTAMP:20260424T045053
CREATED:20250709T125038Z
LAST-MODIFIED:20250709T125038Z
UID:10016913-1901988000-1901995200@epworth.faith
SUMMARY:Trustee Committee Meeting (Zoom)
DESCRIPTION:
URL:https://epworth.faith/event/trustee-committee-meeting-zoom/2030-04-09/
LOCATION:Epworth United Methodist Church\, 19285 Holland Glade Road\, Rehoboth Beach\, DE\, 19971\, United States
ORGANIZER;CN="Tom Lewis":MAILTO:mathguy29@yahoo.com
END:VEVENT
BEGIN:VEVENT
DTSTART;TZID=America/New_York:20300514T180000
DTEND;TZID=America/New_York:20300514T200000
DTSTAMP:20260424T045053
CREATED:20250709T125038Z
LAST-MODIFIED:20250709T125038Z
UID:10016914-1905012000-1905019200@epworth.faith
SUMMARY:Trustee Committee Meeting (Zoom)
DESCRIPTION:
URL:https://epworth.faith/event/trustee-committee-meeting-zoom/2030-05-14/
LOCATION:Epworth United Methodist Church\, 19285 Holland Glade Road\, Rehoboth Beach\, DE\, 19971\, United States
ORGANIZER;CN="Tom Lewis":MAILTO:mathguy29@yahoo.com
END:VEVENT
BEGIN:VEVENT
DTSTART;TZID=America/New_York:20300611T180000
DTEND;TZID=America/New_York:20300611T200000
DTSTAMP:20260424T045053
CREATED:20250709T125038Z
LAST-MODIFIED:20250709T125038Z
UID:10016915-1907431200-1907438400@epworth.faith
SUMMARY:Trustee Committee Meeting (Zoom)
DESCRIPTION:
URL:https://epworth.faith/event/trustee-committee-meeting-zoom/2030-06-11/
LOCATION:Epworth United Methodist Church\, 19285 Holland Glade Road\, Rehoboth Beach\, DE\, 19971\, United States
ORGANIZER;CN="Tom Lewis":MAILTO:mathguy29@yahoo.com
END:VEVENT
BEGIN:VEVENT
DTSTART;TZID=America/New_York:20300709T180000
DTEND;TZID=America/New_York:20300709T200000
DTSTAMP:20260424T045053
CREATED:20250709T125038Z
LAST-MODIFIED:20250709T125038Z
UID:10016916-1909850400-1909857600@epworth.faith
SUMMARY:Trustee Committee Meeting (Zoom)
DESCRIPTION:
URL:https://epworth.faith/event/trustee-committee-meeting-zoom/2030-07-09/
LOCATION:Epworth United Methodist Church\, 19285 Holland Glade Road\, Rehoboth Beach\, DE\, 19971\, United States
ORGANIZER;CN="Tom Lewis":MAILTO:mathguy29@yahoo.com
END:VEVENT
END:VCALENDAR