BEGIN:VCALENDAR
VERSION:2.0
PRODID:-//Epworth UMC - ECPv6.15.20//NONSGML v1.0//EN
CALSCALE:GREGORIAN
METHOD:PUBLISH
X-ORIGINAL-URL:https://epworth.faith
X-WR-CALDESC:Events for Epworth UMC
REFRESH-INTERVAL;VALUE=DURATION:PT1H
X-Robots-Tag:noindex
X-PUBLISHED-TTL:PT1H
BEGIN:VTIMEZONE
TZID:America/New_York
BEGIN:DAYLIGHT
TZOFFSETFROM:-0500
TZOFFSETTO:-0400
TZNAME:EDT
DTSTART:20230312T070000
END:DAYLIGHT
BEGIN:STANDARD
TZOFFSETFROM:-0400
TZOFFSETTO:-0500
TZNAME:EST
DTSTART:20231105T060000
END:STANDARD
BEGIN:DAYLIGHT
TZOFFSETFROM:-0500
TZOFFSETTO:-0400
TZNAME:EDT
DTSTART:20240310T070000
END:DAYLIGHT
BEGIN:STANDARD
TZOFFSETFROM:-0400
TZOFFSETTO:-0500
TZNAME:EST
DTSTART:20241103T060000
END:STANDARD
BEGIN:DAYLIGHT
TZOFFSETFROM:-0500
TZOFFSETTO:-0400
TZNAME:EDT
DTSTART:20250309T070000
END:DAYLIGHT
BEGIN:STANDARD
TZOFFSETFROM:-0400
TZOFFSETTO:-0500
TZNAME:EST
DTSTART:20251102T060000
END:STANDARD
BEGIN:DAYLIGHT
TZOFFSETFROM:-0500
TZOFFSETTO:-0400
TZNAME:EDT
DTSTART:20260308T070000
END:DAYLIGHT
BEGIN:STANDARD
TZOFFSETFROM:-0400
TZOFFSETTO:-0500
TZNAME:EST
DTSTART:20261101T060000
END:STANDARD
END:VTIMEZONE
BEGIN:VEVENT
DTSTART;TZID=America/New_York:20250227T180000
DTEND;TZID=America/New_York:20250227T200000
DTSTAMP:20260425T104317
CREATED:20250102T154449Z
LAST-MODIFIED:20250303T203012Z
UID:10015526-1740679200-1740686400@epworth.faith
SUMMARY:Disciple Class (Starnes Room)
DESCRIPTION:
URL:https://epworth.faith/event/disciple-class-starnes-room/2025-02-27/
LOCATION:Epworth United Methodist Church\, 19285 Holland Glade Road\, Rehoboth Beach\, DE\, 19971\, United States
CATEGORIES:Church,Groups
ORGANIZER;CN="Val Linder":MAILTO:rovalinder@comcast.net
END:VEVENT
BEGIN:VEVENT
DTSTART;TZID=America/New_York:20250220T180000
DTEND;TZID=America/New_York:20250220T200000
DTSTAMP:20260425T104317
CREATED:20250102T154449Z
LAST-MODIFIED:20250303T203012Z
UID:10015525-1740074400-1740081600@epworth.faith
SUMMARY:Disciple Class (Starnes Room)
DESCRIPTION:
URL:https://epworth.faith/event/disciple-class-starnes-room/2025-02-20/
LOCATION:Epworth United Methodist Church\, 19285 Holland Glade Road\, Rehoboth Beach\, DE\, 19971\, United States
CATEGORIES:Church,Groups
ORGANIZER;CN="Val Linder":MAILTO:rovalinder@comcast.net
END:VEVENT
BEGIN:VEVENT
DTSTART;TZID=America/New_York:20250213T180000
DTEND;TZID=America/New_York:20250213T200000
DTSTAMP:20260425T104317
CREATED:20250102T154449Z
LAST-MODIFIED:20250303T203012Z
UID:10015524-1739469600-1739476800@epworth.faith
SUMMARY:Disciple Class (Starnes Room)
DESCRIPTION:
URL:https://epworth.faith/event/disciple-class-starnes-room/2025-02-13/
LOCATION:Epworth United Methodist Church\, 19285 Holland Glade Road\, Rehoboth Beach\, DE\, 19971\, United States
CATEGORIES:Church,Groups
ORGANIZER;CN="Val Linder":MAILTO:rovalinder@comcast.net
END:VEVENT
BEGIN:VEVENT
DTSTART;TZID=America/New_York:20250206T180000
DTEND;TZID=America/New_York:20250206T200000
DTSTAMP:20260425T104317
CREATED:20250102T154449Z
LAST-MODIFIED:20250303T203012Z
UID:10015523-1738864800-1738872000@epworth.faith
SUMMARY:Disciple Class (Starnes Room)
DESCRIPTION:
URL:https://epworth.faith/event/disciple-class-starnes-room/2025-02-06/
LOCATION:Epworth United Methodist Church\, 19285 Holland Glade Road\, Rehoboth Beach\, DE\, 19971\, United States
CATEGORIES:Church,Groups
ORGANIZER;CN="Val Linder":MAILTO:rovalinder@comcast.net
END:VEVENT
BEGIN:VEVENT
DTSTART;TZID=America/New_York:20241229T111500
DTEND;TZID=America/New_York:20241229T114500
DTSTAMP:20260425T104317
CREATED:20231230T182351Z
LAST-MODIFIED:20231230T182351Z
UID:10012097-1735470900-1735472700@epworth.faith
SUMMARY:Stephen Ministry - Prayer Chapel (Baker Lounge)
DESCRIPTION:
URL:https://epworth.faith/event/stephen-ministry-prayer-chapel-baker-lounge/2024-12-29/
LOCATION:Epworth United Methodist Church\, 19285 Holland Glade Road\, Rehoboth Beach\, DE\, 19971\, United States
CATEGORIES:Church,Groups
ORGANIZER;CN="Val Linder":MAILTO:rovalinder@comcast.net
END:VEVENT
BEGIN:VEVENT
DTSTART;TZID=America/New_York:20241222T111500
DTEND;TZID=America/New_York:20241222T114500
DTSTAMP:20260425T104317
CREATED:20231230T182351Z
LAST-MODIFIED:20231230T182351Z
UID:10012096-1734866100-1734867900@epworth.faith
SUMMARY:Stephen Ministry - Prayer Chapel (Baker Lounge)
DESCRIPTION:
URL:https://epworth.faith/event/stephen-ministry-prayer-chapel-baker-lounge/2024-12-22/
LOCATION:Epworth United Methodist Church\, 19285 Holland Glade Road\, Rehoboth Beach\, DE\, 19971\, United States
CATEGORIES:Church,Groups
ORGANIZER;CN="Val Linder":MAILTO:rovalinder@comcast.net
END:VEVENT
BEGIN:VEVENT
DTSTART;TZID=America/New_York:20241215T111500
DTEND;TZID=America/New_York:20241215T114500
DTSTAMP:20260425T104317
CREATED:20231230T182351Z
LAST-MODIFIED:20231230T182351Z
UID:10012095-1734261300-1734263100@epworth.faith
SUMMARY:Stephen Ministry - Prayer Chapel (Baker Lounge)
DESCRIPTION:
URL:https://epworth.faith/event/stephen-ministry-prayer-chapel-baker-lounge/2024-12-15/
LOCATION:Epworth United Methodist Church\, 19285 Holland Glade Road\, Rehoboth Beach\, DE\, 19971\, United States
CATEGORIES:Church,Groups
ORGANIZER;CN="Val Linder":MAILTO:rovalinder@comcast.net
END:VEVENT
BEGIN:VEVENT
DTSTART;TZID=America/New_York:20241208T111500
DTEND;TZID=America/New_York:20241208T114500
DTSTAMP:20260425T104317
CREATED:20231230T182351Z
LAST-MODIFIED:20231230T182351Z
UID:10012094-1733656500-1733658300@epworth.faith
SUMMARY:Stephen Ministry - Prayer Chapel (Baker Lounge)
DESCRIPTION:
URL:https://epworth.faith/event/stephen-ministry-prayer-chapel-baker-lounge/2024-12-08/
LOCATION:Epworth United Methodist Church\, 19285 Holland Glade Road\, Rehoboth Beach\, DE\, 19971\, United States
CATEGORIES:Church,Groups
ORGANIZER;CN="Val Linder":MAILTO:rovalinder@comcast.net
END:VEVENT
BEGIN:VEVENT
DTSTART;TZID=America/New_York:20241201T111500
DTEND;TZID=America/New_York:20241201T114500
DTSTAMP:20260425T104317
CREATED:20231230T182351Z
LAST-MODIFIED:20231230T182351Z
UID:10012093-1733051700-1733053500@epworth.faith
SUMMARY:Stephen Ministry - Prayer Chapel (Baker Lounge)
DESCRIPTION:
URL:https://epworth.faith/event/stephen-ministry-prayer-chapel-baker-lounge/2024-12-01/
LOCATION:Epworth United Methodist Church\, 19285 Holland Glade Road\, Rehoboth Beach\, DE\, 19971\, United States
CATEGORIES:Church,Groups
ORGANIZER;CN="Val Linder":MAILTO:rovalinder@comcast.net
END:VEVENT
BEGIN:VEVENT
DTSTART;TZID=America/New_York:20241124T111500
DTEND;TZID=America/New_York:20241124T114500
DTSTAMP:20260425T104317
CREATED:20231230T182351Z
LAST-MODIFIED:20231230T182351Z
UID:10012092-1732446900-1732448700@epworth.faith
SUMMARY:Stephen Ministry - Prayer Chapel (Baker Lounge)
DESCRIPTION:
URL:https://epworth.faith/event/stephen-ministry-prayer-chapel-baker-lounge/2024-11-24/
LOCATION:Epworth United Methodist Church\, 19285 Holland Glade Road\, Rehoboth Beach\, DE\, 19971\, United States
CATEGORIES:Church,Groups
ORGANIZER;CN="Val Linder":MAILTO:rovalinder@comcast.net
END:VEVENT
BEGIN:VEVENT
DTSTART;TZID=America/New_York:20241117T111500
DTEND;TZID=America/New_York:20241117T114500
DTSTAMP:20260425T104317
CREATED:20231230T182351Z
LAST-MODIFIED:20231230T182351Z
UID:10012091-1731842100-1731843900@epworth.faith
SUMMARY:Stephen Ministry - Prayer Chapel (Baker Lounge)
DESCRIPTION:
URL:https://epworth.faith/event/stephen-ministry-prayer-chapel-baker-lounge/2024-11-17/
LOCATION:Epworth United Methodist Church\, 19285 Holland Glade Road\, Rehoboth Beach\, DE\, 19971\, United States
CATEGORIES:Church,Groups
ORGANIZER;CN="Val Linder":MAILTO:rovalinder@comcast.net
END:VEVENT
BEGIN:VEVENT
DTSTART;TZID=America/New_York:20241110T111500
DTEND;TZID=America/New_York:20241110T114500
DTSTAMP:20260425T104317
CREATED:20231230T182351Z
LAST-MODIFIED:20231230T182351Z
UID:10012090-1731237300-1731239100@epworth.faith
SUMMARY:Stephen Ministry - Prayer Chapel (Baker Lounge)
DESCRIPTION:
URL:https://epworth.faith/event/stephen-ministry-prayer-chapel-baker-lounge/2024-11-10/
LOCATION:Epworth United Methodist Church\, 19285 Holland Glade Road\, Rehoboth Beach\, DE\, 19971\, United States
CATEGORIES:Church,Groups
ORGANIZER;CN="Val Linder":MAILTO:rovalinder@comcast.net
END:VEVENT
BEGIN:VEVENT
DTSTART;TZID=America/New_York:20241103T111500
DTEND;TZID=America/New_York:20241103T114500
DTSTAMP:20260425T104317
CREATED:20231230T182351Z
LAST-MODIFIED:20231230T182351Z
UID:10012089-1730632500-1730634300@epworth.faith
SUMMARY:Stephen Ministry - Prayer Chapel (Baker Lounge)
DESCRIPTION:
URL:https://epworth.faith/event/stephen-ministry-prayer-chapel-baker-lounge/2024-11-03/
LOCATION:Epworth United Methodist Church\, 19285 Holland Glade Road\, Rehoboth Beach\, DE\, 19971\, United States
CATEGORIES:Church,Groups
ORGANIZER;CN="Val Linder":MAILTO:rovalinder@comcast.net
END:VEVENT
BEGIN:VEVENT
DTSTART;TZID=America/New_York:20241027T111500
DTEND;TZID=America/New_York:20241027T114500
DTSTAMP:20260425T104317
CREATED:20231230T182351Z
LAST-MODIFIED:20231230T182351Z
UID:10012088-1730027700-1730029500@epworth.faith
SUMMARY:Stephen Ministry - Prayer Chapel (Baker Lounge)
DESCRIPTION:
URL:https://epworth.faith/event/stephen-ministry-prayer-chapel-baker-lounge/2024-10-27/
LOCATION:Epworth United Methodist Church\, 19285 Holland Glade Road\, Rehoboth Beach\, DE\, 19971\, United States
CATEGORIES:Church,Groups
ORGANIZER;CN="Val Linder":MAILTO:rovalinder@comcast.net
END:VEVENT
BEGIN:VEVENT
DTSTART;TZID=America/New_York:20241020T111500
DTEND;TZID=America/New_York:20241020T114500
DTSTAMP:20260425T104317
CREATED:20231230T182351Z
LAST-MODIFIED:20231230T182351Z
UID:10012087-1729422900-1729424700@epworth.faith
SUMMARY:Stephen Ministry - Prayer Chapel (Baker Lounge)
DESCRIPTION:
URL:https://epworth.faith/event/stephen-ministry-prayer-chapel-baker-lounge/2024-10-20/
LOCATION:Epworth United Methodist Church\, 19285 Holland Glade Road\, Rehoboth Beach\, DE\, 19971\, United States
CATEGORIES:Church,Groups
ORGANIZER;CN="Val Linder":MAILTO:rovalinder@comcast.net
END:VEVENT
BEGIN:VEVENT
DTSTART;TZID=America/New_York:20241013T111500
DTEND;TZID=America/New_York:20241013T114500
DTSTAMP:20260425T104317
CREATED:20231230T182351Z
LAST-MODIFIED:20231230T182351Z
UID:10012086-1728818100-1728819900@epworth.faith
SUMMARY:Stephen Ministry - Prayer Chapel (Baker Lounge)
DESCRIPTION:
URL:https://epworth.faith/event/stephen-ministry-prayer-chapel-baker-lounge/2024-10-13/
LOCATION:Epworth United Methodist Church\, 19285 Holland Glade Road\, Rehoboth Beach\, DE\, 19971\, United States
CATEGORIES:Church,Groups
ORGANIZER;CN="Val Linder":MAILTO:rovalinder@comcast.net
END:VEVENT
BEGIN:VEVENT
DTSTART;TZID=America/New_York:20241006T111500
DTEND;TZID=America/New_York:20241006T114500
DTSTAMP:20260425T104317
CREATED:20231230T182351Z
LAST-MODIFIED:20231230T182351Z
UID:10012085-1728213300-1728215100@epworth.faith
SUMMARY:Stephen Ministry - Prayer Chapel (Baker Lounge)
DESCRIPTION:
URL:https://epworth.faith/event/stephen-ministry-prayer-chapel-baker-lounge/2024-10-06/
LOCATION:Epworth United Methodist Church\, 19285 Holland Glade Road\, Rehoboth Beach\, DE\, 19971\, United States
CATEGORIES:Church,Groups
ORGANIZER;CN="Val Linder":MAILTO:rovalinder@comcast.net
END:VEVENT
BEGIN:VEVENT
DTSTART;TZID=America/New_York:20240930T110000
DTEND;TZID=America/New_York:20240930T120000
DTSTAMP:20260425T104317
CREATED:20230911T183419Z
LAST-MODIFIED:20230911T183419Z
UID:10009373-1727694000-1727697600@epworth.faith
SUMMARY:Flower Ministry (Starnes Room)
DESCRIPTION:
URL:https://epworth.faith/event/flower-ministry-starnes-room-2/2024-09-30/
LOCATION:Epworth United Methodist Church\, 19285 Holland Glade Road\, Rehoboth Beach\, DE\, 19971\, United States
CATEGORIES:Church,Groups
ORGANIZER;CN="Val Linder":MAILTO:rovalinder@comcast.net
END:VEVENT
BEGIN:VEVENT
DTSTART;TZID=America/New_York:20240929T111500
DTEND;TZID=America/New_York:20240929T114500
DTSTAMP:20260425T104317
CREATED:20231230T182351Z
LAST-MODIFIED:20231230T182351Z
UID:10012084-1727608500-1727610300@epworth.faith
SUMMARY:Stephen Ministry - Prayer Chapel (Baker Lounge)
DESCRIPTION:
URL:https://epworth.faith/event/stephen-ministry-prayer-chapel-baker-lounge/2024-09-29/
LOCATION:Epworth United Methodist Church\, 19285 Holland Glade Road\, Rehoboth Beach\, DE\, 19971\, United States
CATEGORIES:Church,Groups
ORGANIZER;CN="Val Linder":MAILTO:rovalinder@comcast.net
END:VEVENT
BEGIN:VEVENT
DTSTART;TZID=America/New_York:20240923T110000
DTEND;TZID=America/New_York:20240923T120000
DTSTAMP:20260425T104317
CREATED:20230911T183419Z
LAST-MODIFIED:20230911T183419Z
UID:10009372-1727089200-1727092800@epworth.faith
SUMMARY:Flower Ministry (Starnes Room)
DESCRIPTION:
URL:https://epworth.faith/event/flower-ministry-starnes-room-2/2024-09-23/
LOCATION:Epworth United Methodist Church\, 19285 Holland Glade Road\, Rehoboth Beach\, DE\, 19971\, United States
CATEGORIES:Church,Groups
ORGANIZER;CN="Val Linder":MAILTO:rovalinder@comcast.net
END:VEVENT
BEGIN:VEVENT
DTSTART;TZID=America/New_York:20240922T111500
DTEND;TZID=America/New_York:20240922T114500
DTSTAMP:20260425T104317
CREATED:20231230T182351Z
LAST-MODIFIED:20231230T182351Z
UID:10012083-1727003700-1727005500@epworth.faith
SUMMARY:Stephen Ministry - Prayer Chapel (Baker Lounge)
DESCRIPTION:
URL:https://epworth.faith/event/stephen-ministry-prayer-chapel-baker-lounge/2024-09-22/
LOCATION:Epworth United Methodist Church\, 19285 Holland Glade Road\, Rehoboth Beach\, DE\, 19971\, United States
CATEGORIES:Church,Groups
ORGANIZER;CN="Val Linder":MAILTO:rovalinder@comcast.net
END:VEVENT
BEGIN:VEVENT
DTSTART;TZID=America/New_York:20240916T110000
DTEND;TZID=America/New_York:20240916T120000
DTSTAMP:20260425T104317
CREATED:20230911T183419Z
LAST-MODIFIED:20230911T183419Z
UID:10009371-1726484400-1726488000@epworth.faith
SUMMARY:Flower Ministry (Starnes Room)
DESCRIPTION:
URL:https://epworth.faith/event/flower-ministry-starnes-room-2/2024-09-16/
LOCATION:Epworth United Methodist Church\, 19285 Holland Glade Road\, Rehoboth Beach\, DE\, 19971\, United States
CATEGORIES:Church,Groups
ORGANIZER;CN="Val Linder":MAILTO:rovalinder@comcast.net
END:VEVENT
BEGIN:VEVENT
DTSTART;TZID=America/New_York:20240915T111500
DTEND;TZID=America/New_York:20240915T114500
DTSTAMP:20260425T104317
CREATED:20231230T182351Z
LAST-MODIFIED:20231230T182351Z
UID:10012082-1726398900-1726400700@epworth.faith
SUMMARY:Stephen Ministry - Prayer Chapel (Baker Lounge)
DESCRIPTION:
URL:https://epworth.faith/event/stephen-ministry-prayer-chapel-baker-lounge/2024-09-15/
LOCATION:Epworth United Methodist Church\, 19285 Holland Glade Road\, Rehoboth Beach\, DE\, 19971\, United States
CATEGORIES:Church,Groups
ORGANIZER;CN="Val Linder":MAILTO:rovalinder@comcast.net
END:VEVENT
BEGIN:VEVENT
DTSTART;TZID=America/New_York:20240909T110000
DTEND;TZID=America/New_York:20240909T120000
DTSTAMP:20260425T104317
CREATED:20230911T183419Z
LAST-MODIFIED:20230911T183419Z
UID:10009370-1725879600-1725883200@epworth.faith
SUMMARY:Flower Ministry (Starnes Room)
DESCRIPTION:
URL:https://epworth.faith/event/flower-ministry-starnes-room-2/2024-09-09/
LOCATION:Epworth United Methodist Church\, 19285 Holland Glade Road\, Rehoboth Beach\, DE\, 19971\, United States
CATEGORIES:Church,Groups
ORGANIZER;CN="Val Linder":MAILTO:rovalinder@comcast.net
END:VEVENT
BEGIN:VEVENT
DTSTART;TZID=America/New_York:20240908T111500
DTEND;TZID=America/New_York:20240908T114500
DTSTAMP:20260425T104317
CREATED:20231230T182351Z
LAST-MODIFIED:20231230T182351Z
UID:10012081-1725794100-1725795900@epworth.faith
SUMMARY:Stephen Ministry - Prayer Chapel (Baker Lounge)
DESCRIPTION:
URL:https://epworth.faith/event/stephen-ministry-prayer-chapel-baker-lounge/2024-09-08/
LOCATION:Epworth United Methodist Church\, 19285 Holland Glade Road\, Rehoboth Beach\, DE\, 19971\, United States
CATEGORIES:Church,Groups
ORGANIZER;CN="Val Linder":MAILTO:rovalinder@comcast.net
END:VEVENT
BEGIN:VEVENT
DTSTART;TZID=America/New_York:20240902T110000
DTEND;TZID=America/New_York:20240902T120000
DTSTAMP:20260425T104317
CREATED:20230911T183419Z
LAST-MODIFIED:20230911T183419Z
UID:10009369-1725274800-1725278400@epworth.faith
SUMMARY:Flower Ministry (Starnes Room)
DESCRIPTION:
URL:https://epworth.faith/event/flower-ministry-starnes-room-2/2024-09-02/
LOCATION:Epworth United Methodist Church\, 19285 Holland Glade Road\, Rehoboth Beach\, DE\, 19971\, United States
CATEGORIES:Church,Groups
ORGANIZER;CN="Val Linder":MAILTO:rovalinder@comcast.net
END:VEVENT
BEGIN:VEVENT
DTSTART;TZID=America/New_York:20240901T111500
DTEND;TZID=America/New_York:20240901T114500
DTSTAMP:20260425T104317
CREATED:20231230T182351Z
LAST-MODIFIED:20231230T182351Z
UID:10012080-1725189300-1725191100@epworth.faith
SUMMARY:Stephen Ministry - Prayer Chapel (Baker Lounge)
DESCRIPTION:
URL:https://epworth.faith/event/stephen-ministry-prayer-chapel-baker-lounge/2024-09-01/
LOCATION:Epworth United Methodist Church\, 19285 Holland Glade Road\, Rehoboth Beach\, DE\, 19971\, United States
CATEGORIES:Church,Groups
ORGANIZER;CN="Val Linder":MAILTO:rovalinder@comcast.net
END:VEVENT
BEGIN:VEVENT
DTSTART;TZID=America/New_York:20240826T110000
DTEND;TZID=America/New_York:20240826T120000
DTSTAMP:20260425T104317
CREATED:20230911T183419Z
LAST-MODIFIED:20230911T183419Z
UID:10009368-1724670000-1724673600@epworth.faith
SUMMARY:Flower Ministry (Starnes Room)
DESCRIPTION:
URL:https://epworth.faith/event/flower-ministry-starnes-room-2/2024-08-26/
LOCATION:Epworth United Methodist Church\, 19285 Holland Glade Road\, Rehoboth Beach\, DE\, 19971\, United States
CATEGORIES:Church,Groups
ORGANIZER;CN="Val Linder":MAILTO:rovalinder@comcast.net
END:VEVENT
BEGIN:VEVENT
DTSTART;TZID=America/New_York:20240825T111500
DTEND;TZID=America/New_York:20240825T114500
DTSTAMP:20260425T104317
CREATED:20231230T182351Z
LAST-MODIFIED:20231230T182351Z
UID:10012079-1724584500-1724586300@epworth.faith
SUMMARY:Stephen Ministry - Prayer Chapel (Baker Lounge)
DESCRIPTION:
URL:https://epworth.faith/event/stephen-ministry-prayer-chapel-baker-lounge/2024-08-25/
LOCATION:Epworth United Methodist Church\, 19285 Holland Glade Road\, Rehoboth Beach\, DE\, 19971\, United States
CATEGORIES:Church,Groups
ORGANIZER;CN="Val Linder":MAILTO:rovalinder@comcast.net
END:VEVENT
BEGIN:VEVENT
DTSTART;TZID=America/New_York:20240819T110000
DTEND;TZID=America/New_York:20240819T120000
DTSTAMP:20260425T104317
CREATED:20230911T183419Z
LAST-MODIFIED:20230911T183419Z
UID:10009367-1724065200-1724068800@epworth.faith
SUMMARY:Flower Ministry (Starnes Room)
DESCRIPTION:
URL:https://epworth.faith/event/flower-ministry-starnes-room-2/2024-08-19/
LOCATION:Epworth United Methodist Church\, 19285 Holland Glade Road\, Rehoboth Beach\, DE\, 19971\, United States
CATEGORIES:Church,Groups
ORGANIZER;CN="Val Linder":MAILTO:rovalinder@comcast.net
END:VEVENT
END:VCALENDAR