BEGIN:VCALENDAR
VERSION:2.0
PRODID:-//Epworth UMC - ECPv6.15.20//NONSGML v1.0//EN
CALSCALE:GREGORIAN
METHOD:PUBLISH
X-ORIGINAL-URL:https://epworth.faith
X-WR-CALDESC:Events for Epworth UMC
REFRESH-INTERVAL;VALUE=DURATION:PT1H
X-Robots-Tag:noindex
X-PUBLISHED-TTL:PT1H
BEGIN:VTIMEZONE
TZID:America/New_York
BEGIN:DAYLIGHT
TZOFFSETFROM:-0500
TZOFFSETTO:-0400
TZNAME:EDT
DTSTART:20230312T070000
END:DAYLIGHT
BEGIN:STANDARD
TZOFFSETFROM:-0400
TZOFFSETTO:-0500
TZNAME:EST
DTSTART:20231105T060000
END:STANDARD
BEGIN:DAYLIGHT
TZOFFSETFROM:-0500
TZOFFSETTO:-0400
TZNAME:EDT
DTSTART:20240310T070000
END:DAYLIGHT
BEGIN:STANDARD
TZOFFSETFROM:-0400
TZOFFSETTO:-0500
TZNAME:EST
DTSTART:20241103T060000
END:STANDARD
BEGIN:DAYLIGHT
TZOFFSETFROM:-0500
TZOFFSETTO:-0400
TZNAME:EDT
DTSTART:20250309T070000
END:DAYLIGHT
BEGIN:STANDARD
TZOFFSETFROM:-0400
TZOFFSETTO:-0500
TZNAME:EST
DTSTART:20251102T060000
END:STANDARD
END:VTIMEZONE
BEGIN:VEVENT
DTSTART;TZID=America/New_York:20240908T111500
DTEND;TZID=America/New_York:20240908T114500
DTSTAMP:20260425T230303
CREATED:20231230T182351Z
LAST-MODIFIED:20231230T182351Z
UID:10012081-1725794100-1725795900@epworth.faith
SUMMARY:Stephen Ministry - Prayer Chapel (Baker Lounge)
DESCRIPTION:
URL:https://epworth.faith/event/stephen-ministry-prayer-chapel-baker-lounge/2024-09-08/
LOCATION:Epworth United Methodist Church\, 19285 Holland Glade Road\, Rehoboth Beach\, DE\, 19971\, United States
CATEGORIES:Church,Groups
ORGANIZER;CN="Val Linder":MAILTO:rovalinder@comcast.net
END:VEVENT
BEGIN:VEVENT
DTSTART;TZID=America/New_York:20240902T110000
DTEND;TZID=America/New_York:20240902T120000
DTSTAMP:20260425T230303
CREATED:20230911T183419Z
LAST-MODIFIED:20230911T183419Z
UID:10009369-1725274800-1725278400@epworth.faith
SUMMARY:Flower Ministry (Starnes Room)
DESCRIPTION:
URL:https://epworth.faith/event/flower-ministry-starnes-room-2/2024-09-02/
LOCATION:Epworth United Methodist Church\, 19285 Holland Glade Road\, Rehoboth Beach\, DE\, 19971\, United States
CATEGORIES:Church,Groups
ORGANIZER;CN="Val Linder":MAILTO:rovalinder@comcast.net
END:VEVENT
BEGIN:VEVENT
DTSTART;TZID=America/New_York:20240901T111500
DTEND;TZID=America/New_York:20240901T114500
DTSTAMP:20260425T230303
CREATED:20231230T182351Z
LAST-MODIFIED:20231230T182351Z
UID:10012080-1725189300-1725191100@epworth.faith
SUMMARY:Stephen Ministry - Prayer Chapel (Baker Lounge)
DESCRIPTION:
URL:https://epworth.faith/event/stephen-ministry-prayer-chapel-baker-lounge/2024-09-01/
LOCATION:Epworth United Methodist Church\, 19285 Holland Glade Road\, Rehoboth Beach\, DE\, 19971\, United States
CATEGORIES:Church,Groups
ORGANIZER;CN="Val Linder":MAILTO:rovalinder@comcast.net
END:VEVENT
BEGIN:VEVENT
DTSTART;TZID=America/New_York:20240826T110000
DTEND;TZID=America/New_York:20240826T120000
DTSTAMP:20260425T230303
CREATED:20230911T183419Z
LAST-MODIFIED:20230911T183419Z
UID:10009368-1724670000-1724673600@epworth.faith
SUMMARY:Flower Ministry (Starnes Room)
DESCRIPTION:
URL:https://epworth.faith/event/flower-ministry-starnes-room-2/2024-08-26/
LOCATION:Epworth United Methodist Church\, 19285 Holland Glade Road\, Rehoboth Beach\, DE\, 19971\, United States
CATEGORIES:Church,Groups
ORGANIZER;CN="Val Linder":MAILTO:rovalinder@comcast.net
END:VEVENT
BEGIN:VEVENT
DTSTART;TZID=America/New_York:20240825T111500
DTEND;TZID=America/New_York:20240825T114500
DTSTAMP:20260425T230303
CREATED:20231230T182351Z
LAST-MODIFIED:20231230T182351Z
UID:10012079-1724584500-1724586300@epworth.faith
SUMMARY:Stephen Ministry - Prayer Chapel (Baker Lounge)
DESCRIPTION:
URL:https://epworth.faith/event/stephen-ministry-prayer-chapel-baker-lounge/2024-08-25/
LOCATION:Epworth United Methodist Church\, 19285 Holland Glade Road\, Rehoboth Beach\, DE\, 19971\, United States
CATEGORIES:Church,Groups
ORGANIZER;CN="Val Linder":MAILTO:rovalinder@comcast.net
END:VEVENT
BEGIN:VEVENT
DTSTART;TZID=America/New_York:20240819T110000
DTEND;TZID=America/New_York:20240819T120000
DTSTAMP:20260425T230303
CREATED:20230911T183419Z
LAST-MODIFIED:20230911T183419Z
UID:10009367-1724065200-1724068800@epworth.faith
SUMMARY:Flower Ministry (Starnes Room)
DESCRIPTION:
URL:https://epworth.faith/event/flower-ministry-starnes-room-2/2024-08-19/
LOCATION:Epworth United Methodist Church\, 19285 Holland Glade Road\, Rehoboth Beach\, DE\, 19971\, United States
CATEGORIES:Church,Groups
ORGANIZER;CN="Val Linder":MAILTO:rovalinder@comcast.net
END:VEVENT
BEGIN:VEVENT
DTSTART;TZID=America/New_York:20240818T111500
DTEND;TZID=America/New_York:20240818T114500
DTSTAMP:20260425T230303
CREATED:20231230T182351Z
LAST-MODIFIED:20231230T182351Z
UID:10012078-1723979700-1723981500@epworth.faith
SUMMARY:Stephen Ministry - Prayer Chapel (Baker Lounge)
DESCRIPTION:
URL:https://epworth.faith/event/stephen-ministry-prayer-chapel-baker-lounge/2024-08-18/
LOCATION:Epworth United Methodist Church\, 19285 Holland Glade Road\, Rehoboth Beach\, DE\, 19971\, United States
CATEGORIES:Church,Groups
ORGANIZER;CN="Val Linder":MAILTO:rovalinder@comcast.net
END:VEVENT
BEGIN:VEVENT
DTSTART;TZID=America/New_York:20240812T110000
DTEND;TZID=America/New_York:20240812T120000
DTSTAMP:20260425T230303
CREATED:20230911T183419Z
LAST-MODIFIED:20230911T183419Z
UID:10009366-1723460400-1723464000@epworth.faith
SUMMARY:Flower Ministry (Starnes Room)
DESCRIPTION:
URL:https://epworth.faith/event/flower-ministry-starnes-room-2/2024-08-12/
LOCATION:Epworth United Methodist Church\, 19285 Holland Glade Road\, Rehoboth Beach\, DE\, 19971\, United States
CATEGORIES:Church,Groups
ORGANIZER;CN="Val Linder":MAILTO:rovalinder@comcast.net
END:VEVENT
BEGIN:VEVENT
DTSTART;TZID=America/New_York:20240811T111500
DTEND;TZID=America/New_York:20240811T114500
DTSTAMP:20260425T230303
CREATED:20231230T182351Z
LAST-MODIFIED:20231230T182351Z
UID:10012077-1723374900-1723376700@epworth.faith
SUMMARY:Stephen Ministry - Prayer Chapel (Baker Lounge)
DESCRIPTION:
URL:https://epworth.faith/event/stephen-ministry-prayer-chapel-baker-lounge/2024-08-11/
LOCATION:Epworth United Methodist Church\, 19285 Holland Glade Road\, Rehoboth Beach\, DE\, 19971\, United States
CATEGORIES:Church,Groups
ORGANIZER;CN="Val Linder":MAILTO:rovalinder@comcast.net
END:VEVENT
BEGIN:VEVENT
DTSTART;TZID=America/New_York:20240805T110000
DTEND;TZID=America/New_York:20240805T120000
DTSTAMP:20260425T230303
CREATED:20230911T183419Z
LAST-MODIFIED:20230911T183419Z
UID:10009365-1722855600-1722859200@epworth.faith
SUMMARY:Flower Ministry (Starnes Room)
DESCRIPTION:
URL:https://epworth.faith/event/flower-ministry-starnes-room-2/2024-08-05/
LOCATION:Epworth United Methodist Church\, 19285 Holland Glade Road\, Rehoboth Beach\, DE\, 19971\, United States
CATEGORIES:Church,Groups
ORGANIZER;CN="Val Linder":MAILTO:rovalinder@comcast.net
END:VEVENT
BEGIN:VEVENT
DTSTART;TZID=America/New_York:20240804T111500
DTEND;TZID=America/New_York:20240804T114500
DTSTAMP:20260425T230303
CREATED:20231230T182351Z
LAST-MODIFIED:20231230T182351Z
UID:10012076-1722770100-1722771900@epworth.faith
SUMMARY:Stephen Ministry - Prayer Chapel (Baker Lounge)
DESCRIPTION:
URL:https://epworth.faith/event/stephen-ministry-prayer-chapel-baker-lounge/2024-08-04/
LOCATION:Epworth United Methodist Church\, 19285 Holland Glade Road\, Rehoboth Beach\, DE\, 19971\, United States
CATEGORIES:Church,Groups
ORGANIZER;CN="Val Linder":MAILTO:rovalinder@comcast.net
END:VEVENT
BEGIN:VEVENT
DTSTART;TZID=America/New_York:20240729T110000
DTEND;TZID=America/New_York:20240729T120000
DTSTAMP:20260425T230303
CREATED:20230911T183419Z
LAST-MODIFIED:20230911T183419Z
UID:10009364-1722250800-1722254400@epworth.faith
SUMMARY:Flower Ministry (Starnes Room)
DESCRIPTION:
URL:https://epworth.faith/event/flower-ministry-starnes-room-2/2024-07-29/
LOCATION:Epworth United Methodist Church\, 19285 Holland Glade Road\, Rehoboth Beach\, DE\, 19971\, United States
CATEGORIES:Church,Groups
ORGANIZER;CN="Val Linder":MAILTO:rovalinder@comcast.net
END:VEVENT
BEGIN:VEVENT
DTSTART;TZID=America/New_York:20240728T111500
DTEND;TZID=America/New_York:20240728T114500
DTSTAMP:20260425T230303
CREATED:20231230T182351Z
LAST-MODIFIED:20231230T182351Z
UID:10012075-1722165300-1722167100@epworth.faith
SUMMARY:Stephen Ministry - Prayer Chapel (Baker Lounge)
DESCRIPTION:
URL:https://epworth.faith/event/stephen-ministry-prayer-chapel-baker-lounge/2024-07-28/
LOCATION:Epworth United Methodist Church\, 19285 Holland Glade Road\, Rehoboth Beach\, DE\, 19971\, United States
CATEGORIES:Church,Groups
ORGANIZER;CN="Val Linder":MAILTO:rovalinder@comcast.net
END:VEVENT
BEGIN:VEVENT
DTSTART;TZID=America/New_York:20240722T110000
DTEND;TZID=America/New_York:20240722T120000
DTSTAMP:20260425T230303
CREATED:20230911T183419Z
LAST-MODIFIED:20230911T183419Z
UID:10009363-1721646000-1721649600@epworth.faith
SUMMARY:Flower Ministry (Starnes Room)
DESCRIPTION:
URL:https://epworth.faith/event/flower-ministry-starnes-room-2/2024-07-22/
LOCATION:Epworth United Methodist Church\, 19285 Holland Glade Road\, Rehoboth Beach\, DE\, 19971\, United States
CATEGORIES:Church,Groups
ORGANIZER;CN="Val Linder":MAILTO:rovalinder@comcast.net
END:VEVENT
BEGIN:VEVENT
DTSTART;TZID=America/New_York:20240721T111500
DTEND;TZID=America/New_York:20240721T114500
DTSTAMP:20260425T230303
CREATED:20231230T182351Z
LAST-MODIFIED:20231230T182351Z
UID:10012074-1721560500-1721562300@epworth.faith
SUMMARY:Stephen Ministry - Prayer Chapel (Baker Lounge)
DESCRIPTION:
URL:https://epworth.faith/event/stephen-ministry-prayer-chapel-baker-lounge/2024-07-21/
LOCATION:Epworth United Methodist Church\, 19285 Holland Glade Road\, Rehoboth Beach\, DE\, 19971\, United States
CATEGORIES:Church,Groups
ORGANIZER;CN="Val Linder":MAILTO:rovalinder@comcast.net
END:VEVENT
BEGIN:VEVENT
DTSTART;TZID=America/New_York:20240715T110000
DTEND;TZID=America/New_York:20240715T120000
DTSTAMP:20260425T230303
CREATED:20230911T183419Z
LAST-MODIFIED:20230911T183419Z
UID:10009362-1721041200-1721044800@epworth.faith
SUMMARY:Flower Ministry (Starnes Room)
DESCRIPTION:
URL:https://epworth.faith/event/flower-ministry-starnes-room-2/2024-07-15/
LOCATION:Epworth United Methodist Church\, 19285 Holland Glade Road\, Rehoboth Beach\, DE\, 19971\, United States
CATEGORIES:Church,Groups
ORGANIZER;CN="Val Linder":MAILTO:rovalinder@comcast.net
END:VEVENT
BEGIN:VEVENT
DTSTART;TZID=America/New_York:20240714T111500
DTEND;TZID=America/New_York:20240714T114500
DTSTAMP:20260425T230303
CREATED:20231230T182351Z
LAST-MODIFIED:20231230T182351Z
UID:10012073-1720955700-1720957500@epworth.faith
SUMMARY:Stephen Ministry - Prayer Chapel (Baker Lounge)
DESCRIPTION:
URL:https://epworth.faith/event/stephen-ministry-prayer-chapel-baker-lounge/2024-07-14/
LOCATION:Epworth United Methodist Church\, 19285 Holland Glade Road\, Rehoboth Beach\, DE\, 19971\, United States
CATEGORIES:Church,Groups
ORGANIZER;CN="Val Linder":MAILTO:rovalinder@comcast.net
END:VEVENT
BEGIN:VEVENT
DTSTART;TZID=America/New_York:20240708T110000
DTEND;TZID=America/New_York:20240708T120000
DTSTAMP:20260425T230303
CREATED:20230911T183419Z
LAST-MODIFIED:20230911T183419Z
UID:10009361-1720436400-1720440000@epworth.faith
SUMMARY:Flower Ministry (Starnes Room)
DESCRIPTION:
URL:https://epworth.faith/event/flower-ministry-starnes-room-2/2024-07-08/
LOCATION:Epworth United Methodist Church\, 19285 Holland Glade Road\, Rehoboth Beach\, DE\, 19971\, United States
CATEGORIES:Church,Groups
ORGANIZER;CN="Val Linder":MAILTO:rovalinder@comcast.net
END:VEVENT
BEGIN:VEVENT
DTSTART;TZID=America/New_York:20240707T111500
DTEND;TZID=America/New_York:20240707T114500
DTSTAMP:20260425T230303
CREATED:20231230T182351Z
LAST-MODIFIED:20231230T182351Z
UID:10012072-1720350900-1720352700@epworth.faith
SUMMARY:Stephen Ministry - Prayer Chapel (Baker Lounge)
DESCRIPTION:
URL:https://epworth.faith/event/stephen-ministry-prayer-chapel-baker-lounge/2024-07-07/
LOCATION:Epworth United Methodist Church\, 19285 Holland Glade Road\, Rehoboth Beach\, DE\, 19971\, United States
CATEGORIES:Church,Groups
ORGANIZER;CN="Val Linder":MAILTO:rovalinder@comcast.net
END:VEVENT
BEGIN:VEVENT
DTSTART;TZID=America/New_York:20240701T110000
DTEND;TZID=America/New_York:20240701T120000
DTSTAMP:20260425T230303
CREATED:20230911T183419Z
LAST-MODIFIED:20230911T183419Z
UID:10009360-1719831600-1719835200@epworth.faith
SUMMARY:Flower Ministry (Starnes Room)
DESCRIPTION:
URL:https://epworth.faith/event/flower-ministry-starnes-room-2/2024-07-01/
LOCATION:Epworth United Methodist Church\, 19285 Holland Glade Road\, Rehoboth Beach\, DE\, 19971\, United States
CATEGORIES:Church,Groups
ORGANIZER;CN="Val Linder":MAILTO:rovalinder@comcast.net
END:VEVENT
BEGIN:VEVENT
DTSTART;TZID=America/New_York:20240630T111500
DTEND;TZID=America/New_York:20240630T114500
DTSTAMP:20260425T230303
CREATED:20231230T182351Z
LAST-MODIFIED:20231230T182351Z
UID:10012071-1719746100-1719747900@epworth.faith
SUMMARY:Stephen Ministry - Prayer Chapel (Baker Lounge)
DESCRIPTION:
URL:https://epworth.faith/event/stephen-ministry-prayer-chapel-baker-lounge/2024-06-30/
LOCATION:Epworth United Methodist Church\, 19285 Holland Glade Road\, Rehoboth Beach\, DE\, 19971\, United States
CATEGORIES:Church,Groups
ORGANIZER;CN="Val Linder":MAILTO:rovalinder@comcast.net
END:VEVENT
BEGIN:VEVENT
DTSTART;TZID=America/New_York:20240630T110000
DTEND;TZID=America/New_York:20240630T120000
DTSTAMP:20260425T230303
CREATED:20230911T183054Z
LAST-MODIFIED:20230911T183054Z
UID:10009319-1719745200-1719748800@epworth.faith
SUMMARY:Flower Ministry (Starnes Room)
DESCRIPTION:
URL:https://epworth.faith/event/flower-ministry-starnes-room/2024-06-30/
LOCATION:Epworth United Methodist Church\, 19285 Holland Glade Road\, Rehoboth Beach\, DE\, 19971\, United States
ORGANIZER;CN="Val Linder":MAILTO:rovalinder@comcast.net
END:VEVENT
BEGIN:VEVENT
DTSTART;TZID=America/New_York:20240624T110000
DTEND;TZID=America/New_York:20240624T120000
DTSTAMP:20260425T230303
CREATED:20230911T183419Z
LAST-MODIFIED:20230911T183419Z
UID:10009359-1719226800-1719230400@epworth.faith
SUMMARY:Flower Ministry (Starnes Room)
DESCRIPTION:
URL:https://epworth.faith/event/flower-ministry-starnes-room-2/2024-06-24/
LOCATION:Epworth United Methodist Church\, 19285 Holland Glade Road\, Rehoboth Beach\, DE\, 19971\, United States
CATEGORIES:Church,Groups
ORGANIZER;CN="Val Linder":MAILTO:rovalinder@comcast.net
END:VEVENT
BEGIN:VEVENT
DTSTART;TZID=America/New_York:20240623T111500
DTEND;TZID=America/New_York:20240623T114500
DTSTAMP:20260425T230303
CREATED:20231230T182351Z
LAST-MODIFIED:20231230T182351Z
UID:10012070-1719141300-1719143100@epworth.faith
SUMMARY:Stephen Ministry - Prayer Chapel (Baker Lounge)
DESCRIPTION:
URL:https://epworth.faith/event/stephen-ministry-prayer-chapel-baker-lounge/2024-06-23/
LOCATION:Epworth United Methodist Church\, 19285 Holland Glade Road\, Rehoboth Beach\, DE\, 19971\, United States
CATEGORIES:Church,Groups
ORGANIZER;CN="Val Linder":MAILTO:rovalinder@comcast.net
END:VEVENT
BEGIN:VEVENT
DTSTART;TZID=America/New_York:20240623T110000
DTEND;TZID=America/New_York:20240623T120000
DTSTAMP:20260425T230303
CREATED:20230911T183054Z
LAST-MODIFIED:20230911T183054Z
UID:10009318-1719140400-1719144000@epworth.faith
SUMMARY:Flower Ministry (Starnes Room)
DESCRIPTION:
URL:https://epworth.faith/event/flower-ministry-starnes-room/2024-06-23/
LOCATION:Epworth United Methodist Church\, 19285 Holland Glade Road\, Rehoboth Beach\, DE\, 19971\, United States
ORGANIZER;CN="Val Linder":MAILTO:rovalinder@comcast.net
END:VEVENT
BEGIN:VEVENT
DTSTART;TZID=America/New_York:20240617T110000
DTEND;TZID=America/New_York:20240617T120000
DTSTAMP:20260425T230303
CREATED:20230911T183419Z
LAST-MODIFIED:20230911T183419Z
UID:10009358-1718622000-1718625600@epworth.faith
SUMMARY:Flower Ministry (Starnes Room)
DESCRIPTION:
URL:https://epworth.faith/event/flower-ministry-starnes-room-2/2024-06-17/
LOCATION:Epworth United Methodist Church\, 19285 Holland Glade Road\, Rehoboth Beach\, DE\, 19971\, United States
CATEGORIES:Church,Groups
ORGANIZER;CN="Val Linder":MAILTO:rovalinder@comcast.net
END:VEVENT
BEGIN:VEVENT
DTSTART;TZID=America/New_York:20240616T111500
DTEND;TZID=America/New_York:20240616T114500
DTSTAMP:20260425T230303
CREATED:20231230T182351Z
LAST-MODIFIED:20231230T182351Z
UID:10012069-1718536500-1718538300@epworth.faith
SUMMARY:Stephen Ministry - Prayer Chapel (Baker Lounge)
DESCRIPTION:
URL:https://epworth.faith/event/stephen-ministry-prayer-chapel-baker-lounge/2024-06-16/
LOCATION:Epworth United Methodist Church\, 19285 Holland Glade Road\, Rehoboth Beach\, DE\, 19971\, United States
CATEGORIES:Church,Groups
ORGANIZER;CN="Val Linder":MAILTO:rovalinder@comcast.net
END:VEVENT
BEGIN:VEVENT
DTSTART;TZID=America/New_York:20240616T110000
DTEND;TZID=America/New_York:20240616T120000
DTSTAMP:20260425T230303
CREATED:20230911T183054Z
LAST-MODIFIED:20230911T183054Z
UID:10009317-1718535600-1718539200@epworth.faith
SUMMARY:Flower Ministry (Starnes Room)
DESCRIPTION:
URL:https://epworth.faith/event/flower-ministry-starnes-room/2024-06-16/
LOCATION:Epworth United Methodist Church\, 19285 Holland Glade Road\, Rehoboth Beach\, DE\, 19971\, United States
ORGANIZER;CN="Val Linder":MAILTO:rovalinder@comcast.net
END:VEVENT
BEGIN:VEVENT
DTSTART;TZID=America/New_York:20240610T110000
DTEND;TZID=America/New_York:20240610T120000
DTSTAMP:20260425T230303
CREATED:20230911T183419Z
LAST-MODIFIED:20230911T183419Z
UID:10009357-1718017200-1718020800@epworth.faith
SUMMARY:Flower Ministry (Starnes Room)
DESCRIPTION:
URL:https://epworth.faith/event/flower-ministry-starnes-room-2/2024-06-10/
LOCATION:Epworth United Methodist Church\, 19285 Holland Glade Road\, Rehoboth Beach\, DE\, 19971\, United States
CATEGORIES:Church,Groups
ORGANIZER;CN="Val Linder":MAILTO:rovalinder@comcast.net
END:VEVENT
BEGIN:VEVENT
DTSTART;TZID=America/New_York:20240609T111500
DTEND;TZID=America/New_York:20240609T114500
DTSTAMP:20260425T230303
CREATED:20231230T182351Z
LAST-MODIFIED:20231230T182351Z
UID:10012068-1717931700-1717933500@epworth.faith
SUMMARY:Stephen Ministry - Prayer Chapel (Baker Lounge)
DESCRIPTION:
URL:https://epworth.faith/event/stephen-ministry-prayer-chapel-baker-lounge/2024-06-09/
LOCATION:Epworth United Methodist Church\, 19285 Holland Glade Road\, Rehoboth Beach\, DE\, 19971\, United States
CATEGORIES:Church,Groups
ORGANIZER;CN="Val Linder":MAILTO:rovalinder@comcast.net
END:VEVENT
END:VCALENDAR