BEGIN:VCALENDAR
VERSION:2.0
PRODID:-//Epworth UMC - ECPv6.15.20//NONSGML v1.0//EN
CALSCALE:GREGORIAN
METHOD:PUBLISH
X-ORIGINAL-URL:https://epworth.faith
X-WR-CALDESC:Events for Epworth UMC
REFRESH-INTERVAL;VALUE=DURATION:PT1H
X-Robots-Tag:noindex
X-PUBLISHED-TTL:PT1H
BEGIN:VTIMEZONE
TZID:America/New_York
BEGIN:DAYLIGHT
TZOFFSETFROM:-0500
TZOFFSETTO:-0400
TZNAME:EDT
DTSTART:20210314T070000
END:DAYLIGHT
BEGIN:STANDARD
TZOFFSETFROM:-0400
TZOFFSETTO:-0500
TZNAME:EST
DTSTART:20211107T060000
END:STANDARD
BEGIN:DAYLIGHT
TZOFFSETFROM:-0500
TZOFFSETTO:-0400
TZNAME:EDT
DTSTART:20220313T070000
END:DAYLIGHT
BEGIN:STANDARD
TZOFFSETFROM:-0400
TZOFFSETTO:-0500
TZNAME:EST
DTSTART:20221106T060000
END:STANDARD
BEGIN:DAYLIGHT
TZOFFSETFROM:-0500
TZOFFSETTO:-0400
TZNAME:EDT
DTSTART:20230312T070000
END:DAYLIGHT
BEGIN:STANDARD
TZOFFSETFROM:-0400
TZOFFSETTO:-0500
TZNAME:EST
DTSTART:20231105T060000
END:STANDARD
END:VTIMEZONE
BEGIN:VEVENT
DTSTART;TZID=America/New_York:20220824T191500
DTEND;TZID=America/New_York:20220824T203000
DTSTAMP:20260425T083359
CREATED:20220518T161432Z
LAST-MODIFIED:20220518T161432Z
UID:10005216-1661368500-1661373000@epworth.faith
SUMMARY:CAMP Men's Discussion Group (Baker Lounge)
DESCRIPTION:
URL:https://epworth.faith/event/camp-mens-discussion-group-baker-lounge/2022-08-24/
LOCATION:Epworth United Methodist Church\, 19285 Holland Glade Road\, Rehoboth Beach\, DE\, 19971\, United States
CATEGORIES:Facility Rentals
ORGANIZER;CN="William Dye":MAILTO:william.z.dye@gmail.com
END:VEVENT
BEGIN:VEVENT
DTSTART;TZID=America/New_York:20220817T191500
DTEND;TZID=America/New_York:20220817T203000
DTSTAMP:20260425T083359
CREATED:20220518T161432Z
LAST-MODIFIED:20220518T161432Z
UID:10005215-1660763700-1660768200@epworth.faith
SUMMARY:CAMP Men's Discussion Group (Baker Lounge)
DESCRIPTION:
URL:https://epworth.faith/event/camp-mens-discussion-group-baker-lounge/2022-08-17/
LOCATION:Epworth United Methodist Church\, 19285 Holland Glade Road\, Rehoboth Beach\, DE\, 19971\, United States
CATEGORIES:Facility Rentals
ORGANIZER;CN="William Dye":MAILTO:william.z.dye@gmail.com
END:VEVENT
BEGIN:VEVENT
DTSTART;TZID=America/New_York:20220810T191500
DTEND;TZID=America/New_York:20220810T203000
DTSTAMP:20260425T083359
CREATED:20220518T161432Z
LAST-MODIFIED:20220518T161432Z
UID:10005214-1660158900-1660163400@epworth.faith
SUMMARY:CAMP Men's Discussion Group (Baker Lounge)
DESCRIPTION:
URL:https://epworth.faith/event/camp-mens-discussion-group-baker-lounge/2022-08-10/
LOCATION:Epworth United Methodist Church\, 19285 Holland Glade Road\, Rehoboth Beach\, DE\, 19971\, United States
CATEGORIES:Facility Rentals
ORGANIZER;CN="William Dye":MAILTO:william.z.dye@gmail.com
END:VEVENT
BEGIN:VEVENT
DTSTART;TZID=America/New_York:20220803T191500
DTEND;TZID=America/New_York:20220803T203000
DTSTAMP:20260425T083359
CREATED:20220518T161432Z
LAST-MODIFIED:20220518T161432Z
UID:10005213-1659554100-1659558600@epworth.faith
SUMMARY:CAMP Men's Discussion Group (Baker Lounge)
DESCRIPTION:
URL:https://epworth.faith/event/camp-mens-discussion-group-baker-lounge/2022-08-03/
LOCATION:Epworth United Methodist Church\, 19285 Holland Glade Road\, Rehoboth Beach\, DE\, 19971\, United States
CATEGORIES:Facility Rentals
ORGANIZER;CN="William Dye":MAILTO:william.z.dye@gmail.com
END:VEVENT
BEGIN:VEVENT
DTSTART;TZID=America/New_York:20220727T191500
DTEND;TZID=America/New_York:20220727T203000
DTSTAMP:20260425T083359
CREATED:20220518T161432Z
LAST-MODIFIED:20220518T161432Z
UID:10005212-1658949300-1658953800@epworth.faith
SUMMARY:CAMP Men's Discussion Group (Baker Lounge)
DESCRIPTION:
URL:https://epworth.faith/event/camp-mens-discussion-group-baker-lounge/2022-07-27/
LOCATION:Epworth United Methodist Church\, 19285 Holland Glade Road\, Rehoboth Beach\, DE\, 19971\, United States
CATEGORIES:Facility Rentals
ORGANIZER;CN="William Dye":MAILTO:william.z.dye@gmail.com
END:VEVENT
BEGIN:VEVENT
DTSTART;TZID=America/New_York:20220720T191500
DTEND;TZID=America/New_York:20220720T203000
DTSTAMP:20260425T083359
CREATED:20220518T161432Z
LAST-MODIFIED:20220518T161432Z
UID:10005211-1658344500-1658349000@epworth.faith
SUMMARY:CAMP Men's Discussion Group (Baker Lounge)
DESCRIPTION:
URL:https://epworth.faith/event/camp-mens-discussion-group-baker-lounge/2022-07-20/
LOCATION:Epworth United Methodist Church\, 19285 Holland Glade Road\, Rehoboth Beach\, DE\, 19971\, United States
CATEGORIES:Facility Rentals
ORGANIZER;CN="William Dye":MAILTO:william.z.dye@gmail.com
END:VEVENT
BEGIN:VEVENT
DTSTART;TZID=America/New_York:20220713T191500
DTEND;TZID=America/New_York:20220713T203000
DTSTAMP:20260425T083359
CREATED:20220518T161432Z
LAST-MODIFIED:20220518T161432Z
UID:10005210-1657739700-1657744200@epworth.faith
SUMMARY:CAMP Men's Discussion Group (Baker Lounge)
DESCRIPTION:
URL:https://epworth.faith/event/camp-mens-discussion-group-baker-lounge/2022-07-13/
LOCATION:Epworth United Methodist Church\, 19285 Holland Glade Road\, Rehoboth Beach\, DE\, 19971\, United States
CATEGORIES:Facility Rentals
ORGANIZER;CN="William Dye":MAILTO:william.z.dye@gmail.com
END:VEVENT
BEGIN:VEVENT
DTSTART;TZID=America/New_York:20220706T191500
DTEND;TZID=America/New_York:20220706T203000
DTSTAMP:20260425T083359
CREATED:20220518T161432Z
LAST-MODIFIED:20220518T161432Z
UID:10005209-1657134900-1657139400@epworth.faith
SUMMARY:CAMP Men's Discussion Group (Baker Lounge)
DESCRIPTION:
URL:https://epworth.faith/event/camp-mens-discussion-group-baker-lounge/2022-07-06/
LOCATION:Epworth United Methodist Church\, 19285 Holland Glade Road\, Rehoboth Beach\, DE\, 19971\, United States
CATEGORIES:Facility Rentals
ORGANIZER;CN="William Dye":MAILTO:william.z.dye@gmail.com
END:VEVENT
BEGIN:VEVENT
DTSTART;TZID=America/New_York:20220629T191500
DTEND;TZID=America/New_York:20220629T203000
DTSTAMP:20260425T083359
CREATED:20220518T161432Z
LAST-MODIFIED:20220518T161432Z
UID:10005208-1656530100-1656534600@epworth.faith
SUMMARY:CAMP Men's Discussion Group (Baker Lounge)
DESCRIPTION:
URL:https://epworth.faith/event/camp-mens-discussion-group-baker-lounge/2022-06-29/
LOCATION:Epworth United Methodist Church\, 19285 Holland Glade Road\, Rehoboth Beach\, DE\, 19971\, United States
CATEGORIES:Facility Rentals
ORGANIZER;CN="William Dye":MAILTO:william.z.dye@gmail.com
END:VEVENT
BEGIN:VEVENT
DTSTART;TZID=America/New_York:20220622T191500
DTEND;TZID=America/New_York:20220622T203000
DTSTAMP:20260425T083359
CREATED:20220518T161432Z
LAST-MODIFIED:20220518T161432Z
UID:10005207-1655925300-1655929800@epworth.faith
SUMMARY:CAMP Men's Discussion Group (Baker Lounge)
DESCRIPTION:
URL:https://epworth.faith/event/camp-mens-discussion-group-baker-lounge/2022-06-22/
LOCATION:Epworth United Methodist Church\, 19285 Holland Glade Road\, Rehoboth Beach\, DE\, 19971\, United States
CATEGORIES:Facility Rentals
ORGANIZER;CN="William Dye":MAILTO:william.z.dye@gmail.com
END:VEVENT
BEGIN:VEVENT
DTSTART;TZID=America/New_York:20220615T191500
DTEND;TZID=America/New_York:20220615T203000
DTSTAMP:20260425T083359
CREATED:20220518T161432Z
LAST-MODIFIED:20220518T161432Z
UID:10005206-1655320500-1655325000@epworth.faith
SUMMARY:CAMP Men's Discussion Group (Baker Lounge)
DESCRIPTION:
URL:https://epworth.faith/event/camp-mens-discussion-group-baker-lounge/2022-06-15/
LOCATION:Epworth United Methodist Church\, 19285 Holland Glade Road\, Rehoboth Beach\, DE\, 19971\, United States
CATEGORIES:Facility Rentals
ORGANIZER;CN="William Dye":MAILTO:william.z.dye@gmail.com
END:VEVENT
BEGIN:VEVENT
DTSTART;TZID=America/New_York:20220608T191500
DTEND;TZID=America/New_York:20220608T203000
DTSTAMP:20260425T083359
CREATED:20220518T161432Z
LAST-MODIFIED:20220518T161432Z
UID:10005205-1654715700-1654720200@epworth.faith
SUMMARY:CAMP Men's Discussion Group (Baker Lounge)
DESCRIPTION:
URL:https://epworth.faith/event/camp-mens-discussion-group-baker-lounge/2022-06-08/
LOCATION:Epworth United Methodist Church\, 19285 Holland Glade Road\, Rehoboth Beach\, DE\, 19971\, United States
CATEGORIES:Facility Rentals
ORGANIZER;CN="William Dye":MAILTO:william.z.dye@gmail.com
END:VEVENT
BEGIN:VEVENT
DTSTART;TZID=America/New_York:20220601T191500
DTEND;TZID=America/New_York:20220601T203000
DTSTAMP:20260425T083359
CREATED:20220518T161432Z
LAST-MODIFIED:20220518T161432Z
UID:10005204-1654110900-1654115400@epworth.faith
SUMMARY:CAMP Men's Discussion Group (Baker Lounge)
DESCRIPTION:
URL:https://epworth.faith/event/camp-mens-discussion-group-baker-lounge/2022-06-01/
LOCATION:Epworth United Methodist Church\, 19285 Holland Glade Road\, Rehoboth Beach\, DE\, 19971\, United States
CATEGORIES:Facility Rentals
ORGANIZER;CN="William Dye":MAILTO:william.z.dye@gmail.com
END:VEVENT
BEGIN:VEVENT
DTSTART;TZID=America/New_York:20220525T191500
DTEND;TZID=America/New_York:20220525T203000
DTSTAMP:20260425T083359
CREATED:20220518T161432Z
LAST-MODIFIED:20220518T161432Z
UID:10005203-1653506100-1653510600@epworth.faith
SUMMARY:CAMP Men's Discussion Group (Baker Lounge)
DESCRIPTION:
URL:https://epworth.faith/event/camp-mens-discussion-group-baker-lounge/2022-05-25/
LOCATION:Epworth United Methodist Church\, 19285 Holland Glade Road\, Rehoboth Beach\, DE\, 19971\, United States
CATEGORIES:Facility Rentals
ORGANIZER;CN="William Dye":MAILTO:william.z.dye@gmail.com
END:VEVENT
END:VCALENDAR